BEGIN:VCALENDAR
VERSION:2.0
PRODID:-//https://techplay.jp//JP
CALSCALE:GREGORIAN
METHOD:PUBLISH
X-WR-CALDESC:ビジネスパーソンがSQLを学ぶべき3つの理由と
 おすすめのSQL学習方法【SQL勉強会 #5】
X-WR-CALNAME:ビジネスパーソンがSQLを学ぶべき3つの理由と
 おすすめのSQL学習方法【SQL勉強会 #5】
X-WR-TIMEZONE:Asia/Tokyo
BEGIN:VTIMEZONE
TZID:Asia/Tokyo
BEGIN:STANDARD
DTSTART:19700101T000000
TZOFFSETFROM:+0900
TZOFFSETTO:+0900
TZNAME:JST
END:STANDARD
END:VTIMEZONE
BEGIN:VEVENT
UID:956409@techplay.jp
SUMMARY:ビジネスパーソンがSQLを学ぶべき3つの理由とおす
 すめのSQL学習方法【SQL勉強会 #5】
DTSTART;TZID=Asia/Tokyo:20240925T190000
DTEND;TZID=Asia/Tokyo:20240925T200000
DTSTAMP:20260421T075552Z
CREATED:20240901T234554Z
DESCRIPTION:イベント詳細はこちら\nhttps://techplay.jp/event/95640
 9?utm_medium=referral&utm_source=ics&utm_campaign=ics\n\n概要\n【な
 ぜSQLを学ぶ必要があるのか？おすすめのSQL学習方法の
 ご紹介！】データの活用が必須の時代において、SQLを
 活用したデータ分析は非常に有効な手段です。今回は
 基本的なSQLの理解と共に、なぜSQLを学ぶ必要があるの
 か？ビジネスパーソンがSQLを覚えるとどんな良い事が
 あるのか？効率よくSQLを学ぶにはどうすれば良いか？
 についてお話します。SQLは興味あるけど実際に学ぶ必
 要があるのかどうか知りたい方などぜひご参加くださ
 い。\n本セミナーでは、データ分析で使うSQLがどんな
 ものなのか基本的な内容から解説していきます。SQLを
 全く知らない方でも参加できる内容となっています。S
 QLの基礎から実例まで『データ分析力を高める ビジネ
 スパーソンのためのSQL入門』の著書である高橋が詳し
 く説明します。\n質疑応答の時間もあるため、ぜひビ
 ジネスパーソンの皆様の抱える課題や疑問についても
 、ご質問いただけますと幸いです。\n【SQL Everyoneにつ
 いて】この度、データ分析の内製化やDX推進を目指し
 ている企業向けにSQL研修サービス『SQL Everyone』を開始
 しました。SQLを学習することがデータ分析の内製化やD
 X推進のために最も重要なことだと考えており、そのた
 めの研修を提供予定です。\n現代のビジネスシーンに
 おいてはデータ駆動型の意思決定が求められ、その中
 でSQL（Structured Query Language）は重要なスキルの1つです
 。SQLを使うことでビジネスにおけるデータを効果的に
 管理・分析し、意思決定の質を向上させることができ
 ます。SQLを学習することでデータの基礎を理解し、デ
 ータを活用して意思決定をするために必要なスキルを
 学ぶことができます。\n本セミナーで話すこと\n\nビジ
 ネスパーソンがSQLを学ぶべき3つの理由\nおすすめのSQL
 学習方法\nデータ分析力を高めるSQL研修サービス『SQL E
 veryone』の説明\n\nこんな方におすすめ\n\nビジネスパー
 ソンの中でも現状データ分析に関わりがある方々\nビ
 ジネスパーソンとしてデータ分析に必要なSQLの知識を
 身につけたい方\nカンや経験だけではない根拠にもと
 づいた意思決定をしていきたい方\nSQLって聞いたこと
 あるけどよくわからない方 / これからSQLを学びたい方\
 nデータ分析の内製化を目指す企業\nDXを推進する企業\n
 \n登壇者\n高橋 光著書：データ分析力を高める ビジネ
 スパーソンのためのSQL入門\n\n青山学院大学経営システ
 ム工学科卒業。2011年に新卒でヤフー株式会社に入社し
 、Webエンジニアとしてサービスの開発、運用、企画、
 提案、など幅広くサービスに貢献。またHadoopやTeradata
 を利用したデータ分析や Tableauを使った可視化など、
 データを活用してサービスを成長させる仕組みを導入
 するなどデータ分析に関わる業務も担当。\n2016年から
 は株式会社イーブックイニシアティブジャパンに出向
 し、社内でデータサイエンスグループを立ち上げグル
 ープマネジャー(部長)として社内のデータ活用を促進
 。マーケティング施策の効果検証、事業分析、プロダ
 クトのABテストなどデータを活用した意思決定に貢献
 。チームメンバーのSQLスキルアップや社内全体でのSQL
 勉強会などのデータ活用スキルアップ活動なども行い
 、組織全体をデータドリブンにする活動を実施。\n2021
 年から外資系コンサルティング企業に入社し、SQLを使
 ったデータ分析などデータを活用したマーケティング
 支援を実施。また複業としてプロバスケットボールリ
 ーグ(Bリーグ)のクラブチームで、マーケティングスト
 ラテジストとしてデータ分析のサポートを行ったり、
 その他複数社でSQLを活用したデータ分析のサポート経
 験あり。\nタイムスケジュール\n\n\n\n時間\n内容\n\n\n\n\n
 19:00 〜 19:05\n開始の挨拶\n\n\n19:05 〜 19:45\nビジネスパー
 ソンがSQLを学ぶべき3つの理由とおすすめのSQL学習方法
 \n\n\n19:45 〜 19:55\n質疑応答\n\n\n19:55 〜 20:00\n締めの挨拶
 \n\n\n\n参加方法\n\n本セミナーはオンラインセミナーの
 ため、Zoom（ https://zoom.us/jp-jp/meetings.html ）を利用しま
 す。\n開催前に申込者宛に視聴URLをお送りしますので
 、Zoomの事前インストールをお願いいたします。\nビデ
 オは映して頂いてもOKですし、映さなくてもOKです。\n
 参加時は「ミュート」にして頂くようお願いいたしま
 す。\n
LOCATION:
URL:https://techplay.jp/event/956409?utm_medium=referral&utm_source=ics&utm
 _campaign=ics
END:VEVENT
END:VCALENDAR
