BEGIN:VCALENDAR
VERSION:2.0
PRODID:-//https://techplay.jp//JP
CALSCALE:GREGORIAN
METHOD:PUBLISH
X-WR-CALDESC:担当者1人からでもスピーディーに導入！＜基
 礎から学べるRPA導入セミナー＞
X-WR-CALNAME:担当者1人からでもスピーディーに導入！＜基
 礎から学べるRPA導入セミナー＞
X-WR-TIMEZONE:Asia/Tokyo
BEGIN:VTIMEZONE
TZID:Asia/Tokyo
BEGIN:STANDARD
DTSTART:19700101T000000
TZOFFSETFROM:+0900
TZOFFSETTO:+0900
TZNAME:JST
END:STANDARD
END:VTIMEZONE
BEGIN:VEVENT
UID:956616@techplay.jp
SUMMARY:担当者1人からでもスピーディーに導入！＜基礎か
 ら学べるRPA導入セミナー＞
DTSTART;TZID=Asia/Tokyo:20241010T160000
DTEND;TZID=Asia/Tokyo:20241010T170000
DTSTAMP:20260421T195546Z
CREATED:20240903T062703Z
DESCRIPTION:イベント詳細はこちら\nhttps://techplay.jp/event/95661
 6?utm_medium=referral&utm_source=ics&utm_campaign=ics\n\nRPA導入WEBセ
 ミナー\n~現場担当者１名でスピーディーに行うRPA導入
 とは~\nセミナー概要\nRPAの最適な導入アプローチを解
 説＆デモ実演\n「RPAを情シス主体で検討しているが、
 なかなか話が進まない」\n「RPAへ自動化リクエストし
 てもなかなか採用されない」\nとお悩みの方は必見！\n
 本セミナーでは、RPAの基礎知識だけでなく"今の時代"
 に求められる現場でのRPA導入をわかりやすく解説！\n
 また"分かりやすく・使いやすい"とユーザ様からも支
 持していただくRPAツール『ロボオペレータ』もご紹介
 ！実務を想定したロボット開発や動作をデモによって
 具体的にイメージしていただけます。\n≪開催日程≫\n
 \n\n\n開催日\n開催時間\n\n\n\n\n2024年9月5日(木)\n16:00~17:00\
 n\n\n2024年10月10日(木)\n16:00~17:00\n\n\n2024年11月7日(木)\n16:0
 0~17:00\n\n\n\n※ 同業他社様による自己学習、営業、競合
 製品の調査を目的としたイベント参加はお断りしてお
 ります。\n参加対象\nこんな方にオススメです！\n\n自
 社のRPA導入をご検討中の方\n自分に最適のRPAツールを
 お探しの方\nDXの一環として業務効率化・自動化をご検
 討中の方\n導入中のRPAツールで思うような効果が出て
 いない、細かいところまで手が届くRPAを求めている方\
 n\nタイムスケジュール\n\n\n\n時間\n内容\n\n\n\n\n15:50〜\n
 入場開始\n\n\n16:00〜16:45\n1. RPAと導入アプローチ（10分
 ）2. ロボオペレータのご紹介（10分）3. ロボオペレー
 タのデモ実演（15分）4. RPA導入の推進方法（10分）\n\n\n
 16:45〜17:00\n質疑応答\n\n\n\n※ 当日予告なく時間配分・
 内容が変更になる可能性がございます。\nRPAツール『
 ロボオペレータ』とは？\n『ロボオペレータ』の特徴\n
 \n\n簡　単：プログラミング知識が必要なく、直観的に
 操作ができます！\n\nお手軽：普段お使いのPCにインス
 トールするだけで、すぐに使えます！\n\n安　い：月単
 位のライセンス体系のため、使いたいときだけ使えま
 す\n\n無料トライアルも提供中\n\n『ロボオペレータ』
 の無料トライアルライセンスのご提供\nトライアル期
 間中の無料テクニカルサポート・技術支援の提供\n『
 ロボオペレータ』の基本操作が学べるトレーニングガ
 イドもご提供\n\n参加方法\nWEBセミナー\n※ 配信ツール
 は「Zoom」を使用し、特別な設定やインストールの必要
 はございません。※ 参加用のURLを別途メールにてご案
 内させて頂きます。\n参加費\n無料\n注意事項\n\nリクル
 ーティング、勧誘など、採用目的でのイベント参加は
 お断りしております。\nキャンセル待ち・補欠・落選
 の方はご参加いただくことが出来ませんのでご了承く
 ださい。\n欠席される場合は、お手数ですが速やかに
 キャンセル処理をお願い致します。\n無断キャンセル
 や欠席が続く場合、次回以降の参加をお断りさせてい
 ただく場合がございます。\n
LOCATION:
URL:https://techplay.jp/event/956616?utm_medium=referral&utm_source=ics&utm
 _campaign=ics
END:VEVENT
END:VCALENDAR
