BEGIN:VCALENDAR
VERSION:2.0
PRODID:-//https://techplay.jp//JP
CALSCALE:GREGORIAN
METHOD:PUBLISH
X-WR-CALDESC:XR×生成AIでなにができる？活用方法と可能性
 を徹底解説！
X-WR-CALNAME:XR×生成AIでなにができる？活用方法と可能性
 を徹底解説！
X-WR-TIMEZONE:Asia/Tokyo
BEGIN:VTIMEZONE
TZID:Asia/Tokyo
BEGIN:STANDARD
DTSTART:19700101T000000
TZOFFSETFROM:+0900
TZOFFSETTO:+0900
TZNAME:JST
END:STANDARD
END:VTIMEZONE
BEGIN:VEVENT
UID:956735@techplay.jp
SUMMARY:XR×生成AIでなにができる？活用方法と可能性を徹
 底解説！
DTSTART;TZID=Asia/Tokyo:20240925T170000
DTEND;TZID=Asia/Tokyo:20240925T180000
DTSTAMP:20260420T110616Z
CREATED:20240904T054000Z
DESCRIPTION:イベント詳細はこちら\nhttps://techplay.jp/event/95673
 5?utm_medium=referral&utm_source=ics&utm_campaign=ics\n\nこのような
 方に聞いていただきたい・生成AIを活用した新規ビジ
 ネスモデルを模索している方・業務効率化やプロセス
 改善に生成AIとXR技術の導入を検討している方・最新技
 術を活用して新たなビジネスチャンスを探っている方\
 n概要近年、急速に発展を遂げている生成AI技術。この
 技術はXR業界にも大きな影響を与えておりAI技術はます
 ます発展し、XR業界の可能性を更に広げていくと言わ
 れています。本セミナーでは生成AIとXR技術について、
 基礎の部分からこれらがどのように組み合わされてビ
 ジネスチャンスを生み出すのかまで詳しく解説します
 。また、XR技術はビジネスにおいてどのように利用さ
 れているのか？弊社にご相談いただいている事例など
 もご紹介しながら皆様の新しいビジネスの一案をご提
 供できたらと思っております。そして、ネット検索だ
 けでは得られないXR技術×AIの展望について弊社の考察
 を特別に皆様にお届けできたらと思っております。本
 セミナーを通して、最先端の技術を駆使した新たなビ
 ジネスチャンスを見出すための知識とヒントを得てい
 ただき、その後のXR導入や活用。そして生成AI導入に活
 かしていただきたいと考えております。\nプログラム
 内容・セミナー「XR×生成AIでなにができる？活用方法
 と可能性を徹底解説！」・質疑応答・個別相談※一部
 内容を変更する場合がございますのでご了承ください\
 n詳細開催日時：9月25日（水）17:00〜18:00（開場16:30 エ
 リアクローズ18:30）参加費用： 無料形式： XR CLOUDによ
 るメタバースセミナー※お申込みいただいたメールア
 ドレス宛に、参加用URLをお送りします。\n登壇者monoAI t
 echnology株式会社XRソリューション開発事業部部長小林 
 靖司
LOCATION:
URL:https://techplay.jp/event/956735?utm_medium=referral&utm_source=ics&utm
 _campaign=ics
END:VEVENT
END:VCALENDAR
