BEGIN:VCALENDAR
VERSION:2.0
PRODID:-//https://techplay.jp//JP
CALSCALE:GREGORIAN
METHOD:PUBLISH
X-WR-CALDESC:生成AIで業務自動化&生産性UP！ 【参加無料！
 超入門】～明日から実践できるChatGPT・Claude・Geminiの活
 用事例と導入ポイント～
X-WR-CALNAME:生成AIで業務自動化&生産性UP！ 【参加無料！
 超入門】～明日から実践できるChatGPT・Claude・Geminiの活
 用事例と導入ポイント～
X-WR-TIMEZONE:Asia/Tokyo
BEGIN:VTIMEZONE
TZID:Asia/Tokyo
BEGIN:STANDARD
DTSTART:19700101T000000
TZOFFSETFROM:+0900
TZOFFSETTO:+0900
TZNAME:JST
END:STANDARD
END:VTIMEZONE
BEGIN:VEVENT
UID:956828@techplay.jp
SUMMARY:生成AIで業務自動化&生産性UP！ 【参加無料！超入
 門】～明日から実践できるChatGPT・Claude・Geminiの活用事
 例と導入ポイント～
DTSTART;TZID=Asia/Tokyo:20240919T130000
DTEND;TZID=Asia/Tokyo:20240919T140000
DTSTAMP:20260420T222043Z
CREATED:20240905T025805Z
DESCRIPTION:イベント詳細はこちら\nhttps://techplay.jp/event/95682
 8?utm_medium=referral&utm_source=ics&utm_campaign=ics\n\n超入門！生
 成AIで業務自動化&生産性UP！\n～ChatGPT・Claude・Geminiの
 活用事例と導入ポイント～\n概要\n生成AIは、今最も注
 目されているツールの一つです。ビジネスの現場でも
 活用が進み、業務効率化や生産性向上に貢献していま
 す。\nしかしながら、\n\n「生成AIってそもそも何？」\n
 「どんなことができるの？」\n「安全に使うにはどう
 すればいいの？」\n\n上記のような疑問をお持ちの方も
 いるのではないでしょうか。\n本ウェビナーでは、下
 記をわかりやすく解説いたします。\n\n生成AIの基礎知
 識\n具体的な活用事例\n業務利用時の注意点\n\n生成AI未
 経験の方や初心者の方も安心してご参加いただけます
 。\n前半の内容\n\n\n生成AIの仕組みや特徴\n\n最新技術
 の性能\n\n\nChatGPT\n\n\nClaude\n\n\nGemini\n\n\n\n\nこちらを理
 解することで、生成AIの可能性を具体的にイメージで
 きます。\n後半の内容\n\n生成AIの具体的な活用事例紹
 介\n\n業務効率化\nコンテンツ作成\n顧客対応　など\n\n\
 n生成AI導入における注意点\n\nプライバシー\nセキュリ
 ティ\n著作権問題　など\n\n\n\n詳しく解説しますので、
 安心して生成AIを業務に導入いただけます。\n本ウェビ
 ナーは、生成AIに興味がある全ての方にとって有益な
 内容となっています。\n\n\n基礎知識を学びたい方\n\n業
 務活用に興味がある方\n\n最新情報を知りたい方\n\n導
 入を検討している方\n\nぜひお気軽にご参加ください。
 \nタイムスケジュール\n\n\n\n時間\n内容\n\n\n\n\n12:45〜\n
 受付開始\n\n\n13:00〜13:10\nオープニング\n\n\n13:10〜13:20\n
 生成AIとは\n\n\n13:20〜13:40\n生成AIのビジネス活用例\n\n\n
 13:40〜13:50\n生成AIの業務利用時の注意点\n\n\n13:50〜14:00\
 n質疑応答/アンケート回答\n\n\n\n※ 当日予告なく時間
 配分・内容が変更になる可能性がございます。\n登壇
 者\n\n江藤 圭一\n合同会社Radineer マーケティング支援事
 業 事業責任者\n慶応義塾大学法学部政治学科卒業後、
 在学中から学生インターンとして従事していた合同会
 社Radineerに新卒で入社。\n\nSEO対策/オウンドメディア運
 用を皮切りに、\nWeb広告運用・SNSマーケティングなど
 、様々な領域での企業向けのマーケティング支援を担
 当。\n\n現在は、生成AIを活用した企業の業務効率化を
 軸とする事業の推進に取り組んでいる。\n\n参加対象\nC
 hatGPT-4o\,Claude 3.5\,Gemini Proについて\n\n最新情報や活用事
 例を知りたい方\n興味があるが、まだ使ったことがな
 い方\n導入を検討しており、リスクや注意点を知りた
 い方\n業務に活用したいが、何から始めればいいかわ
 からない方\n\n参加費\n無料\n注意事項\n\nリクルーティ
 ング、勧誘など、採用目的でのイベント参加はお断り
 しております。\n\nキャンセル待ち・補欠・落選の方は
 ご参加いただけません。ご了承ください。\n\n欠席され
 る場合は、お手数ですが速やかにキャンセル処理をお
 願いいたします。無断キャンセルや欠席が続く場合、
 次回以降の参加をお断りさせていただく場合がござい
 ます。\n\n
LOCATION:
URL:https://techplay.jp/event/956828?utm_medium=referral&utm_source=ics&utm
 _campaign=ics
END:VEVENT
END:VCALENDAR
