BEGIN:VCALENDAR
VERSION:2.0
PRODID:-//https://techplay.jp//JP
CALSCALE:GREGORIAN
METHOD:PUBLISH
X-WR-CALDESC:【音声AI＆スイカゲーム風施策など】参加欲を
 掻き立てる注目キャンペーン事例を解説！
X-WR-CALNAME:【音声AI＆スイカゲーム風施策など】参加欲を
 掻き立てる注目キャンペーン事例を解説！
X-WR-TIMEZONE:Asia/Tokyo
BEGIN:VTIMEZONE
TZID:Asia/Tokyo
BEGIN:STANDARD
DTSTART:19700101T000000
TZOFFSETFROM:+0900
TZOFFSETTO:+0900
TZNAME:JST
END:STANDARD
END:VTIMEZONE
BEGIN:VEVENT
UID:956919@techplay.jp
SUMMARY:【音声AI＆スイカゲーム風施策など】参加欲を掻
 き立てる注目キャンペーン事例を解説！
DTSTART;TZID=Asia/Tokyo:20240912T120000
DTEND;TZID=Asia/Tokyo:20240912T130000
DTSTAMP:20260425T121858Z
CREATED:20240905T191035Z
DESCRIPTION:イベント詳細はこちら\nhttps://techplay.jp/event/95691
 9?utm_medium=referral&utm_source=ics&utm_campaign=ics\n\nYoutube LIVEで
 の配信となりますので、アーカイブ視聴が可能です。
 リアルタイムのご参加が難しい場合にもお申し込みく
 ださいませ！\n--お昼時間のお供に、最新のデジタルプ
 ロモーション知識を身につけませんか🙋‍♀️？キャ
 ンペーン提案や企画に欠かせない、トレンド事例をま
 るっと解説！今年の7-8月に行われたプロモーションを
 、キャンペーンづくりのプロが解説いたします！(2024
 年8月22日開催分と同内容となります。)\n✅イベント概
 要NONAME Produceは、SNS/WEBプロモーションに強い制作会社
 です。これまで200以上の企画・制作を行なって参りま
 した経験を活かし、世の中のプロモーション事例を日
 々研究することで常に最新の知識を発信し続けていま
 す。\n今回のYouTubeLIVEでは、今年行われた選りすぐりの
 キャンペーン事例をピックアップし、どこよりも詳し
 く解説いたします！配信中に、コメント欄からのご質
 問にお答えすることも予定しております。休憩時間の
 お供に、お気軽にご参加ください！\n✏️解説予定の
 事例・おこづかい3分チャレンジキャンペーン｜日清食
 品株式会社・さらばAI森田に褒めらレーニア｜Mt.RAINIER
 ・EVE特製部活お守り型ミニポーチ手づくりキットプレ
 ゼントキャンペーン | エスエス製薬株式会社・シャウ
 名店投稿キャンペーン | 日本ハム株式会社・BUTTERなサ
 マーゲーム | PRESS BUTTER SAND・BudX World Tour Grand Prize | AB In
 Bev Japan合同会社・#一緒ならもっと楽しい瞬間｜三ツ矢
 サイダー\n👤こんな方におすすめ・Web&SNSキャンペーン
 のトレンドを知りたい方・Web&SNSキャンペーン提案/企
 画をされている方・広告代理店勤務の方・自社のWeb&SNS
 キャンペーンに課題を感じている方\n📆日時2024年9月12
 日(木)12:00-\n🌍 会場当日はYouTube Liveでの配信を予定し
 ております。お申し込みいただきますと、配信がご覧
 いただけるようになります。\n🎤 登壇者株式会社NONAME
  Produce代表　村上烈\n早稲田大学在学中デザインやWEB・
 イベントに関して独学で学び、在学中に株式会社NONAME 
 Produceを設立。デジタルプロモーション領域におけるク
 リエイティブおよび広告制作を行ってきました。その
 中でもコミュニケーション戦略や、キャンペーンシス
 テムの設計を得意とし、 クリエイティブディレクター
 としてキャンペーンの企画・制作進行をおこなってい
 ます。「どうしたら伝わるのか」「説得力ある伝わり
 方」などを整理整頓と想像力を使いながら形にしてお
 ります。お酒とマンガとプロレスが好き\nお気軽にご
 参加くださいませ！
LOCATION:
URL:https://techplay.jp/event/956919?utm_medium=referral&utm_source=ics&utm
 _campaign=ics
END:VEVENT
END:VCALENDAR
