BEGIN:VCALENDAR
VERSION:2.0
PRODID:-//https://techplay.jp//JP
CALSCALE:GREGORIAN
METHOD:PUBLISH
X-WR-CALDESC:yoku×soudaiが語る、DBのパフォーマンスチューニ
 ングのお役立ちエッセンス
X-WR-CALNAME:yoku×soudaiが語る、DBのパフォーマンスチューニ
 ングのお役立ちエッセンス
X-WR-TIMEZONE:Asia/Tokyo
BEGIN:VTIMEZONE
TZID:Asia/Tokyo
BEGIN:STANDARD
DTSTART:19700101T000000
TZOFFSETFROM:+0900
TZOFFSETTO:+0900
TZNAME:JST
END:STANDARD
END:VTIMEZONE
BEGIN:VEVENT
UID:956982@techplay.jp
SUMMARY:yoku×soudaiが語る、DBのパフォーマンスチューニン
 グのお役立ちエッセンス
DTSTART;TZID=Asia/Tokyo:20241008T190000
DTEND;TZID=Asia/Tokyo:20241008T201500
DTSTAMP:20260422T195102Z
CREATED:20240906T061040Z
DESCRIPTION:イベント詳細はこちら\nhttps://techplay.jp/event/95698
 2?utm_medium=referral&utm_source=ics&utm_campaign=ics\n\n✍️概要\n
 人気企画の「yoku×soudaiが語る」シリーズの第3弾！第1
 回「yoku×soudaiが語る、あなたの知らないMySQLとPostgreSQL
 の世界」第2回「yoku×soudaiが語る、DB設計アンチパター
 ンお悩み相談室」皆さんからのまた聞きたい、という
 反響を受けて第3弾の企画が実現しました！（1\,2回を
 見損ねた、また見たいという方も上記のアーカイブか
 らご視聴可能です☆）\n開発者であれば誰もが選定し
 なくてはいけないデータベースについて、本イベント
 ではMySQLエキスパートのyokuさん、PostgreSQLを愛するsoudai
 さんをお招きしています。\n今回は「パフォーマンス
 チューニング」を大テーマとして、お2人が最近気にな
 るトピックを話していただきながら前回同様「お悩み
 相談室」も開催いたします。みなさんのお悩みや話し
 て欲しいトピックについて 事前質問お待ちしています
 ！（申込時のアンケートにご記入ください）\n🎁参加
 方法とプレゼント企画\nURLはお申し込みいただいた方
 へ視聴用リンクをお渡ししています。参加後アンケー
 ト回答者の中から抽選で5名様へ以下の書籍をプレゼン
 ト差し上げます。『MySQL運用・管理［実践］入門』\n
 🕛タイムテーブル\n\n\n\n時間\nセッションタイトル\n\n\
 n\n\n19:00 - 19:05\nオープニング+自己紹介\n\n\n19:05 - 19:45\n
 『お2人が今気になっていること＋事前アンケートで選
 んだトピック』\n\n\n19:45 - 20:10\n『お悩み相談タイム』\
 n\n\n20:15\nクロージング\n\n\n\n🧑‍💻こんな方におすす
 め\n\nyokuさん×soudaiさんの話を聞きたい方\n現在直面し
 ているDBに対する課題の最適解を聞きたい方\n他社や他
 者が経験しているDBに関する経験を聞きたい方\nDBのよ
 り良いパフォーマンスチューニングを模索している方\
 n\n☑️イベントのゴール\n\nyokuさん、soudaiさん含め他
 社のDB取り組みや事例を知れた\n自身の開発現場に活か
 せる工夫や運用方法を学ぶことができた\nDBパフォーマ
 ンスチューニングの具体例を学ぶことができた\n\n🎤
 登壇者\nyoku0825(@yoku0825)日本MySQLユーザ会 / 副代表とあ
 る企業のDBA。座右の銘は「オラクれない・ポスグれな
 い・マイエスキューエる」\n曽根 壮大(そね たけとも) 
 / そーだい (@soudai1025)株式会社リンケージ CTO / PostgreSQL
 ユーザ会合同会社 Have Fun Tech 代表社員、株式会社 Linkag
 e CTO。数々の業務システム、Webサービスなどの開発・
 運用を担当し、2017年に株式会社はてなでサービス監視
 サービス「Mackerel」のCRE（Customer Reliability Engineer）、株
 式会社オミカレの副社長/CTOなどを経て、合同会社 Have 
 Fun Techを起業。その後、LinkageのCTOとしてJOINし、HaveFunTe
 chの経営と二足の草鞋を履きこなしている。コミュニ
 ティでは、Microsoft MVPをはじめ、日本PostgreSQLユーザ会
 の理事として勉強会の開催を担当し、各地で登壇して
 いる。builderscon 2017、YAPC::Kansaiなどのイベントでベスト
 スピーカーを受賞し、分かりやすく実践的な内容のト
 ークに定評がある。他に、岡山Python勉強会を主催し、
 オープンラボ備後にも所属。著書に『Software Design』誌
 で、データベースに関する連載「RDBアンチパターン」
 をまとめた『失敗から学ぶRDBの正しい歩き方』を執筆
 。\n⚠️諸注意\n\n参加用リンクは開催当日、参加確定
 者にconnpass経由で通知します。\nエージェントの方や営
 業目的でのイベントの参加はご遠慮ください。\n性別/
 性的指向/障碍の有無/人種/宗教/年齢/容姿/体格/技術の
 選択に関わりなく、 誰もが気持ちよく参加できるよう
 にご協力ください。\n当イベントの内容およびスケジ
 ュールは、予告なく変更となる場合があります。予め
 ご了承ください。\nイベント参加時に入力いただいた
 情報は、以下に基づき扱います。ファインディ株式会
 社 プライバシーポリシー\n\n\n📣主催・運営\n\nファイ
 ンディ株式会社\n\n\n｢Findy｣ハイスキルなエンジニア
 のプレミアム転職サービス :ハイスキルなエンジニア
 と企業をマッチングするプレミアム転職サービス。独
 自に開発した解析方法によりIT/Webエンジニアのスキル
 と、テック企業がエンジニアにとってどれだけ魅力的
 なのかを客観的に格付けし、両者をマッチングします
 。\n\n｢Findy Freelance｣フリーランス・副業エンジニア向
 け単価保証型の案件紹介サービス : Findyのフリーラン
 ス・副業エンジニア向けサービス。IT/Webエンジニアの
 技術力をスキル偏差値化し、単価保証された案件のみ
 ご紹介します。\n\n｢Findy Team+｣エンジニア組織のパフ
 ォーマンス最大化サービス :弊社独自の強みである「
 スキル偏差値」で培ってきたアルゴリズム・ノウハウ
 を活用して、GitHubを連携いただくだけで、その組織に
 属するエンジニアのパフォーマンスや活動状況を見え
 る化します。\n\n｢Findy Global｣：国内外に居住の外国人
 エンジニアと企業のマッチングサービス。 インドや東
 南アジアを中心に国内で採用が難しいハイスキルなエ
 ンジニアが多数登録。\n\n｢Findy Tools｣：開発ツールに
 特化したレビューサイト。実際に利用している企業の
 声を元に、開発ツールの導入や検討に必要な情報が集
 約されており、企業の技術選定をサポート\n
LOCATION:
URL:https://techplay.jp/event/956982?utm_medium=referral&utm_source=ics&utm
 _campaign=ics
END:VEVENT
END:VCALENDAR
