BEGIN:VCALENDAR
VERSION:2.0
PRODID:-//https://techplay.jp//JP
CALSCALE:GREGORIAN
METHOD:PUBLISH
X-WR-CALDESC:デモンストレーションを見ながら学ぶ HTML/CSS
 の基礎（２）〜カード型レイアウトの構造を理解する
 〜
X-WR-CALNAME:デモンストレーションを見ながら学ぶ HTML/CSS
 の基礎（２）〜カード型レイアウトの構造を理解する
 〜
X-WR-TIMEZONE:Asia/Tokyo
BEGIN:VTIMEZONE
TZID:Asia/Tokyo
BEGIN:STANDARD
DTSTART:19700101T000000
TZOFFSETFROM:+0900
TZOFFSETTO:+0900
TZNAME:JST
END:STANDARD
END:VTIMEZONE
BEGIN:VEVENT
UID:957142@techplay.jp
SUMMARY:デモンストレーションを見ながら学ぶ HTML/CSSの基
 礎（２）〜カード型レイアウトの構造を理解する〜
DTSTART;TZID=Asia/Tokyo:20241016T190000
DTEND;TZID=Asia/Tokyo:20241016T200000
DTSTAMP:20260421T112347Z
CREATED:20240909T004043Z
DESCRIPTION:イベント詳細はこちら\nhttps://techplay.jp/event/95714
 2?utm_medium=referral&utm_source=ics&utm_campaign=ics\n\nデモンスト
 レーションを見ながら学ぶ HTML/CSSの基礎（２）〜カー
 ド型レイアウトの構造を理解する〜\nクリーク･アン
 ド･リバー社（C&R社）では2024年10月16日（水）に、「
 デモンストレーションを見ながら学ぶ HTML/CSSの基礎（
 ２）〜カード型レイアウトの構造を理解する〜」を実
 施します。\nこのウェビナーでは、専門学校、職業訓
 練、社会人スクールなどでWebサイト制作を学ばれた方
 や、Webサイト制作について学びなおしをしたいクリエ
 イター、Webサイト制作をがっつりやっていないWebディ
 レクター、制作進行管理の方を対象に、よくあるWebサ
 イトデザインの一部を制作工程のデモンストレーショ
 ンを見ながら、HTMLとCSSの使い方を分解してみることで
 理解を深めていく内容となっています。\n２回目の今
 回は、以下のようなよく見かけるカード型レイアウト
 の仕組みはどのような構造になっているのかを分解し
 てhtmlとCSS・jQueryの理解していきます。\n▼カード型レ
 イアウト例\n対象レベル\n\n\n基本的なhtmlやCSSを理解し
 ている方\njQueryの使い方を理解している方\n\nこんなこ
 とを学べます！\n\n\nカード型レイアウトを分解してど
 うやって作られているかを見てみよう（デモンストレ
 ーション）\n作成時の注意点など\n\n\nこんな方にオス
 スメ！\n\n\nHTML/CSSのコーディングについて学びたい方\n
 スクールや職業訓練校でHTML/CSSを学んだが活用しきれ
 ていないと感じている方\nこれからWeb業界で働く予定
 だがコーディングの知識の活かし方に不安がある方\nDT
 PやグラフィックデザインからWebサイト制作に業務の幅
 を広げたいとお考えの方\n\nタイムスケジュール\n\n\n\n
 時間\n内容\nspeaker\n\n\n\n\n19：00～19：05\nオープニング\nC
 &R社\n\n\n19：05～19：50\n講演\n塚田 大祐氏\n\n\n19：50～20
 ：00\n質疑応答\n\n\n\n20：00～\nクロージング\n\n\n\n\n※ 
 当日予告なく時間配分・内容が変更になる可能性がご
 ざいます。\n登壇者\n塚田 大祐（つかだ・だいすけ）
 氏\n「祐」-たすく-　代表取締役Web・Officeインストラク
 ター／Webディレクター\n東放学園　放送広告科卒業\n海
 外向け広告代理店でDTPによる印刷物（カタログ・チラ
 シ等）の制作に従事。\nその後、専門学校の担任教員
 を経て、独立。雑誌レイアウトやチラシ・カタログ・W
 ebサイトの制作及び大学・専門学校等の非常勤講師・
 企業のデザイン研修・Office研修をメインに活動。\nMac
 検定委員会の検定準備委員会役員及び検定問題の基礎
 構築と問題作成。「マックでマンガ」（共著）での執
 筆。\n\n参加対象\nWebデザイナー、コーダーの方専門学
 校やスクールでWebの勉強をされている方\n参加費\n無料
 \n当ウェビナーについて\n\n\nこちらのサイトからもお
 申込みいただくことができます。\n\n\n▼C&R社で実施し
 ているオンライン講座・ウェビナー　一覧ページhttps:/
 /www.c-place.ne.jp/
LOCATION:
URL:https://techplay.jp/event/957142?utm_medium=referral&utm_source=ics&utm
 _campaign=ics
END:VEVENT
END:VCALENDAR
