BEGIN:VCALENDAR
VERSION:2.0
PRODID:-//https://techplay.jp//JP
CALSCALE:GREGORIAN
METHOD:PUBLISH
X-WR-CALDESC:【10/10開催】生成AIで新規事業開発ウェビナー
 　生成AIの利活用ポイントから導入プロセス、SaaSサー
 ビス組込事例～使える補助金まで完全網羅！
X-WR-CALNAME:【10/10開催】生成AIで新規事業開発ウェビナー
 　生成AIの利活用ポイントから導入プロセス、SaaSサー
 ビス組込事例～使える補助金まで完全網羅！
X-WR-TIMEZONE:Asia/Tokyo
BEGIN:VTIMEZONE
TZID:Asia/Tokyo
BEGIN:STANDARD
DTSTART:19700101T000000
TZOFFSETFROM:+0900
TZOFFSETTO:+0900
TZNAME:JST
END:STANDARD
END:VTIMEZONE
BEGIN:VEVENT
UID:957990@techplay.jp
SUMMARY:【10/10開催】生成AIで新規事業開発ウェビナー　生
 成AIの利活用ポイントから導入プロセス、SaaSサービス
 組込事例～使える補助金まで完全網羅！
DTSTART;TZID=Asia/Tokyo:20241010T120000
DTEND;TZID=Asia/Tokyo:20241010T130000
DTSTAMP:20260419T131106Z
CREATED:20240917T082630Z
DESCRIPTION:イベント詳細はこちら\nhttps://techplay.jp/event/95799
 0?utm_medium=referral&utm_source=ics&utm_campaign=ics\n\n【10/10開催
 】生成AIで新規事業開発ウェビナー　生成AIの利活用ポ
 イントから導入プロセス、SaaSサービス組込事例～使え
 る補助金まで完全網羅！\nAIポータルメディア「AIsmiley
 」を運営するアイスマイリー（東京都渋谷区、代表取
 締役：板羽晃司）は、2024年10月10日（木）12時から生成
 AIで新規事業開発をテーマにウェビナーを開催します
 。\n今回のウェビナーでは、生成AIの利活用ポイントか
 ら導入プロセス、SaaSサービス組込事例・使える補助金
 まで、新規事業開発のキーポイントを2社よりご紹介い
 たします。生成AI技術を社内に導入されたい方や、ChatG
 PT APIを活用して新規事業を創出したい方などに注目の
 ウェビナーとなっておりますので、ぜひご参加くださ
 い。\n概要\n■ウェビナー概要【10/10開催】生成AIで新
 規事業開発ウェビナー生成AIの利活用ポイントから導
 入プロセス、SaaSサービス組込事例・使える補助金まで
 完全網羅！\n・主催：株式会社アイスマイリー・日時
 ：2024年10月10日（木）12:00～13:00・場所：ウェビナー専
 用URL ＊申し込みいただいた方にウェビナーのURLをお送
 りいたします。・費用：無料・申込締切：10月10日（木
 ）11:30まで\n■こんな方にお勧めのウェビナーです！・
 生成AIを社内導入されたい方・生成AIのリテラシーを上
 げたい方・生成AI導入による業務効率化に興味がある
 方・AI人材の育成・教育に興味がある方・ChatGPT APIを活
 用して新規事業を創出したい方・エンジニアなど、社
 内の専門人材の不足に悩んでいる方\n登壇者\n・グロー
 ビング株式会社（提携企業：パーソルクロステクノロ
 ジー株式会社）　角田 啓介 氏\nNTT研究所、デロイトト
 ーマツコンサルティングを経て、グロービングへ入社
 。AI/機械学習技術のR&Dからサービス企画・開発、デー
 タ利活用コンサルティングまでの豊富な経験があり、
 技術とビジネス両方の知見を踏まえた、曖昧なニーズ
 に応えるAI/機械学習サービスの企画・開発・実用化に
 取り組んでいる。\n\n・株式会社デザインワン‧ジャパ
 ン　DX事業本部　岡⽥ 博豊 氏\n2016年にデザインワン・
 ジャパン入社 エキテンの代理店営業・セミナー担当と
 して、埼玉県庁・大阪商工会議所などで80回以上のWeb
 集客セミナーを行い、共催セミナーはTwitter、Yahoo!、船
 井総合研究所、LINE…etcと店舗経営者向けに全国で行う
 。参加者は累計2\,000名以上。 その後、商品企画部を経
 て、DX事業本部に参画し、過去660件以上のシステム開
 発・アプリ開発の相談にのっている。\n\n・ファシリテ
 ーター　株式会社アイスマイリー　平野 奈月\n参加費\
 n無料\n注意事項\n・お申込みは1名様毎にお願いいたし
 ます。一度のお申込みで複数名のご参加はできません
 のでご了承ください。・事業が競合する企業様、また
 は個人事業主の方のお申込みについては、ご参加をお
 断りさせて頂く場合がございます。予めご了承くださ
 い。
LOCATION:
URL:https://techplay.jp/event/957990?utm_medium=referral&utm_source=ics&utm
 _campaign=ics
END:VEVENT
END:VCALENDAR
