BEGIN:VCALENDAR
VERSION:2.0
PRODID:-//https://techplay.jp//JP
CALSCALE:GREGORIAN
METHOD:PUBLISH
X-WR-CALDESC:10/19(土)【新宿】オフラインTableauもくもく会 Vo
 l.20
X-WR-CALNAME:10/19(土)【新宿】オフラインTableauもくもく会 Vo
 l.20
X-WR-TIMEZONE:Asia/Tokyo
BEGIN:VTIMEZONE
TZID:Asia/Tokyo
BEGIN:STANDARD
DTSTART:19700101T000000
TZOFFSETFROM:+0900
TZOFFSETTO:+0900
TZNAME:JST
END:STANDARD
END:VTIMEZONE
BEGIN:VEVENT
UID:958233@techplay.jp
SUMMARY:10/19(土)【新宿】オフラインTableauもくもく会 Vol.20
DTSTART;TZID=Asia/Tokyo:20241019T150000
DTEND;TZID=Asia/Tokyo:20241019T180000
DTSTAMP:20260425T160226Z
CREATED:20240919T054957Z
DESCRIPTION:イベント詳細はこちら\nhttps://techplay.jp/event/95823
 3?utm_medium=referral&utm_source=ics&utm_campaign=ics\n\n10/19(土)【新
 宿】オフラインTableauもくもく会 Vol.20\n\n概要\nオフラ
 インでTableauもくもく会を開催します。⇨もくもく会で
 はありますが、オフラインならではのTableauユーザ同士
 で業界を横断しての交流会も楽しんでいただければと
 思います。予めご了承下さい。\n\n新宿のカフェ会議室
 （ https://www.ginza-renoir.co.jp/myspace/booking/shops/room/新宿３
 丁目ビッグスビル店/4号室 ） に集まり、Tableauをはじ
 め、各々やりたいことを作業する会になります。\n途
 中ゆるりと雑談したりわいわいしたりもします。\nTable
 auを使っている際の困り事や悩み事も主催者や参加者
 の皆様が親切に相談に乗ってくれるはず？\nTableauユー
 ザー、Tableauに興味のある方でしたらどなたでもウェル
 カムです。\nもくもく会が終わった後は懇親会を行い
 ますので、お時間のある方はそちらもぜひご参加くだ
 さい。\n懇親会のご参加は別途イベントを立てますの
 でそちらに併せてお申し込みください\n\n＜参考＞・記
 念すべき第1回の様子はこちらです。(Xにリンクします)
 　オフラインTableauもくもく会 Vol.1\n＜過去の履歴＞【
 新宿】オフラインTableauもくもく会 Vol.19【新宿】オフ
 ラインTableauもくもく会 Vol.18【新宿】オフラインTableau
 もくもく会 Vol.17【秋葉原】オフラインTableauもくもく
 会 Vol.16　〜聖地巡礼特別回〜【新宿】オフラインTablea
 uもくもく会 Vol.15【新宿】オフラインTableauもくもく会 
 Vol.14【新宿】オフラインTableauもくもく会 Vol.13【新宿
 】オフラインTableauもくもく会 Vol.12【新宿】オフライ
 ンTableauもくもく会 Vol.11【新宿】オフラインTableauもく
 もく会 Vol.10【新宿】オフラインTableauもくもく会 Vol.9
 　もくもく会＆秋のワークショップ企画【名駅】オフ
 ラインTableauもくもく会 Vol.8【新宿】オフラインTableau
 もくもく会 Vol.7【新宿】オフラインTableauもくもく会 Vo
 l.6【神田】オフラインTableauもくもく会 Vol.5【新宿】オ
 フラインTableauもくもく会 Vol.4【新宿】オフラインTablea
 uもくもく会 Vol.3【秋葉原】オフラインTableauもくもく
 会 Vol.2\nタイムスケジュール\n2024年10月19日(土) 15:00〜18
 :00\n\n\n\n時間\n内容\n\n\n\n\n15:00\n開場・入室\n\n\n15:00〜15
 :10\n挨拶・自己紹介\n\n\n15:10〜15:30\nアイスブレイク・
 プチイベント\n\n\n15:30〜17:30\nもくもく作業・途中雑談\
 n\n\n17:30〜17:50\n成果発表\n\n\n18:00\n退出\n\n\n18:15〜20:30\n
 懇親会（*要申込）\n\n\n\n※ 当日予告なく時間配分・内
 容が変更になる可能性がございます。\n※10/19(土)の懇
 親会は以下のURLから事前にお申し込みをお願いいたし
 ます。https://techplay.jp/event/958234\n場所\n喫茶室ルノアー
 ル 新宿３丁目ビッグスビル店(貸会議室4号室)こちらの
 Google mapをご参考ください。https://www.google.com/maps/place/
 喫茶室ルノアール+新宿３丁目ビッグスビル店/@35.6912393
 \,139.7051431\,17z/data=!3m2!4b1!5s0x60188cdc95624f5b:0x64ff320ff35487a5!
 4m6!3m5!1s0x60188cdcbffee8ef:0x8340d7b7742c8772!8m2!3d35.691235!4d139.707
 718!16s%2Fg%2F1tdb48b8?entry=ttu\n主催者\n\nTableau兄さん @tableau
 _nisan\n参加対象\n\nTableauユーザー\nTableauに興味のある方
 \nTableauユーザー同士で交流してみたい方\n美味しいご
 飯を食べながらTableau談義に花を咲かせたい方\n\n参加
 費\n1000円〜1500円程度（会場代+ドリンク代）\n(※懇親
 会は別途)\n注意事項・メモ書き\n\n電源、無料Wi-Fi、ホ
 ワイトボード、おしぼり、お冷が完備されてます\n\n※
 10/19(土)の懇親会は以下のURLから事前にお申し込みをお
 願いいたします。https://techplay.jp/event/958234\n\n
LOCATION:喫茶室ルノアール 新宿３丁目ビッグスビル店(貸
 会議室4号室) 〒160-0022 東京都新宿区新宿2-19-1 ビッグス
 新宿ビルB2F
URL:https://techplay.jp/event/958233?utm_medium=referral&utm_source=ics&utm
 _campaign=ics
END:VEVENT
END:VCALENDAR
