BEGIN:VCALENDAR
VERSION:2.0
PRODID:-//https://techplay.jp//JP
CALSCALE:GREGORIAN
METHOD:PUBLISH
X-WR-CALDESC:10/3(木)開催　SEOコンサルティングサービス 徹
 底解説セミナー
X-WR-CALNAME:10/3(木)開催　SEOコンサルティングサービス 徹
 底解説セミナー
X-WR-TIMEZONE:Asia/Tokyo
BEGIN:VTIMEZONE
TZID:Asia/Tokyo
BEGIN:STANDARD
DTSTART:19700101T000000
TZOFFSETFROM:+0900
TZOFFSETTO:+0900
TZNAME:JST
END:STANDARD
END:VTIMEZONE
BEGIN:VEVENT
UID:958455@techplay.jp
SUMMARY:10/3(木)開催　SEOコンサルティングサービス 徹底解
 説セミナー
DTSTART;TZID=Asia/Tokyo:20241003T140000
DTEND;TZID=Asia/Tokyo:20241003T144500
DTSTAMP:20260424T131827Z
CREATED:20240920T090900Z
DESCRIPTION:イベント詳細はこちら\nhttps://techplay.jp/event/95845
 5?utm_medium=referral&utm_source=ics&utm_campaign=ics\n\nSEOコンサル
 ティングサービス 徹底解説セミナー\n今回のセミナー
 では、当社のSEOコンサルティングサービスについて詳
 しくご説明いたします。具体的なコンサルティングの
 進め方、およびこれまでの成功事例や実績についてお
 話しします。SEO対策にご関心のある方やサービス導入
 をご検討中の方は、ぜひご参加ください。\n今回のセ
 ミナーは、こんな方にお勧め\n✔︎ SEOコンサルティン
 グの導入を検討中の方✔︎ 他社にSEO対策を依頼してい
 てパフォーマンスが良くないと感じている方✔︎ 作業
 を自社で行うことで、費用を抑えてSEO対策がしたい\n
 セミナーの内容\n\nSEOコンサルティングサービスをおス
 スメしたい方\nサービス概要\n支援の流れ\n実績の紹介\
 nSEOコンサルティングサービス料金\n\nセミナーに来る
 とこんなことが手にはいります\n\nSEOコンサルティング
 サービスの流れが分かる\n当社SEOコンサルティングサ
 ービスにおける他社との違いが分かる\nSEOコンサルテ
 ィングの料金が分かる\nSEOコンサルティングにおける
 過去の事例が分かる\n\n登壇者\n久内 将裕 (株式会社バ
 リューエージェント)\n\n株式会社バリューエージェン
 ト\nウェブコンサルタント\n久内 将裕\n\n大学卒業後、
 他業界で営業職として従事した後、Web業界へ転職。Web
 制作会社で営業として従事後、バリューエージェント
 へ入社。\n\nバリューエージェントでは、Webコンサルタ
 ントとしてお客様のWeb上の課題を解決して売上をあげ
 るお手伝いをする。コンサルタント歴4年。\n\nセミナ
 ー概要・お申込み\nセミナー名SEOコンサルティングサ
 ービス 徹底解説セミナー\n対象\n\nSEOコンサルティング
 の導入を検討中の方\n他社にSEO対策を依頼していてパ
 フォーマンスが良くないと感じている方\n作業を自社
 で行うことで、費用を抑えてSEO対策がしたい\n\n日時202
 4年10月3日(木)　14:00～14:45（13:50受付開始）\n場所オン
 ライン開催\n※メールにて参加用のZOOMのURLをお送りし
 ます。※出席の確認もございますので、10分前にはご
 入室頂きますようお願いいたします。\n参加料無料\n定
 員8名
LOCATION:
URL:https://techplay.jp/event/958455?utm_medium=referral&utm_source=ics&utm
 _campaign=ics
END:VEVENT
END:VCALENDAR
