BEGIN:VCALENDAR
VERSION:2.0
PRODID:-//https://techplay.jp//JP
CALSCALE:GREGORIAN
METHOD:PUBLISH
X-WR-CALDESC:『スポーツアナリティクス×データ活用事例』
 オフラインセミナー【懇親会あり】
X-WR-CALNAME:『スポーツアナリティクス×データ活用事例』
 オフラインセミナー【懇親会あり】
X-WR-TIMEZONE:Asia/Tokyo
BEGIN:VTIMEZONE
TZID:Asia/Tokyo
BEGIN:STANDARD
DTSTART:19700101T000000
TZOFFSETFROM:+0900
TZOFFSETTO:+0900
TZNAME:JST
END:STANDARD
END:VTIMEZONE
BEGIN:VEVENT
UID:958674@techplay.jp
SUMMARY:『スポーツアナリティクス×データ活用事例』オ
 フラインセミナー【懇親会あり】
DTSTART;TZID=Asia/Tokyo:20241017T173000
DTEND;TZID=Asia/Tokyo:20241017T200000
DTSTAMP:20260420T112041Z
CREATED:20240924T014327Z
DESCRIPTION:イベント詳細はこちら\nhttps://techplay.jp/event/95867
 4?utm_medium=referral&utm_source=ics&utm_campaign=ics\n\n『スポーツ
 アナリティクス×データ活用事例』セミナー\nデータサ
 イエンティスト協会では、分析・データサイエンスの
 実務に携わる方を対象に、スキルアップとコミュニケ
 ーションの場の創出を目的として、セミナーを行って
 います。今回は以下の講演を開催いたします。\n概要\n
 データサイエンスで勝利をつかむ！スポーツ×データ
 サイエンスの事例を知り、新しいアナリティクスの可
 能性に触れませんか？\n本セミナーでは、一般社団法
 人日本スポーツアナリスト協会 理事 兼 三遠ネオフェ
 ニックス ビデオアナリストを務める木村和希氏と、SPO
 RTLIGHT株式会社 代表取締役 兼 浦安D-Rocks 木下倖一氏を
 お招きし、バスケットボールとラグビーにおけるスポ
 ーツアナリティクス事例をご紹介いただきます。\nま
 た、パネルディスカッションでは『行動経済学が勝敗
 を支配する（https://www.njg.co.jp/post-40275/）』著者、東京
 大学の今泉拓氏にもご登壇いただき、認知バイアスと
 スポーツアナリティクスについてもお話しいただきま
 す。セミナー後には現地会場にて懇親会も開催いたし
 ますので、この機会にぜひお申し込みください。\nタ
 イムスケジュール\n\n\n\n時間\n内容\n\n\n\n\n17:00〜\n受付
 開始\n\n\n17:30〜18:00\n『三遠ネオフェニックスにおける
 ハーバード大学とのスポーツアナリティクス連携とデ
 ータ活用』木村 和希氏（三遠ネオフェニックス／日本
 スポーツアナリスト協会）\n\n\n18:00〜18:30\n『ラグビー
 界におけるデータ活用の現状と展望～SportMemeとの共同
 研究について～』木下 倖一氏（SPORTLIGHT株式会社／浦
 安D-Rocks）\n\n\n18:30〜19:00\n『パネルディスカッション』
 今泉 拓 氏（東京大学大学院 学際情報学府 博士課程）
 木村 和希 氏（三遠ネオフェニックス／日本スポーツ
 アナリスト協会）\n\n\n19:00〜20:00\n懇親会（軽食あり）\
 n\n\n\n※ 当日予告なく時間配分・内容が変更になる可
 能性がございます。\n登壇者\n\n木村 和希 氏\n三遠ネオ
 フェニックス ビデオアナリスト\n日本経済大学在学中
 にバスケットボール部のアナリストとして活動を開始
 。福岡大学大学院スポーツ健康科学研究科を経て、2017
 から2022シーズンまでBリーグ・千葉ジェッツふなばし
 のビデオアナリストとして活動。2022年に三遠ネオフェ
 ニックスに移籍をし現在三遠ネオフェニックスにおい
 てビデオアナリストとして活動中。\n\n\n木下 倖一 氏\n
 SPORTLIGHT株式会社 代表取締役／浦安D-Rocks 分析\n2016-18 NE
 Cグリーンロケッツ\n2017-2020 サンウルブズ\n2019 Bay of Plen
 ty Steamers (ニュージーランド)\n2020-2022 NTTコミュニケー
 ションズ シャイニングアークス\n2022-現在 浦安D-Rocks\n\
 n2022 SPORTLIGHT株式会社設立\n2024- 慶應義塾大学湘南藤沢
 キャンパス「スポーツのデータサイエンス」講師\n\n\n
 今泉 拓 氏\n東京大学大学院 学際情報学府 博士課程\n
 東京大学大学院学際情報学府博士課程所属、東京スポ
 ーツ・レクリエーション専門学校非常勤講師(スポーツ
 分析)。1995年生まれ。東京大学理科2類に入学、教養学
 部に進学しコンピュータサイエンスを専攻。大学3年生
 のときに、データスタジアム株式会社で野球データの
 分析を開始。以降、株式会社ネクストベースにて野球
 データの分析を担当するなど6年間データ分析に従事。
 東京大学大学院学際情報学府では、認知科学・行動経
 済学を専攻。データ分析と大学での研究をもとに、行
 動経済学とスポーツ分析を掛け合わせたスポーツの発
 展や技術向上に力を入れている。主な実績に、ARCS IDEAT
 HON(ラグビーの傷病予測コンペティション)優勝、第18回
 出版甲子園準優勝、スポーツアナリティクスジャパン2
 022登壇など。\n\n参加対象\n興味のある方はどなたでも
 ご参加いただけます\n参加費\n無料\n注意事項\n\nキャン
 セル待ち・補欠・落選の方はご参加いただくことが出
 来ませんのでご了承ください。\n欠席される場合は、
 お手数ですが速やかにキャンセル処理をお願い致しま
 す。\n無断キャンセルや欠席が続く場合、次回以降の
 参加をお断りさせていただく場合がございます。\n
LOCATION:AP日本橋 央区日本橋3-6-2　日本橋フロント6F
URL:https://techplay.jp/event/958674?utm_medium=referral&utm_source=ics&utm
 _campaign=ics
END:VEVENT
END:VCALENDAR
