BEGIN:VCALENDAR
VERSION:2.0
PRODID:-//https://techplay.jp//JP
CALSCALE:GREGORIAN
METHOD:PUBLISH
X-WR-CALDESC:第13回ナブかつLABキャリアトーク
X-WR-CALNAME:第13回ナブかつLABキャリアトーク
X-WR-TIMEZONE:Asia/Tokyo
BEGIN:VTIMEZONE
TZID:Asia/Tokyo
BEGIN:STANDARD
DTSTART:19700101T000000
TZOFFSETFROM:+0900
TZOFFSETTO:+0900
TZNAME:JST
END:STANDARD
END:VTIMEZONE
BEGIN:VEVENT
UID:958737@techplay.jp
SUMMARY:第13回ナブかつLABキャリアトーク
DTSTART;TZID=Asia/Tokyo:20241109T131500
DTEND;TZID=Asia/Tokyo:20241109T141500
DTSTAMP:20260419T150319Z
CREATED:20240924T063853Z
DESCRIPTION:イベント詳細はこちら\nhttps://techplay.jp/event/95873
 7?utm_medium=referral&utm_source=ics&utm_campaign=ics\n\n第13回ナブ
 かつLABキャリアトーク\n概要\nこれからプログラマーに
 なりたいと思っている方や、普段エンジニアはどのよ
 うな仕事をしているのか興味があるという人を対象に
 、プロで活躍されている方々が、どういう風に学生時
 代（または転職時）プログラミングを学んできたのか
 、どういう経緯で今のキャリアになったのかなどを話
 してもらうことで、自身のキャリアや進路決定のきっ
 かけの1つになってほしいと思っています。\nキャリア
 トーク後は質疑応答の時間を設けているので、キャリ
 アトークを聞いた後に疑問に思った点、プロに聞いて
 みたい質問などをどんどん聞いてみましょう！\nタイ
 ムスケジュール\n\n\n\n時間\n内容\n\n\n\n\n13:00〜\n受付開
 始\n\n\n13:15〜13:20\nオープニング\n\n\n13:20〜14:00\nキャリ
 アトーク\n\n\n14:00〜14:15\n質疑応答\n\n\n14:15〜14:30\nアン
 ケート回答\n\n\n\n※ 当日予告なく時間配分・内容が変
 更になる可能性がございます。\n登壇者\n\n田中 洋一郎
  氏\nTably株式会社CTO / Google Developers Expert (Web Technology)業
 務アプリ向けの開発ツールやフレームワークの設計に
 携わった後、mixi Platform、LINE Platformの技術統括を行う
 。メッセージングアプリにおいても世界に先駆けてBOT 
 Platformの立ち上げを主導した。現在は Tably にてプログ
 ラミング学習サービス「Jasmine Tea」の開発を主導して
 いる。Mash up Award 3rd 3部門同時受賞。モバイルプロジェ
 クト・アワード2010 モバイルプラットフォーム部門優
 秀賞受賞。著書『ソーシャルアプリプラットフォーム
 構築技法』など\n参加対象\n\nプログラミングに興味が
 ある方\n将来エンジニアになりたいと思っている方\n\n
 参加費\n無料\n注意事項\n\nリクルーティング、勧誘な
 ど、採用目的でのイベント参加はお断りしております
 。\n欠席される場合は、お手数ですが速やかにキャン
 セル処理をお願い致します。\n無断キャンセルや欠席
 が続く場合、次回以降の参加をお断りさせていただく
 場合がございます。\n
LOCATION:
URL:https://techplay.jp/event/958737?utm_medium=referral&utm_source=ics&utm
 _campaign=ics
END:VEVENT
END:VCALENDAR
