BEGIN:VCALENDAR
VERSION:2.0
PRODID:-//https://techplay.jp//JP
CALSCALE:GREGORIAN
METHOD:PUBLISH
X-WR-CALDESC:川崎市市制100周年協業特別企画「Kawasaki Open-inn
 ovation Square」プログラム説明会
X-WR-CALNAME:川崎市市制100周年協業特別企画「Kawasaki Open-inn
 ovation Square」プログラム説明会
X-WR-TIMEZONE:Asia/Tokyo
BEGIN:VTIMEZONE
TZID:Asia/Tokyo
BEGIN:STANDARD
DTSTART:19700101T000000
TZOFFSETFROM:+0900
TZOFFSETTO:+0900
TZNAME:JST
END:STANDARD
END:VTIMEZONE
BEGIN:VEVENT
UID:958836@techplay.jp
SUMMARY:川崎市市制100周年協業特別企画「Kawasaki Open-innovati
 on Square」プログラム説明会
DTSTART;TZID=Asia/Tokyo:20241018T160000
DTEND;TZID=Asia/Tokyo:20241018T170000
DTSTAMP:20260420T124834Z
CREATED:20240925T031548Z
DESCRIPTION:イベント詳細はこちら\nhttps://techplay.jp/event/95883
 6?utm_medium=referral&utm_source=ics&utm_campaign=ics\n\n概要\n========
 ====================================\n川崎市市制100周年協業特
 別企画\n「Kawasaki Open-innovation Square」プログラム説明会\
 n============================================\n川崎市が毎年開催
 する「川崎国際環境技術展」は、今年度で第17回を迎
 えます。今回は、川崎市市制100周年特別企画として、
 「Kawasaki Open-innovation Square」と題し、オープンイノベー
 ションによる新規事業創出を志す大手企業が、中小・
 スタートアップ企業の皆様と一緒に取組みたい共創テ
 ーマを掲げる特別ブースを設置するとともに、希望す
 る企業の皆様との面談を実施します。川崎市等に拠点
 を持つ、大手企業と直接出会えるチャンスです！ビジ
 ネスマッチングを通した出会いで、環境課題解決に繋
 がる新しい事業・価値の創出を目指しませんか。プロ
 グラム詳細：https://www.kawasaki-eco-tech.jp/100th/partner\nこん
 な方におすすめ\n・環境分野で新事業創出にトライし
 たいが、自社単独では厳しい状況にあり方法を模索し
 ている。・大企業のアセットやリソースを活用して新
 規事業創出にトライしたい。・気になる企業と直接コ
 ミュニケーションが取れる機会が欲しい。\n【参加企
 業パートナー募集企業・募集テーマ】※五十音順\n京
 セラ株式会社テーマ：太陽光発電による再生可能エネ
 ルギーを活用した、持続可能なエネルギー社会の実現\
 n高砂熱学工業株式会社テーマ：グリーン水素社会の実
 現に向けた、⓵水電解装置製造パートナー及び⓶マー
 ケティング・販売チャネル支援パートナーの募集\n東
 京応化工業株式会社テーマ：半導体分野で培ったナノ
 テクノロジーの活用による、熱課題［省エネ、オーバ
 ーヒートの抑制］への取組\nボッシュ株式会社テーマ
 ：～モビリティを飛び出し新たな領域へ～脱炭素社会
 の実現に向けた取り組みの挑戦\n株式会社明治テーマ
 ：⓵乳製品を生産する中で発生する副産物を新たな価
 値に転換し、環境にやさしい価値共創を実現⓶体質や
 病気により制約のある方でも、食の自由をあきらめな
 い、お客様に寄り添った新しい価値を共創\n【応募対
 象者】\n全国の中小・スタートアップ企業\n【オンライ
 ン説明会概要】\nオンライン説明会では、本プログラ
 ムの概要説明の他、参加する大手企業5社の募集テーマ
 について、テーマを設けた背景や抱えている課題感な
 ど、詳しく説明致します。QAのお時間も設けておりま
 すので、少しでもご関心のあるお方は是非ご参加くだ
 さい！\n■タイムスケジュール\n16:00 ～ オープニング16
 :00 ～ 16:05 川崎市 ご挨拶・技術展のご説明16:05 ～ 16:10 
 本事業のご説明16:10 ～ 16:40：参加企業 募集テーマの説
 明16:40 ～ 16:50：QA・今後のスケジュール16:50 ～ 17:00 ：
 クロージング※ 当日予告なく時間配分・内容が変更に
 なる可能性がございます。\n■参加費\n無料\n■主催・
 運営\n川崎市／株式会社eiicon\n■注意事項\n\n営業、勧
 誘目的でのイベント参加はお断りいたします。\n参加
 を辞退する場合は、詳細ページより申込のキャンセル
 をお願い致します。\n無断キャンセル・欠席が続く場
 合、次回以降の参加をお断りさせていただく場合がご
 ざいますのでご了承ください。\n
LOCATION:
URL:https://techplay.jp/event/958836?utm_medium=referral&utm_source=ics&utm
 _campaign=ics
END:VEVENT
END:VCALENDAR
