BEGIN:VCALENDAR
VERSION:2.0
PRODID:-//https://techplay.jp//JP
CALSCALE:GREGORIAN
METHOD:PUBLISH
X-WR-CALDESC:【オンライン・視聴無料】技術と市場をつな
 げる「技術マーケティング」の実践法
X-WR-CALNAME:【オンライン・視聴無料】技術と市場をつな
 げる「技術マーケティング」の実践法
X-WR-TIMEZONE:Asia/Tokyo
BEGIN:VTIMEZONE
TZID:Asia/Tokyo
BEGIN:STANDARD
DTSTART:19700101T000000
TZOFFSETFROM:+0900
TZOFFSETTO:+0900
TZNAME:JST
END:STANDARD
END:VTIMEZONE
BEGIN:VEVENT
UID:958852@techplay.jp
SUMMARY:【オンライン・視聴無料】技術と市場をつなげる
 「技術マーケティング」の実践法
DTSTART;TZID=Asia/Tokyo:20241010T160000
DTEND;TZID=Asia/Tokyo:20241010T164500
DTSTAMP:20260421T111452Z
CREATED:20240925T052626Z
DESCRIPTION:イベント詳細はこちら\nhttps://techplay.jp/event/95885
 2?utm_medium=referral&utm_source=ics&utm_campaign=ics\n\n技術と市場
 をつなげる「技術マーケティング」の実践法\n現代の
 研究者に欠かせない思考になった「技術マーケティン
 グ」。\n技術マーケティングとは『技術を「顧客価値
 」に転換する活動』のことを指し、近年の顧客ニーズ
 の多様化やコモディティ化が進み技術の進化だけでは
 顧客価値の向上に繋がりづらくなっていることを背景
 に、多くの企業が今、技術マーケティングの取り組み
 を進めています。\nトップダウンでの方針が進む一方
 で、研究開発の現場では技術探索に加え、市場理解の
 重要性が増しています。しかし、日々の多忙な業務に
 加わるこの新たな課題に、現場の負担が増えているの
 も事実です。\nでは、研究開発部門の方々がマーケテ
 ィング思考を身につけ、その視点を研究や開発に活か
 していくにはどうしたら良いのでしょうか。本ウェビ
 ナーでは、AIを活用して国内外約35\,000サイトのビジネ
 スニュースや論文・特許などの情報を効率的に収集・
 活用するツール「Anews」のご紹介を交え、研究開発部
 門に求められるマーケティング視点とは何か、そして
 その視点を活用して技術をいかに価値ある製品や事業
 へとつなげるかを探ります。\n参加対象\n\n市場や顧客
 志向の研究開発力を強化したい方\n技術マーケティン
 グに関して興味やお悩みのある方\n社内/社外にある情
 報を効率的に収集し、研究開発に役立てたい方\n\n開催
 概要\n日　　　時：2024年10月10日(木) 16:00-16:45場　　　
 所：オンライン（Zoom）参　加　費：無料\n登壇者\n\n橋
 本 詩織\nストックマーク株式会社　Marketer\n2010年新卒
 として、BtoBに特化したマーケティング支援を行ってい
 る株式会社エムエム総研に入社。大企業向けの新規営
 業に従事したのち、自社の新規事業のマーケティング
 戦略立案からインサイドセールス、セミナー、クリエ
 イティブのディレクションなど広く担当。並行して自
 社の組織開発推進を行い、ミッション・ビジョンや自
 社の経営方針の組織への浸透、人事評価制度の改定な
 どを推進。2021年1月ストックマークに入社。\nストック
 マークとは\nストックマークは「価値創造の仕組みを
 再発明し、人類を前進させる」をミッションに掲げ、
 最先端の自然言語処理技術を活用し、多くの企業様の
 事業創造活動を支援しております。\n自然言語処理技
 術を活用し、国内外約3万5千サイトの膨大なビジネス
 ニュースを分類。業務に直結する情報をAIが届けるこ
 とで、組織の情報感度を高め、事業アイディアの着想
 と組織内での発展を促す「Anews」、AIが組織や業務に合
 わせて必要な情報を構造化し、示唆が得られる市場調
 査サービス「Astrategy」によって企業様の新たな価値創
 造をサポートしています。\n■Anewshttps://stockmark.co.jp/pro
 duct/anews■Astrategyhttps://stockmark.co.jp/product/astrategy\n注意
 事項\n\n競合企業などのご参加をお断りする場合がござ
 います。予めご了承くださいませ。\n
LOCATION:
URL:https://techplay.jp/event/958852?utm_medium=referral&utm_source=ics&utm
 _campaign=ics
END:VEVENT
END:VCALENDAR
