BEGIN:VCALENDAR
VERSION:2.0
PRODID:-//https://techplay.jp//JP
CALSCALE:GREGORIAN
METHOD:PUBLISH
X-WR-CALDESC:【Linuxセミナー】リナックスマスタープロセミ
 ナー(2日間集中研修) 10月24日(木)～25日(金)
X-WR-CALNAME:【Linuxセミナー】リナックスマスタープロセミ
 ナー(2日間集中研修) 10月24日(木)～25日(金)
X-WR-TIMEZONE:Asia/Tokyo
BEGIN:VTIMEZONE
TZID:Asia/Tokyo
BEGIN:STANDARD
DTSTART:19700101T000000
TZOFFSETFROM:+0900
TZOFFSETTO:+0900
TZNAME:JST
END:STANDARD
END:VTIMEZONE
BEGIN:VEVENT
UID:958977@techplay.jp
SUMMARY:【Linuxセミナー】リナックスマスタープロセミナ
 ー(2日間集中研修) 10月24日(木)～25日(金)
DTSTART;TZID=Asia/Tokyo:20241024T090000
DTEND;TZID=Asia/Tokyo:20241025T173000
DTSTAMP:20260424T110833Z
CREATED:20240926T045337Z
DESCRIPTION:イベント詳細はこちら\nhttps://techplay.jp/event/95897
 7?utm_medium=referral&utm_source=ics&utm_campaign=ics\n\nLinuxを3ヶ月
 以上勉強しているけど伸び悩んでいませんか？\nこの
 ままだと、時間だけ過ぎて成長できないどころか自分
 にはムリと自信喪失して仕事にも影響してしまいます
 。\nこの伸び悩みを突破するためには、現場で使うサ
 ーバーをインストールから最後まで自分で構築する経
 験をすることです。\nそうすることで、Linuxがどうゆう
 ものなのか実践を通じて肌感覚で理解でき、俯瞰して
 見ることができるようになります。\nシステム構築、
 運用、管理においてこれを俯瞰で見れるスキルはとて
 も大切です。\n実際、私はこの経験のおかげでトラブ
 ル時の原因特定が早くなり、新しい現場のLinuxの仕様
 をすぐ理解できるようになりました。\nとはいえ、現
 場の手順を経験をしろ！と言われてもどんな手順を行
 えばいいのかわからないですよね。\nそこで2日間でこ
 れを体系的に学べるセミナーがあります。詳細は↓を
 クリックしてください。【Linuxセミナー研修】リナッ
 クスマスタープロセミナー【2日間RHEL8研修】
LOCATION:オンライン or オフライン
URL:https://techplay.jp/event/958977?utm_medium=referral&utm_source=ics&utm
 _campaign=ics
END:VEVENT
END:VCALENDAR
