BEGIN:VCALENDAR
VERSION:2.0
PRODID:-//https://techplay.jp//JP
CALSCALE:GREGORIAN
METHOD:PUBLISH
X-WR-CALDESC:[私たちのミライ会議]　言語学習で広がる選択
 肢、英語力で創る新しい未来
X-WR-CALNAME:[私たちのミライ会議]　言語学習で広がる選択
 肢、英語力で創る新しい未来
X-WR-TIMEZONE:Asia/Tokyo
BEGIN:VTIMEZONE
TZID:Asia/Tokyo
BEGIN:STANDARD
DTSTART:19700101T000000
TZOFFSETFROM:+0900
TZOFFSETTO:+0900
TZNAME:JST
END:STANDARD
END:VTIMEZONE
BEGIN:VEVENT
UID:959035@techplay.jp
SUMMARY:[私たちのミライ会議]　言語学習で広がる選択肢
 、英語力で創る新しい未来
DTSTART;TZID=Asia/Tokyo:20241017T190000
DTEND;TZID=Asia/Tokyo:20241017T210000
DTSTAMP:20260420T111246Z
CREATED:20240926T065820Z
DESCRIPTION:イベント詳細はこちら\nhttps://techplay.jp/event/95903
 5?utm_medium=referral&utm_source=ics&utm_campaign=ics\n\n私たちのミ
 ライ会議　言語学習で広がる選択肢、英語力で創る新
 しい未来\n概要\n教育、IT、技術、社会、など私たちに
 はミライを良くするために取り組みたい課題が多々あ
 ります。私たちの10年後のミライを良くするために、
 今からひとつひとつの課題について話し合ってみませ
 んか？\n今回のテーマは「言語学習で広がる選択肢、
 英語力で創る新しい未来」について。\n仕事で「英語
 や他言語を使えたらもっと機会が広がるのに！」と思
 ったことはありませんか？「私たちのミライ会議」で
 は、語学習得の方法やメリット、海外や多文化な職場
 で働くことについて焦点を当て、グローバルに活躍す
 るためのヒントをお届けします。今回は、言語学習の
 専門家や国際的に活躍するプロフェッショナルをスピ
 ーカーとしてお迎えし、それぞれの視点から【言語学
 習で広がる選択肢、英語力で創る新しい未来】につい
 て深掘りしていただきます。\n主なトピック：\n\n言語
 学習のメリットとその効果的な方法\n多文化環境で働
 く際の挑戦とその乗り越え方\nグローバルキャリアを
 築くためのステップ\n\nなどについてパネリストに質問
 をしてお答えいただきます。\nアジェンダ:19:00-19:30 イ
 ントロダクション19:30-20:15 パネルディスカッション20:1
 5-20:25 Q&A20:30-21:00 ネットワーキングタイム\n日時：10月1
 7日（木）19：00～21:00場所：コードクリサリスキャンパ
 ス東京都港区元麻布3-1-35 B2階参加費：無料\n--------------
 ------------------------------ゲストスピーカー紹介：マーク
 ・アンダーソンさん：合同会社コマス　共同創業者　C
 EOエディンバラ大学卒業。JETプログラムで来日し、日
 本の大手IT企業にてビジネス英語トレーナーとして勤
 務。株式会社メルカリで語学教育チームの立ち上げを
 経て、合同会社コマスを設立し、グローバルビジネス
 環境でのコミュニケーション課題と多文化対応能力の
 組織開発に取り組んでいます。エンジニア組織の英語
 化変革 EX[English Transformation]グローバル時代に生き残る
 強い組織作りの鉄則」を共著出版\n親松雅代さん：株
 式会社メルカリ Language Education Team外資系国際物流会社
 を経て 2013 年より日本語トレーナーと して活動。留学
 生やビジネスパーソン、看護師・介護士候補者への日
 本語教育を担当。2018年7月よりメルカリに。日英プロ
 グラムマネジメントを担当。また「やさしいコミュニ
 ケーション」の社内トレーニングを主導。言語のバッ
 クグラウンドが異なる社員同士が、お互いにどのよう
 に歩み寄りのコミュニケーションをしたらよいか社内
 外問わず伝えている。\n中田廣遥さん：GAOGAO株式会社
 　グループCOO早稲田大学 基幹理工学部表現工学科を卒
 業後、GAOGAO入社。グループCOO、よろずや。シンガポー
 ル本社に所属し、自らも開発案件に参画しつつ、採用
 ・営業・社内改善にも動く。シンガポールのクライア
 ントや海外エンジニアとやりとりを行う中で、英語学
 習の大切さ、関わるチームのEX推進の重要さに気づき
 、GAOGAO社内・クライアント全体のEX推進に勤しむ。\n参
 加費\n無料\n注意事項\n[弊社のプライバシーポリシー]
 本フォームにてご提供いただく個人情報は、お問い合
 わせ内容へのご回答、関連する商品・サービスのご案
 内ならびに研究・開発のために利用しますプライバシ
 ーポリシー(https://www.codechrysalis.io/ja/privacy-policy))[主催
 者による撮影]会場内でスタッフやメディア等による写
 真・動画撮影を行う場合がございます。 会場内のゲス
 トの一部が撮影される場合がございます。 画像はイベ
 ント当日のSNSでの使用、イベント終了後の広告物や、
 テレビ・新聞・雑誌・WEBサイト等で掲載・掲載される
 可能性がございますので、予めご了承ください。
LOCATION:Code Chrysalis 東京都港区元麻布3-1-35 Vort元麻布B2F
URL:https://techplay.jp/event/959035?utm_medium=referral&utm_source=ics&utm
 _campaign=ics
END:VEVENT
END:VCALENDAR
