BEGIN:VCALENDAR
VERSION:2.0
PRODID:-//https://techplay.jp//JP
CALSCALE:GREGORIAN
METHOD:PUBLISH
X-WR-CALDESC:【10/17 オンライン開催＜無料＞】～ユーザー
 視点で手戻りなく進められる～ エンジニアのためのUX
 入門講座
X-WR-CALNAME:【10/17 オンライン開催＜無料＞】～ユーザー
 視点で手戻りなく進められる～ エンジニアのためのUX
 入門講座
X-WR-TIMEZONE:Asia/Tokyo
BEGIN:VTIMEZONE
TZID:Asia/Tokyo
BEGIN:STANDARD
DTSTART:19700101T000000
TZOFFSETFROM:+0900
TZOFFSETTO:+0900
TZNAME:JST
END:STANDARD
END:VTIMEZONE
BEGIN:VEVENT
UID:959679@techplay.jp
SUMMARY:【10/17 オンライン開催＜無料＞】～ユーザー視点
 で手戻りなく進められる～ エンジニアのためのUX入門
 講座
DTSTART;TZID=Asia/Tokyo:20241017T160000
DTEND;TZID=Asia/Tokyo:20241017T170000
DTSTAMP:20260421T045831Z
CREATED:20241002T013158Z
DESCRIPTION:イベント詳細はこちら\nhttps://techplay.jp/event/95967
 9?utm_medium=referral&utm_source=ics&utm_campaign=ics\n\nシステム開
 発やものづくりにおいて、ユーザー視点でのアプロー
 チは欠かせません。特にエンジニアにとっては、UX（
 ユーザーエクスペリエンス）を導入することで、開発
 目的が明確になり、手戻りのないスムーズな進行が可
 能になるという大きなメリットがあります。しかし、U
 Xの導入には普段の開発プロセスとは異なる知識や視点
 が求められるため、実践にはハードルが伴います。こ
 のセミナーでは、長年のエンジニア経験を持つ当社の
 専門家が、エンジニアが普段の仕事に取り入れやすい
 、最も基礎的なUXの実践知識を紹介します。UXという言
 葉は知っているが、開発業務への活かし方で迷ってい
 る方に、押さえておくべきタイミングやポイントにつ
 いてお伝えします。実務に即したUXのアプローチを学
 び、日々の業務に役立てるための機会として、ぜひご
 参加ください。\n\n※セミナー終了後の17:00-17:30にて、
 受講者の方を対象にユーザビリティ評価相談会を開催
 します（無料）。UX導入でのお悩みごとのある方は、
 受講後も残っていただきご相談ください。時間内で対
 応できない方へは、別途、ご相談の時間を設けさせて
 いただけますので、安心してご参加ください。なお、
 業務上、Zoom上で開示することが難しい内容を含む場合
 は、ブレイクアウトルーム機能などオンライン上の別
 室にご案内、または別途お時間を設けます。\n\n講座内
 容\n講師紹介​\n\nユーザー視点での開発が必要な理由
 ​\nユーザー視点の開発手法について/UXとは？​\nエン
 ジニアにも求められるUX​\nエンジニアがUXを取り入れ
 づらい理由​\nエンジニアにとっての実践的なUXとは？
 ​\nさらにUXを学びたい方へのおすすめ​\n\n●開催日
 時\nセミナー：2024年10月17日（木）16:00-17:00UX導入相談
 会：2024年10月17日（木）17:00-17:30※15:50から受付開始で
 す\n●会場\nオンライン開催（Zoomにて開催）\n●参加費
 \n無料\n●定員\n20名\nこんな方におすすめ\n\n開発仕様
 がぶれやすいことに悩んでいる方\n開発途上での手戻
 りの多さに悩んでいる方\n効率よく開発仕様を決める
 フレームワークを求めている方\n開発リーダーとして
 の資質を高めたい方\nエンジニアとしてUXを学習したい
 方職種問わず、今回のテーマに興味を持たれた方は、
 お気軽にご参加ください！\n\n担当講師\n岡崎　純（OKAZ
 AKI Jun）\n（株）U'eyes Design デザイニング・アウトカム
 ズ事業部シニアコンサルタント／マネージャーHCD-Net 
 認定人間中心設計専門家、フォトマスター検定1級カメ
 ラメーカーにて約30年、一眼レフカメラのメカ開発業
 務、写真愛好家向け機種の開発リーダーを担当。2016年
 から当社にて UX人材育成支援やカメラ関連を中心とし
 たプロジェクトマネジメントに従事。\n\n辻　龍一（TSU
 JI Ryuichi）\n（株）U‘eyes Design システムズ・イノベーシ
 ョン事業部シニアテクニカルマネージャー2001年から様
 々な業界の業務系・サービス系のシステム構築に従事
 。プロジェクトマネジメント含め、開発上流工程から
 テスト、リリースの計画策定・管理など、広範な業務
 を経験。昨年から当事業部の創設に関わり、現在は工
 場のDX推進コンサルティングにも従事。\n\n参加を検討
 される方へお願い\n\nセミナーの参加中は、雑音の発生
 を防ぐため、できる限りイヤホン、ヘッドセット等の
 接続をお願いします。また、ご質問がある場合を除い
 て、マイクをミュートにして頂きますよう、ご協力を
 お願いします。\nセミナーの様子は録画をさせて頂き
 ます。また、個人が特定できないように加工した上で
 、セミナーの紹介動画として弊社サイト等で掲載させ
 て頂く場合がございます。\n他者に対する誹謗中傷や
 不適切な画像を表示する等、他の参加者にご迷惑をお
 かけするような事態が見られた方は、セミナーをご退
 場頂きます。\n
LOCATION:
URL:https://techplay.jp/event/959679?utm_medium=referral&utm_source=ics&utm
 _campaign=ics
END:VEVENT
END:VCALENDAR
