BEGIN:VCALENDAR
VERSION:2.0
PRODID:-//https://techplay.jp//JP
CALSCALE:GREGORIAN
METHOD:PUBLISH
X-WR-CALDESC:[懇親会]オープンセミナー2024@広島
X-WR-CALNAME:[懇親会]オープンセミナー2024@広島
X-WR-TIMEZONE:Asia/Tokyo
BEGIN:VTIMEZONE
TZID:Asia/Tokyo
BEGIN:STANDARD
DTSTART:19700101T000000
TZOFFSETFROM:+0900
TZOFFSETTO:+0900
TZNAME:JST
END:STANDARD
END:VTIMEZONE
BEGIN:VEVENT
UID:959744@techplay.jp
SUMMARY:[懇親会]オープンセミナー2024@広島
DTSTART;TZID=Asia/Tokyo:20241109T183000
DTEND;TZID=Asia/Tokyo:20241109T210000
DTSTAMP:20260425T123702Z
CREATED:20241002T060657Z
DESCRIPTION:イベント詳細はこちら\nhttps://techplay.jp/event/95974
 4?utm_medium=referral&utm_source=ics&utm_campaign=ics\n\n当イベント
 について\nこのイベントは オープンセミナー2024@広島 
 の懇親会です。別途、本編にも必ずお申し込みをお願
 いいたします。\nイベント参加者だけの貸切会場！\n懇
 親会会場：大手街倶楽部\n住所：広島県広島市中区大
 手町１丁目４−１７\n当日はレンタルスペースを貸し
 切って、オープンセミナー2024@広島の登壇者＆イベン
 ト参加者で盛り上がりたいと思います。  \n会費\n会費
 ： 3\,500円  \nドリンク：持ち込み\n 主催者側では会場
 とフードおよび食器類のみ準備いたします。\n参加者
 各自でお好きなドリンクをお好きなだけお持ち込みい
 ただけます。\n地元のお酒やレアドリンクなどのお土
 産持参も歓迎いたします！\nLT枠に関して\nセミナーや
 勉強会は、発表するのが一番の勉強というのはもはや
 定説となっております。とはいえ、やっぱり自信がな
 い、レベルが高い人に怒られたらどうしよう、など発
 表に対する不安があるのはわかります。そんなあなた
 には、懇親会LTを是非オススメします！お酒も入って
 フレンドリーな懇親会だからこそ、気楽にLT体験がで
 きる貴重なチャンスです。  \nLTのテーマは本編のテー
 マとは全然違うものでOK！（関連するものももちろんOK
 ！）。普段やってることや今後やりたいこと、失敗談
 などエンジニアが集まるこの機会だからこそ喋りたい
 ことを喋って盛り上がりましょう！\nタイムテーブル\n
 随時公開\n主催\nオープンセミナー@広島 実行委員会\nYo
 uTube チャンネル\nオープンセミナー@広島の YouTube チャ
 ンネルを開設しました。\nOSH - YouTube チャンネル\nチャ
 ンネル登録をお願いします！\nSlack\nオープンセミナー@
 広島の Slack を開設しています。\n事前のご交流や当日
 の連絡手段としてご利用ください。\nイベント申込者
 には「参加者への情報」で参加方法をお知らせします
 。\nosh2024 チャンネルをご利用ください。\n行動規範\n
 オープンセミナー@広島は、エンジニア同士の交流や知
 識研鑽を目的としてオンラインまたはオフラインで開
 催するイベントに、すべての人に安全にご参加いただ
 きたいと考えております。\nハラスメント行為には、
 言葉による性別、性的指向、障碍の有無、外見、身体
 の大きさ、人種、宗教に関する攻撃的なコメント、公
 的空間での性的な映像表現、意図的な威力行為、 スト
 ーキング、つきまとい、写真撮影や録音によるいやが
 らせ、トークやその他のイベントに対して繰り返して
 中断しようとする行為、不適切な身体接触、そして望
 まれない性的な注意を引きつける行為を含みます。\n
 参加者がハラスメント行為に属するふるまいをした場
 合、主催者は適切と判断した範囲で、当該行為を行っ
 た者に対する警告や、会場からの追放などの対応を行
 います。\nもしあなたがハラスメントに遭った場合、
 他の人がハラスメントに遭っている場合、あるいは他
 に気になることがあったときは、すぐに運営スタッフ
 に連絡していただくようお願いします。\nスタッフは
 名札（赤）を着用しています。\n\nOSH Slack ダイレクト
 メッセージ @mmorito\n
LOCATION:大手街倶楽部 広島県広島市中区大手町１丁目４
 −１７
URL:https://techplay.jp/event/959744?utm_medium=referral&utm_source=ics&utm
 _campaign=ics
END:VEVENT
END:VCALENDAR
