BEGIN:VCALENDAR
VERSION:2.0
PRODID:-//https://techplay.jp//JP
CALSCALE:GREGORIAN
METHOD:PUBLISH
X-WR-CALDESC:確定申告の知っておくべきポイント ～基礎・
 準備編～
X-WR-CALNAME:確定申告の知っておくべきポイント ～基礎・
 準備編～
X-WR-TIMEZONE:Asia/Tokyo
BEGIN:VTIMEZONE
TZID:Asia/Tokyo
BEGIN:STANDARD
DTSTART:19700101T000000
TZOFFSETFROM:+0900
TZOFFSETTO:+0900
TZNAME:JST
END:STANDARD
END:VTIMEZONE
BEGIN:VEVENT
UID:959838@techplay.jp
SUMMARY:確定申告の知っておくべきポイント ～基礎・準備
 編～
DTSTART;TZID=Asia/Tokyo:20241119T190000
DTEND;TZID=Asia/Tokyo:20241119T203000
DTSTAMP:20260419T184025Z
CREATED:20241003T030203Z
DESCRIPTION:イベント詳細はこちら\nhttps://techplay.jp/event/95983
 8?utm_medium=referral&utm_source=ics&utm_campaign=ics\n\n確定申告の
 知っておくべきポイント ～基礎・準備編～\nクリーク
 ･アンド･リバー社（C&R社）は11月19日（火） に、確
 定申告が必要なクリエイターの方を対象に、確定申告
 の基礎と準備に関するウェビナーを実施します。\n個
 人事業主としてお仕事を始めた方、副業を始めた方・
 している方など、毎年確定申告に向けて多くの時間を
 かけ悩みながら準備をされているかと思います。\nお
 金に関することなので、知らないことで損をしている
 ことはないか、漠然と怖さを感じている方も多いと思
 います。例えば会計ソフトを使っている方は、知識が
 なくても比較的簡単に作成できる反面、間違いがわか
 りにくく結果ぐちゃぐちゃになってしまったり、本当
 にあっているのかがわからず不安をお持ちではないで
 しょうか？\n今回実施する、「確定申告の知っておく
 べきポイント～基礎・準備編～」ウェビナーでは、元
 国税調査官で税理士の児玉先生より、作成前に準備し
 ておくことや基本的な知識についてポイントを絞って
 お話いただきます。\n今後、本格的に確定申告に向け
 て個人事業主の方、副業をされている方それぞれ向け
 に「作成編」を実施していく予定ですので、是非「基
 礎・準備編」からお申込みご参加ください。\nこんな
 ことをお話しします\n\n事業を始める前、始めた後に気
 を付けること\n副業と本業の違い\n準備すること\n会計
 ソフトの使い方\n経費になるもの、ならないもの\n\nこ
 んな方におススメ！\n\n確定申告を予定している個人事
 業主の方\n副業をされている方\n財務・会計について知
 識を身につけたい方\n\n\nスケジュール\n\n\n\n時間\n内容
 \nspeaker\n\n\n\n\n19：00～19：05\nオープニング\n\n\n\n19：02
 ～20：20\n講演\n児玉 光史氏\n\n\n20：20～20：30\n質疑応答
 \n\n\n\n20：30～\nクロージング\n\n\n\n\n※ 当日予告なく時
 間配分・内容が変更になる可能性がございます。\n登
 壇者\n児玉 光史（こだま ・こうじ）氏\nこだま税理士
 事務所 代表/税理士\n青山学院大学経済学部経済学科(
 財務会計論専攻)卒\n\n元統括国税調査官。いわゆる国
 税OBと言われる元国家公務員。\n国税専門官として約30
 年勤務、主に法人課税部門に従事していた。\n国税専
 門官として勤務した経験を活かし、中小企業のサポー
 トをすべく税理士事務所を開業。\n様々な部門に従事
 した実績から税務調査に関するポイントを熟知してい
 るため、記帳代行や書類のチェック、税務上の問題の
 洗い直しや経営相談まで、幅広く対応している。\n\n参
 加費\n無料\n当ウェビナーについて\n\n\nこちらのサイト
 からもお申込みいただくことができます。\n\n▼C&R社で
 実施しているオンライン講座・ウェビナー　一覧ペー
 ジhttps://www.c-place.ne.jp/
LOCATION:
URL:https://techplay.jp/event/959838?utm_medium=referral&utm_source=ics&utm
 _campaign=ics
END:VEVENT
END:VCALENDAR
