BEGIN:VCALENDAR
VERSION:2.0
PRODID:-//https://techplay.jp//JP
CALSCALE:GREGORIAN
METHOD:PUBLISH
X-WR-CALDESC:【12月10日会場限定 ：豪華30セッション】01(zero
 ONE)2024｜ビジネスに直結するデータ活用/分析を学ぶ大
 規模カンファレンス
X-WR-CALNAME:【12月10日会場限定 ：豪華30セッション】01(zero
 ONE)2024｜ビジネスに直結するデータ活用/分析を学ぶ大
 規模カンファレンス
X-WR-TIMEZONE:Asia/Tokyo
BEGIN:VTIMEZONE
TZID:Asia/Tokyo
BEGIN:STANDARD
DTSTART:19700101T000000
TZOFFSETFROM:+0900
TZOFFSETTO:+0900
TZNAME:JST
END:STANDARD
END:VTIMEZONE
BEGIN:VEVENT
UID:959999@techplay.jp
SUMMARY:【12月10日会場限定 ：豪華30セッション】01(zeroONE)2
 024｜ビジネスに直結するデータ活用/分析を学ぶ大規模
 カンファレンス
DTSTART;TZID=Asia/Tokyo:20241210T100000
DTEND;TZID=Asia/Tokyo:20241210T201000
DTSTAMP:20260424T015312Z
CREATED:20241004T022600Z
DESCRIPTION:イベント詳細はこちら\nhttps://techplay.jp/event/95999
 9?utm_medium=referral&utm_source=ics&utm_campaign=ics\n\n概要\n昨年5\
 ,500名以上にエントリーいただいた「01(zeroONE)」がオフ
 ラインイベントにパワーアップして開催！\nデータは
 業務の効率化や売上、利益の向上に大きなインパクト
 をもたらす、ビジネスにおいて信頼できるパートナー
 です。しかし大量のデータを効率的に活用してビジネ
 スの力に変えるためには、データ基盤の構築はもちろ
 ん、組織開発やAI活用など、関係者の多角的な視点か
 らデータ活用を推進することが必要不可欠です。primeNu
 mber社が毎年主催するデータ活用促進イベント「01(zeroON
 E)」。今回は「DATA is TRUTH ～データに学び・出会える一
 日～」をテーマに、データの力を最大限引き出すため
 の取り組みや事例を、データマネジメントや経営、人
 事など、多様な分野のスペシャリストがご紹介します
 。ロールモデルとの出会いを提供することで、参加さ
 れた皆さまがデータ活用をリードし、データを信頼で
 きる真のパートナーにできる場を提供します。※本イ
 ベントは事前登録制です※無料・入退室自由ですので
 、ぜひお気軽にお申し込みください。 \n\nタイムスケ
 ジュール\n\n\n\n時間\n内容\n\n\n10:00〜11:00\n\nDATA is TRUTH 
 〜あらゆるデータを、ビジネスの力に変えるために〜\
 nIPA（独立行政法人情報処理推進機構） 平本 健二氏株
 式会社マネーフォワード 野村 一仁氏株式会社カミナ
 シ 諸岡 裕人氏株式会社primeNumber 田邊 雄樹\n事業成長
 を目指す人、社会課題の解決を目指す人。今や全ての
 人の目標達成にとってデータは欠かすことのできない
 原動力であり、データを信頼できるパートナーにでき
 るか否かは成否を分つ重要な分岐点です。01のオープ
 ニングを飾るKEYNOTEでは、この重要課題に対して、デー
 タを駆使して目標達成に挑戦されている経営者をゲス
 トにお迎えし、primeNumber代表取締役CEOの田邊雄樹より
 弊社の提供価値やプロダクト戦略についてご紹介いた
 します。また、セッション後半ではIPA 独立行政法人情
 報処理推進機構デジタル基盤センター長の平本健二氏
 をお迎えしAIのビジネス活用におけるデータの壁やガ
 バナンスに対して考察していきます。\n\n\n\n11:25～12:05\
 n\n安定したシステム連携で叶える電力取引自動化に向
 けた取り組み\nＥＮＥＯＳリニューアブル・エナジー
 株式会社 江蔵 均氏ＥＮＥＯＳリニューアブル・エナ
 ジー株式会社 根津 本樹氏株式会社Rounda 岩田 匠氏株式
 会社primeNumber 薬丸 信也\n再生可能エネルギー発電事業
 を手掛けるＥＮＥＯＳリニューアブル・エナジー社は
 、発電事業により得られた豊富なデータを集約・分析
 のうえ事業戦略策定に役立てています。本セッション
 では、同社のデータ活用の事例をご紹介いただくと共
 に、データ基盤構築を情報システム部門が担う意義や
 そのメリットについても深掘りします。\n\n\n\n11:25～12:
 05\n\nデータ基盤における異なる2社の挑戦 〜データカ
 タログがもたらす価値〜\n株式会社サミーネットワー
 クス 小林 克樹氏戸田建設株式会社 一色 晃彰氏株式会
 社primeNumber 岡野 敦史\nデータ基盤は、組織構造、現場
 課題、活用ビジョンなど複合的な要件や制約の下で構
 築されます。 建設業を主とする戸田建設株式会社と、
 エンタメ業を主とする株式会社サミーネットワークス
 の各社は、全く異なる用途や条件の中でデータ基盤を
 構築していますが、 両社の基盤には「利用者の活用を
 想定したデータ基盤」という共通項が存在し、利用者
 データ活用を滞りなく進めるピースとしてデータカタ
 ログが介在しています。 本セッションでは、各社の基
 盤構築の歩みを紐解きながら、「運用を見据えたデー
 タ基盤とは」を議論します。\n\n\n\n12:30～13:10\n\nデータ
 ドリブンな人事組織への変革に向けた、一人の元マー
 ケターの挑戦\nSansan株式会社 石橋 政幸氏\n昨今バック
 オフィス領域におけるDXや生産性向上の必要性が謳わ
 れる中、データ活用は第一に着目される課題かと思い
 ます。しかし「見るべきデータが揃っていない・使え
 る状態になっていない・管理者がいない」など、デー
 タを意志決定や業務改善に活かすようにするまでに大
 きなハードルがあるかと思います。本セッションでは
 、Sansan株式会社 人事本部の主に採用領域においてデー
 タ活用を始めていくあたりどのような課題を乗り越え
 て、現状どのようにデータ活用を進めているのかにつ
 いて、推進者である非エンジニアの元マーケターが語
 ります。データドリブンな形での意志決定・オペレー
 ション設計を志すすべての方におすすめできる内容で
 す。\n\n\n\n12:30～13:10\n\nTROCCOユーザーに聞く！データ基
 盤を構築する上でのTROCCO活用方法\nアンドデジタル株
 式会社 堀川 工望氏DATUM STUDIO株式会社 梶谷 美帆氏株式
 会社ヤプリ 阿部 昌利氏株式会社primeNumber 池本 恵里香\
 n本セッションでは、「TROCCO®」を活用されている3名を
 招き、データ基盤においてどのようにTROCCOを使いこな
 しているのか、TROCCOの推しポイントや今後のデータ基
 盤の展望についてパネルディスカッションを行います
 。データ活用を始めてみたいけど、どこから始めて良
 いかわからない方へ、始めるきっかけを掴んでもらえ
 ることを目指し、お話しいただきます。\n\n\n\n13:35〜14:
 15\n\n統合データ基盤を中心としたSHIFTの基幹システム
 構築\n株式会社SHIFT 大網 康志氏\n株式会社SHIFTは、従業
 員数や売上高、グループ会社数が毎年増加し続ける成
 長企業です。そのSHIFTの成長を支えるため、ベスト・
 オブ・ブリード型の社内基幹システムを構築しました
 。この基幹システムの中核には統合データ基盤があり
 、各種の個別システムを連携させ、企業としての全体
 最適化を実現しています。本セッションでは、SHIFTが
 統合データ基盤を実現してきたプロセスとその活用事
 例についてご紹介いたします。\n\n\n\n13:35〜14:15\n\nデー
 タでビジネスの未来を創る：成長する企業のデータ人
 材のキャリアとこれからの可能性\nアソビュー株式会
 社 霧生 隼稀氏株式会社タイミー 土川 稔生氏、栗田 
 雅史氏株式会社primeNumber 大澤 温\n各社のデータ活用状
 況やデータチーム、データ人材のキャリアについて10
 分ずつお話しいただくライトニングトーク形式のセッ
 ションです。データ分析の現場での実践的な取り組み
 や、データチームが果たす重要な役割に加え、今後の
 チーム拡充やキャリアについてもお話しいただき、デ
 ータが企業のビジネス成長をどのように支えているか
 を探ります。今後のデータ活用人材のキャリアやデー
 タ人材確保の課題について、各社の取り組みや挑戦に
 ついてお話しします。\n\n\n\n14:40〜15:20\n\nAIドリブンカ
 ンパニー化に向けた組織の成長とデータ基盤の進化\n
 エン・ジャパン株式会社 松尾 祐太郎氏エン・ジャパ
 ン株式会社 濵田 宏一氏\n\n\n\n14:40〜15:20\n\n一人データ
 エンジニアの過去・現在・未来～データ基盤構築を通
 じて乗り越えたい壁とは～\n株式会社IVRy 成田 一生氏
 株式会社HR Force 鈴木 凌氏株式会社mento 松山 勇輝 氏株
 式会社primeNumber 北川 佳奈\nこのセッションでは、一人
 でデータエンジニアリングの職務を担う中で直面する
 各社の挑戦と、どのように立ち向かってきたかについ
 てお話しいただきます。各社内で一人で対応していた
 データエンジニアの方にご登壇いただき、限られたリ
 ソースの中でどのようにして問題を解決し、データを
 扱い、ビジネスに貢献してきたのかを共有します。こ
 れからデータエンジニアとしてキャリアをスタートさ
 せる人や、小規模チームで働いているデータエンジニ
 アに向けて、教訓やアドバイスもお伝えいただきます
 。\n\n\n\n15:45〜16:25\n\n聴取者データ分析が変えるコンテ
 ンツ戦略の未来\n株式会社TBSラジオ 富田 大滋氏株式会
 社primeNumber 山本 健太株式会社primeNumber 下坂 悟\nプラッ
 トフォームのデジタル化が進んだ現代においては、顧
 客の属性、行動習慣、製品・サービスへのエンゲージ
 メントなど、あらゆるデータが戦術を立てる手がかり
 になります。 株式会社TBSラジオは、分析対象とする視
 聴者データの粒度の見直しや、AIによる分析視点の多
 角化によって聴取者分析を進め、仮説に基づいた戦略
 的なコンテンツ配信で事業成果を高めています。 本セ
 ッションでは、データを武器に、ラジオ放送に留まら
 ない事業拡大を推し進める同社の事例を通して、事業
 に価値を返すデータ分析の在り方を探ります。\n\n\n\n15
 :45〜16:25\n\nメルカリの事例に学ぶ ～CRMにおけるデータ
 活用の民主化とガバナンスの両立～\n株式会社メルカ
 リ 田中 克季氏\nCRM（顧客関係管理）を通じた顧客への
 アプローチでは、多くの部門が様々なプロジェクトで
 データを活用し、顧客ロイヤリティの向上と事業成長
 を目指します。一方で、そのようなデータ活用の民主
 化は、しばしばガバナンスを維持管理する上での課題
 を伴います。事業のスピードを維持しつつ、データ活
 用をスケールさせるためには、メンテナビリティやデ
 ータ品質管理などの考慮が不可欠です。 本セッション
 では、メルカリがこれらの課題をどのように技術的に
 解決していったか、具体的な事例に基づいてアプロー
 チの詳細をご紹介します。\n\n\n\n16:50〜17:30\n\nTHE RevOps 
 〜The Model型ビジネスモデルで成果を出すためのデータ
 活用術〜\n株式会社primeNumber 下坂 悟\n事業推進を率先
 するリーダーにおいて、もはや定量数値に基づくマネ
 ジメントを望まない人はいません。しかしながら組織
 設計、業務プロセス、そしてそれを繋ぐデータ活用、
 これらの一部でも欠けてしまうとビジネス目標を達成
 することが難しくなってしまいます。特にThe Model型で
 組織やプロセスを構築されている皆様より、組織・プ
 ロセスをデータで繋いで可視化し成果を出す術（RevOps
 ）について課題感をお聞きします。そこで本セッショ
 ンでは、primeNumber COOの下坂悟より弊社の自社事例とRevO
 ps実現に向けたノウハウについてご紹介します。\n\n\n\n
 16:50〜17:30\n\nデータオーケストレーションクラウド構
 想 〜あらゆるお客様のデータ活用を支えるプロダクト
 戦略とエンジニアの挑戦〜\n株式会社primeNumber 鈴木 健
 太\nprimeNumberは2015年の創業以来、日本発のデータ分析
 基盤支援サービスである「TROCCO®」を中心にデータ活
 用基盤構築のご支援を行なってきました。2024年には、
 より広範囲にデータ活用を志す皆様のご支援を行うた
 めに、「データオーケストレーションクラウド」構想
 を発表し、データカタログSaaSのCOMETAをリリースしまし
 た。今後、さらにデータ活用支援のケイパビリティを
 拡大するため、日々プロダクト開発に励んでいます。
 本セッションでは、Keynoteでご紹介したプロダクトアッ
 プデートに関して、primeNumber CTOの鈴木健太より技術的
 な情報も含めてDeep Diveしていきます。\n\n\n\n17:45〜18:30\
 n\n事例から学ぶデータドリブン経営とCFO組織の取り組
 み\n一般社団法人日本CFO協会 石橋 善一郎氏LINEヤフー
 株式会社 坂上 亮介氏株式会社primeNumber 藤井 裕貴\nデ
 ータドリブン経営を推進する上でCFO組織の役割にも変
 化が生じています。FP&A(Financial Planning & Analysis)をCFO組
 織に設置し、各事業における財務/非財務の目標設定や
 分析を行うビジネスパートナーとしての役割・機能を
 担うという考え方です。そしてこれを実現するために
 財務/非財務に関わらず必要なデータを収集・分析する
 基盤の整備が重要になります。そこで本セッションで
 はこの領域の実践者をお招きし、弊社の自社事例もご
 紹介しながらCFO組織の在るべき姿を考察していきます
 。\n\n\n\n17:45〜18:30\n\nデータの逆説と不都合な現実\nデ
 ジタル庁 樫田 光氏株式会社primeNumber 山本 健太\nデー
 タにおいて「何かしらのツールを導入する」「とりあ
 えず専門部署を作る」といったわかりやすいアクショ
 ンと、実際にビジネスで価値を出すために現実的に大
 切なことの間には、誤解もしくは大きな溝があるよう
 に思います。データについて世間で喧伝されている、
 わかりやすいが不正確な「寓話」とは一線を画す、現
 実世界の「逆説」と「不都合な現実」を、事業会社や
 省庁といった分野での経験を持つ樫田光氏と、データ
 エンジニアリング支援の組織立ち上げをリードしてき
 たprimeNumber社の山本健太が本音でトークしていくセッ
 ションです。\n\n\n\n18:40〜20:10\n\nNetworking Party\n\n\n\n\n※ 
 当日予告なく時間配分・内容が変更になる可能性がご
 ざいます。\n登壇者\n\n\n\n\n平本 健二\nIPA（独立行政法
 人情報処理推進機構）デジタル基盤センター長AIセー
 フティインスティテュート副所長、事務局長\nSIからコ
 ンサルティング会社、経済産業省、デジタル庁を経て
 現職。デジタル庁でデータ戦略統括（実質上CDO）とし
 てデータ戦略や政府の相互運用性フレームワークの取
 り纏めと推進を担当し、現職で、戦略を踏まえた社会
 のデータ基盤、活用環境の整備、AI推進を実施。さら
 に、企業のDXやデータガバナンスを推進。国際調整や
 展開にも取り組み、オープンデータも含む国連電子政
 府調査2022のオープンガバメント指標で日本の1位を実
 現。\n\n\n\n\n\n野村 一仁\n株式会社マネーフォワードグ
 ループ執行役員 CDAO (Chief Data and Analytics Officer)\n2007年に
 アクセンチュア株式会社に入社、デジタルコンサルテ
 ィングシニアマネージャを担当。2017年から楽天グルー
 プ株式会社に入社、データサイエンスコンサルティン
 グ部門の部門長を担当。2021年よりスマートニュース株
 式会社において、全社データ戦略立案のグループマネ
 ージャーを担当。当社には2023年12月に入社し、データ
 戦略室を管掌、グループ全体のデータ戦略・実行を担
 当。\n\n\n\n\n\n諸岡 裕人\n株式会社カミナシ代表取締役C
 EO\n2009年 慶応大学経済学部卒業後、株式会社リクルー
 トスタッフィングで営業職を担当。2012年 家業である
 ワールドエンタプライズ株式会社に入社し、LCCの予約
 センターや機内食工場の立ち上げなどに携わる。その
 中で感じた現場の課題を解決するため、2016年12月に株
 式会社カミナシ（旧社名：ユリシーズ株式会社）を創
 業し、ノンデスクワーカーの業務を効率化する現場DX
 プラットフォーム「カミナシ」を開発。\n\n\n\n\n\n田邊 
 雄樹\n株式会社primeNumber代表取締役CEO\n慶応義塾大学経
 済学部卒。株式会社日本総合研究所に入社し、主に製
 造業向けシステムコンサルティング、それに伴うプロ
 ジェクトマネジメントに従事。その後、デジタル・ア
 ドバタイジング・コンソーシアム株式会社に参画。マ
 ーケティングテクノロジー分野のビジネスやプロダク
 ト開発に携わる中で、同関連会社役員を経て、横浜市
 内で株式会社primeNumberを創業。\n\n\n\nこんな人におすす
 め\n\nデータ分析技術とトレンドに関心がある\nデータ
 マネジメントについて学びたい\n社内の「DX化」推進に
 課題がある\nAI活用×データガバナンスに触れたい\n\n参
 加にあたっての注意事項\n\n本イベントへのご参加は、
 事前お申込が必要となります。\nフォームにご入力い
 ただいたメールアドレス宛にご案内メールをお送りし
 ますので、メール内リンクより当日受付用パス・視聴
 ご希望セッションのチェックをお願いいたします。\n\n
LOCATION:東京ミッドタウン・ホール 〒107-0052　東京都港区
 赤坂9-7-2 ミッドタウン・イーストB1F
URL:https://techplay.jp/event/959999?utm_medium=referral&utm_source=ics&utm
 _campaign=ics
END:VEVENT
END:VCALENDAR
