BEGIN:VCALENDAR
VERSION:2.0
PRODID:-//https://techplay.jp//JP
CALSCALE:GREGORIAN
METHOD:PUBLISH
X-WR-CALDESC:「WebRTC」が作るコミュニケーションの未来
X-WR-CALNAME:「WebRTC」が作るコミュニケーションの未来
X-WR-TIMEZONE:Asia/Tokyo
BEGIN:VTIMEZONE
TZID:Asia/Tokyo
BEGIN:STANDARD
DTSTART:19700101T000000
TZOFFSETFROM:+0900
TZOFFSETTO:+0900
TZNAME:JST
END:STANDARD
END:VTIMEZONE
BEGIN:VEVENT
UID:9600@techplay.jp
SUMMARY:「WebRTC」が作るコミュニケーションの未来
DTSTART;TZID=Asia/Tokyo:20140320T190000
DTEND;TZID=Asia/Tokyo:20140320T220000
DTSTAMP:20260420T111552Z
CREATED:20140319T091056Z
DESCRIPTION:イベント詳細はこちら\nhttps://techplay.jp/event/9600?
 utm_medium=referral&utm_source=ics&utm_campaign=ics\n\n\n  \n    手紙
 、電話、インターネット。\n  \n  \n    テクノロジーの
 進歩に合わせてコミュニケーションの手段も変容して
 きました。\n  \n  \n    \n  \n  \n    ここ最近にわかに注目
 を集めているテクノロジー「WebRTC」をご存知でしょう
 か？サーバー不要、ブラウザ間のP2Pでビデオ、音声、
 データなどが共有できるテクノロジーでリアルタイム
 チャット、対戦ゲーム、ファイル共有など今後多岐に
 わたる活用方法が期待されています。\n  \n  \n    \n  \n  
 \n    海外ではWebRTCを活用したスタートアップがいくつ
 も立ち上がっており、先日話題になった多人数ビデオ
 チャットサービス「appear.in」もWebRTCの技術が活用され
 ています。\n  \n  \n    \n  \n  \n    このイベントでは、様
 々なバックグラウンドを持つ起業家たちがWebRTCの可能
 性をディスカッションします。新しいビジネスの種を
 探している新規事業ご担当者や将来的に起業をお考え
 の方、新しいテクノロジーが大好きなエンジニアの方
 はぜひお集まりください。\n  \n  \n    \n  \n  \n    ---------
 ------------------------------------------\n  \n  \n    開催概要\n  \
 n  \n    ■日　時：2014年3月20日（木）19:00（18:30受付開
 始）〜21:30\n  \n  \n    ■場　所：東京都中央区銀座7-2-6
 リクルートメディアテクノロジーラボ\n  \n  \n    ■参
 加費：無料\n  \n  \n    ■主　催：NTTコミュニケーショ
 ンズ株式会社\n  \n  \n    \n  \n  \n    ※ディスカッション
 終了後、登壇者を囲む懇親会（アルコール、その他ド
 リンクをご用意します）を開催致します。\n  \n  \n    \n
   \n  \n    【登壇者】\n  \n  \n    ◎古川健介（ふるかわ
 けんすけ）\n  \n  \n    2000年に学生コミュニティである
 ミルクカフェを立ち上げ、月間1000万pvの大手サイトに
 成長させる。2004年、レンタル掲示板を運営する株式会
 社メディアクリップの代表取締役社長に就任。翌年、
 株式会社ライブドアにしたらばJBBSを事業譲渡後、同社
 にてCGM事業の立ち上げを担当。2006年、株式会社リクル
 ートに入社、事業開発室にて新規事業立ち上げを担当
 。2009年6月リクルートを退職し、Howtoサイト「nanapi」を
 運営する株式会社ロケットスタート(現・株式会社nanapi
 )代表取締役に就任、現在に至る。\n  \n  \n    nanapi(http:/
 /nanapi.jp/)\n  \n  \n    ◎岩佐琢磨（いわさたくま）\n  \n  
 \n    2007年12月より、コネクテッド・ハードウェアで生
 活をもっと便利に・豊かにする、という信念のもと、
 ネット接続型電子機器の開発・販売を行う株式会社Cere
 vo(読み：セレボ)を立ち上げ、代表取締役に就任。世界
 初となるインターネットライブ配信機能付きデジタル
 カメラ『CEREVO CAM\n    live!』や、既存のビデオカメラを
 ライブ配信機能付きに変えてしまう配信機器『LiveShell
 』シリーズなどを販売。最近ではWiFi対応電源タップ『
 OTTO』などコネクテッド・インテリア分野にも進出。\n 
  \n  \n    Cerevo(http://www.cerevo.com/)\n  \n  \n    ◎水口哲也（
 みずぐちてつや）\n  \n  \n    慶應義塾大学大学院メデ
 ィアデザイン研究科特任教授　金沢工業大学客員教授
 。全ての創作は人間の欲求や本能の外在化であるとい
 う視点から、エンターテインメントを中心に世界的な
 創作活動を続けてきた。ゲーム『セガラリー』(1994)、
 『スペースチャンネル5』(1999)、『Rez』(2001)、『ルミネ
 ス』(2004)、『Child of Eden』(2010)\n    、また音楽ユニット
 ・元気ロケッツ(Genki Rockets)の作詞プロデュースや映像
 演出など代表作多数。近年は、これまでのクリエイテ
 ィブメソッドを「Wants思考法」に体系化し、新規プロ
 ジェクトやサービス構築など、数多くのファシリテー
 ションを展開している。\n  \n  \n    ◎伊藤弘和（いと
 うひろかず）\n  \n  \n    1999年、株式会社オンザエッヂ
 入社、同社データセンター事業立ち上げや各種Linuxデ
 ィストリビューションのローカライズおよびシステム
 開発に携わる。2005年、株式会社ライブドアマーケティ
 ングを経て、2006年3月 株式会社イトクロを設立代表取
 締役兼 CTOに就任。退任後 2011年8月 ゴチート株式会社
 を設立。\n    サービス開発や受託開発を行う傍ら2013年
 より弁護士ドットコム株式会社 技術顧問やスタートア
 ップ企業への技術支援などを行っている。\n  \n  \n    
 ◎大前創希（おおまえそうき）\n  \n  \n    (株)クリエイ
 ティブホープ 代表取締役会長 (株)OMOTENASHI 取締役 ピコ
 もん（株）代表取締役CEO （株）C.E.Strategy 取締役 アク
 セス解析イニシアチブ副代表 東京造形大学非常勤講師
 （2013年4月より） ビジネスブレークスルー大学非常勤
 講師（2013年10月より）\n  \n  \n    2002年に株式会社クリ
 エイティブホープを創業し、戦略面を重視したWebコン
 サルティングを展開。Web戦略の立案・ブランディング
 から、アクセス解析に基づく科学的サイト分析、Webサ
 イトの設計・構築・運用に至るワンストップサービス
 を立ち上げ、自らもWebコンサルタントとして数々のナ
 ショナルブランドや国際的な企業・団体の大規模Webサ
 イトを成功に導く。2009年4月には、アクセス解析の協
 議会「アクセス解析イニシアチブ(a2i)」の立ち上げに
 参画し、副代表に就任する。2012年10月に（株）OMOTENASHI
 を設立。おもてなしを経営に組み入れるための指標や
 手法の開発。2013年4月にピコもん（株）を設立。Web上
 で訪問者とのコミュニケーションを円滑化させるキャ
 ラクターを介したレコメンドエンジンの開発に着手。\
 n  \n  \n    クリエイティブホープ（http://www.creativehope.co.
 jp）\n  \n  \n    ピコもん（http://picomon.jp）\n  \n
LOCATION:リクルートメディアテクノロジーラボ 東京都中
 央区銀座7-2-6リクルートアネックス1ビル B1F
URL:https://techplay.jp/event/9600?utm_medium=referral&utm_source=ics&utm_c
 ampaign=ics
END:VEVENT
END:VCALENDAR
