BEGIN:VCALENDAR
VERSION:2.0
PRODID:-//https://techplay.jp//JP
CALSCALE:GREGORIAN
METHOD:PUBLISH
X-WR-CALDESC:ビジネスでの活用法とリスクを学ぶ はじめて
 のChatGPT
X-WR-CALNAME:ビジネスでの活用法とリスクを学ぶ はじめて
 のChatGPT
X-WR-TIMEZONE:Asia/Tokyo
BEGIN:VTIMEZONE
TZID:Asia/Tokyo
BEGIN:STANDARD
DTSTART:19700101T000000
TZOFFSETFROM:+0900
TZOFFSETTO:+0900
TZNAME:JST
END:STANDARD
END:VTIMEZONE
BEGIN:VEVENT
UID:960241@techplay.jp
SUMMARY:ビジネスでの活用法とリスクを学ぶ はじめてのCha
 tGPT
DTSTART;TZID=Asia/Tokyo:20241023T140000
DTEND;TZID=Asia/Tokyo:20241023T150000
DTSTAMP:20260421T045711Z
CREATED:20241007T045858Z
DESCRIPTION:イベント詳細はこちら\nhttps://techplay.jp/event/96024
 1?utm_medium=referral&utm_source=ics&utm_campaign=ics\n\nビジネスで
 の活用法とリスクを学ぶ はじめてのChatGPT\n概要\nこの
 セミナーでは、AI技術の一つであるChatGPTの活用方法に
 ついて学びます。ChatGPTに興味はあるけど何から始めれ
 ばいいか分からない方、どういったことがChatGPTででき
 るのかを知りたい方向けに、基本操作と具体的な活用
 事例を解説します。実演を交えながら解説しますので
 、この機会に一緒に始めてはいかがでしょうか。\nタ
 イムスケジュール\n\n\n\n時間\n内容\n\n\n\n\n13:50〜14:00\n
 受付\n\n\n14:00〜14:05\nオープニング\n\n\n14:05〜15:00\n①Chat
 GPTとは？​②具体的な活用事例解説​・日程調整メー
 ル作成​・自社分析​・販路拡大戦略立案　・・・等
 ​③まとめ郵便料金改定\n\n\n15:00〜15:05\nアンケート回
 答\n\n\n\n※ 当日予告なく時間配分・内容が変更になる
 可能性がございます。\n登壇者\n株式会社BottoK​シニア
 マネージャー　井手　景子\n参加費\n無料\n会場\nオン
 ライン（Zoom）\n注意事項\n\nリクルーティングや勧誘等
 の採用目的でのイベント参加はお断りしております。\
 n申込内容に偽りがあると当社が判断した場合、参加を
 お断りすることがございます。\n事実と違う場合、参
 加をお断りすることがございます。\nキャンセル待ち
 ・補欠・落選の方はご参加いただくことが出来ません
 のでご了承ください。\n欠席される場合は、お手数で
 すが速やかにキャンセル処理をお願い致します。\n無
 断キャンセルや欠席が続く場合、次回以降の参加をお
 断りすることがございます。\n申込時アンケートに有
 効な回答が入っていない方はご参加いただくことが出
 来ませんのでご了承ください。\n
LOCATION:
URL:https://techplay.jp/event/960241?utm_medium=referral&utm_source=ics&utm
 _campaign=ics
END:VEVENT
END:VCALENDAR
