BEGIN:VCALENDAR
VERSION:2.0
PRODID:-//https://techplay.jp//JP
CALSCALE:GREGORIAN
METHOD:PUBLISH
X-WR-CALDESC:AWS WAF運用の課題を解決！自動運用で叶えるセ
 キュリティ強化の方法
X-WR-CALNAME:AWS WAF運用の課題を解決！自動運用で叶えるセ
 キュリティ強化の方法
X-WR-TIMEZONE:Asia/Tokyo
BEGIN:VTIMEZONE
TZID:Asia/Tokyo
BEGIN:STANDARD
DTSTART:19700101T000000
TZOFFSETFROM:+0900
TZOFFSETTO:+0900
TZNAME:JST
END:STANDARD
END:VTIMEZONE
BEGIN:VEVENT
UID:960382@techplay.jp
SUMMARY:AWS WAF運用の課題を解決！自動運用で叶えるセキュ
 リティ強化の方法
DTSTART;TZID=Asia/Tokyo:20241024T130000
DTEND;TZID=Asia/Tokyo:20241024T134500
DTSTAMP:20260423T022407Z
CREATED:20241008T021402Z
DESCRIPTION:イベント詳細はこちら\nhttps://techplay.jp/event/96038
 2?utm_medium=referral&utm_source=ics&utm_campaign=ics\n\nAWS WAF運用の
 課題を解決！自動運用で叶えるセキュリティ強化の方
 法\n概要\nAWS WAFは、アプリケーション層へのサイバー
 攻撃を遮断するAWSのセキュリティサービスです。簡単
 に導入でき、従量課金制のため、多くのAWSユーザーに
 利用されています。しかし、AWS WAFの効果を最大化する
 には「運用」が非常に重要で、適切なルールのカスタ
 マイズや誤検知対応などが必要不可欠です。多くの企
 業が、このWAFの運用に課題を抱えています。\n実際、
 マネージドルールを導入したまま適切に運用されてい
 なかったり、WAFの運用に必要な専門知識や人材が不足
 していたり、AWS WAFを適用したものの、最新のサイバー
 攻撃に対応するルール更新や、最適なルールカスタマ
 イズ、誤検知対応が出来ていないといった運用上の課
 題をよく耳にします。適切にWAFを運用できなければ、
 サイバー攻撃の被害に遭うリスクが高まるだけでなく
 、正常な通信を誤って遮断し、クラウドサービスの可
 用性を低下させる可能性もあります。\n本セミナーで
 は、WAF自動運用サービス「WafCharm」を活用し、WAF運用
 にかかる工数を削減しながら、自社に最適な運用を実
 現し、セキュリティを強化する方法をご紹介いたしま
 す。AWS WAFやAzure WAFなど、パブリッククラウドWAFの運用
 に課題を感じているご担当者様におすすめの無料セミ
 ナーです。ぜひご参加ください！\n※本セミナーの定
 員は100名です。100名を超えた場合は、申込を締め切り
 ますので、予めご了承ください。\n--------------------------
 -------------------主催：株式会社サイバーセキュリティク
 ラウド日時：2024年10月24日（木）13:00～13:45場所：オン
 ライン費用：無料セミナーへの申込、詳細：https://go.wa
 fcharm.com/20241024/techplay-------------------------------------------\n
 こんな方におすすめです！\n\nAWSやAzureなどのパブリッ
 ククラウドセキュリティを強化したい\nリソース不足
 でパブリッククラウドWAFの運用まで手が回っておらず
 、ログの精査やルールカスタマイズが出来ていない\n
 マネージドルールを活用しているが、ルールがブラッ
 クボックスで不安を感じている\n誤検知・過検知を軽
 減して自社サービス/システムの可用性を高めたい\n\n
 注意事項\n\nリクルーティング、勧誘など、採用目的で
 のイベント参加はお断りしております。\nキャンセル
 待ち・補欠・落選の方はご参加いただくことが出来ま
 せんのでご了承ください。\n欠席される場合は、お手
 数ですが速やかにキャンセル処理をお願い致します。\
 n無断キャンセルや欠席が続く場合、次回以降の参加を
 お断りさせていただく場合がございます。\n
LOCATION:
URL:https://techplay.jp/event/960382?utm_medium=referral&utm_source=ics&utm
 _campaign=ics
END:VEVENT
END:VCALENDAR
