BEGIN:VCALENDAR
VERSION:2.0
PRODID:-//https://techplay.jp//JP
CALSCALE:GREGORIAN
METHOD:PUBLISH
X-WR-CALDESC:【無料Webセミナー】Qlik Talend Cloud概要：リアル
 タイムデータ統合とデータ品質を実現するデータファ
 ブリック
X-WR-CALNAME:【無料Webセミナー】Qlik Talend Cloud概要：リアル
 タイムデータ統合とデータ品質を実現するデータファ
 ブリック
X-WR-TIMEZONE:Asia/Tokyo
BEGIN:VTIMEZONE
TZID:Asia/Tokyo
BEGIN:STANDARD
DTSTART:19700101T000000
TZOFFSETFROM:+0900
TZOFFSETTO:+0900
TZNAME:JST
END:STANDARD
END:VTIMEZONE
BEGIN:VEVENT
UID:960395@techplay.jp
SUMMARY:【無料Webセミナー】Qlik Talend Cloud概要：リアルタ
 イムデータ統合とデータ品質を実現するデータファブ
 リック
DTSTART;TZID=Asia/Tokyo:20241022T140000
DTEND;TZID=Asia/Tokyo:20241022T153000
DTSTAMP:20260420T105804Z
CREATED:20241008T040315Z
DESCRIPTION:イベント詳細はこちら\nhttps://techplay.jp/event/96039
 5?utm_medium=referral&utm_source=ics&utm_campaign=ics\n\nQlik Talend Clou
 d概要：リアルタイムデータ統合とデータ品質を実現す
 るデータファブリック\nQlik Talend Cloud は、2023年に Qlik 
 が Talend を買収したことにより生まれ変わった包括的
 な統合プラットフォームです。組織のデータをリアル
 タイムで統合・変換し、あらゆる分析・機械学習・デ
 ジタルトランスフォーメーションのためのデータパイ
 プラインを構築します。エージェントレスでデータソ
 ースへの負荷や影響を最小限に抑えつつ、高速にデー
 タ転送を行ったり、クラウドデータウェアハウスを構
 築したりすることができます。\nこのセッションでは
 、Qlik Talend Cloudの全体像と各コンポーネントの概要に
 ついて解説いたします。\n\nタイムスケジュール\n\n\n\n
 時間\n内容\n\n\n\n\n14:00 〜 15:30\nQlik Talend Cloud概要\n\n\n\n
 ※ 当日予告なく時間配分・内容が変更になる可能性が
 ございます。\n登壇者\n\n中嶋　翔クリックテック・ジ
 ャパン株式会社ソリューション技術部 プリンシパルソ
 リューションアーキテクト\nコンサルティング企業に
 てBI導入、データ分析、機械学習モデル構築、AI活用支
 援などのプロジェクトを経て2018年11月にクリックテッ
 ク・ジャパン株式会社に入社。小売・流通、製造、金
 融などのクライアントに対しQlikソリューションの導入
 提案を支援している。その他、技術書籍の執筆やカン
 ファレンス、セミナーへの登壇、メディアでの技術情
 報発信を通じたマーケティング支援を行っている。\n\n
 参加対象\nデータ統合、データ移行、データ分析にご
 興味がある方、Qlik製品をお取り扱い頂いているパート
 ナー様など、どなたでもご参加いただけます。お気軽
 にご参加ください。\n事前準備\nZoom（Web会議ツール）
 を使用します。あらかじめご利用のPCやタブレット、
 スマートフォンにインストールをお願いします。当セ
 ミナーのURLはお申込みいただいた方に、セミナー開催
 日前日までにお知らせいたします。
LOCATION:
URL:https://techplay.jp/event/960395?utm_medium=referral&utm_source=ics&utm
 _campaign=ics
END:VEVENT
END:VCALENDAR
