BEGIN:VCALENDAR
VERSION:2.0
PRODID:-//https://techplay.jp//JP
CALSCALE:GREGORIAN
METHOD:PUBLISH
X-WR-CALDESC:「漫画」「テレビ」「ゲーム」など　メディ
 ア別エンタメ企画書の極意Vol.4 マルチクリエイターが
 贈る、ゲームの企画書とは～
X-WR-CALNAME:「漫画」「テレビ」「ゲーム」など　メディ
 ア別エンタメ企画書の極意Vol.4 マルチクリエイターが
 贈る、ゲームの企画書とは～
X-WR-TIMEZONE:Asia/Tokyo
BEGIN:VTIMEZONE
TZID:Asia/Tokyo
BEGIN:STANDARD
DTSTART:19700101T000000
TZOFFSETFROM:+0900
TZOFFSETTO:+0900
TZNAME:JST
END:STANDARD
END:VTIMEZONE
BEGIN:VEVENT
UID:961168@techplay.jp
SUMMARY:「漫画」「テレビ」「ゲーム」など　メディア別
 エンタメ企画書の極意Vol.4 マルチクリエイターが贈る
 、ゲームの企画書とは～
DTSTART;TZID=Asia/Tokyo:20241118T190000
DTEND;TZID=Asia/Tokyo:20241118T200000
DTSTAMP:20260420T185636Z
CREATED:20241016T005946Z
DESCRIPTION:イベント詳細はこちら\nhttps://techplay.jp/event/96116
 8?utm_medium=referral&utm_source=ics&utm_campaign=ics\n\n「漫画」「
 テレビ」「ゲーム」など メディア別エンタメ企画書の
 極意Vol.4～マルチクリエイターが贈る、ゲームの企画
 書とは～\nクリーク･アンド･リバー社（C&R社）は 2024
 年11月18日（月）ゲームのの企画書に関するウェビナー
 を実施します。\n漫画、テレビ、ゲームといったエン
 タメ業界でジャンルを超えて仕事をするには、採用さ
 れる企画書の制作が不可欠です。このウェビナーでは
 、テレビシナリオ・漫画原作・ゲームシナリオと、多
 岐に渡り活躍してきたクリエイターが、それぞれのメ
 ディアで必要とされるスキルと、採用される企画書の
 作り方について解説します。\n一口にエンタメ業界と
 言っても、メディアごとに求められる企画書やスキル
 は異なります。Vol.4の今回は、**「ゲームの企画書」**
 にスポットをあてて、ストーリー性を重視したゲーム
 企画書の書き方や、ゲームシナリオについてお話を進
 めていきます。\nこんなことをお話します！\n\n一般的
 なゲーム企画書に対し、ストーリー性を重視したゲー
 ム企画書の書き方\n既存のゲームシステムを、ストー
 リーの力で蘇らせよう！\n\nゲームシナリオとゲームテ
 キストの違い「ドラマや映画のシナリオでは、ゲーム
 シナリオは作れない」「何を参考にゲームシナリオを
 構築したらいいのか？」\n\nこんな方にオススメ！\n\n
 エンタメ業界で仕事をされている方\nシナリオや脚本
 の企画書作成で悩まれている方\nアイデアを企画書に
 落とし込む方法を学びたい方\nテレビドラマの企画書
 の書き方を知りたい方\n\nタイムスケジュール\n\n\n\n時
 間\n内容\nspeaker\n\n\n\n\n19：00～19：05\nオープニング\nC&R
 社\n\n\n19：05～19：50\n講演\n白石マミ 氏\n\n\n19：50～20
 ：00\n質疑応答\n\n\n\n20：00～\nクロージング\n\n\n\n\n※ 
 当日予告なく時間配分・内容が変更になる可能性がご
 ざいます。\n登壇者\n白石マミ（しらいし・まみ）氏\n
 脚本家（シナリオライター）・ゲームプランナー・漫
 画原作者日本工学院八王子専門学校　非常勤講師、江
 戸川大学　非常勤講師\n平成5年、『ティアフルムーン
 ・涙ぐむ月』にて、第22回創作ラジオドラマ脚本コン
 クール佳作受賞。\n平成6年『空色パラソル』にて講談
 社第一回オリジナルストーリー大賞受賞。以後、テレ
 ビドラマを始め、漫画原作、コンシューマーゲーム、
 モバイルゲームの企画・シナリオ、小説と活動は多岐
 に渡る。\nTVドラマではフジテレビ系列で一条ゆかり原
 作の連続ドラマ『砂の城』。金曜エンターティメント
 では、北大路欣也主演のスペシャルドラマ『男達の宿
 題』の脚本を執筆。テレ東では小早川警視正シリーズ
 を。\nNHKでは玉木宏主演、土曜ドラマ『氷壁』で企画
 ・脚本協力。BSで『彼女のこんだて帳』の脚本を執筆
 。\nラジオドラマでは、NHKFM青春アドベンチャー『垂直
 の記憶』、『不思議や料理店』等の脚本。\nFMシアター
 では『やさしい歌を歌ってあげる』などの脚本を執筆
 する。\n\n参加対象\nエンタメ業界で働きたい方脚本制
 作、プランナー志望の方学生など\n参加費\n無料\n当ウ
 ェビナーについて\n\n\nこちらのサイトからもお申込み
 いただくことができます。\n\n\n▼C&R社で実施している
 オンライン講座・ウェビナー　一覧ページhttps://www.c-pl
 ace.ne.jp/
LOCATION:
URL:https://techplay.jp/event/961168?utm_medium=referral&utm_source=ics&utm
 _campaign=ics
END:VEVENT
END:VCALENDAR
