BEGIN:VCALENDAR
VERSION:2.0
PRODID:-//https://techplay.jp//JP
CALSCALE:GREGORIAN
METHOD:PUBLISH
X-WR-CALDESC:ビジネスの”現場”を動かすデータドリブン
 組織の作り方【NTTドコモ × ヤマハ発動機 × JR東日本 ×
  三菱UFJ信託銀行 × QUICK】#データ実学 第1弾
X-WR-CALNAME:ビジネスの”現場”を動かすデータドリブン
 組織の作り方【NTTドコモ × ヤマハ発動機 × JR東日本 ×
  三菱UFJ信託銀行 × QUICK】#データ実学 第1弾
X-WR-TIMEZONE:Asia/Tokyo
BEGIN:VTIMEZONE
TZID:Asia/Tokyo
BEGIN:STANDARD
DTSTART:19700101T000000
TZOFFSETFROM:+0900
TZOFFSETTO:+0900
TZNAME:JST
END:STANDARD
END:VTIMEZONE
BEGIN:VEVENT
UID:961249@techplay.jp
SUMMARY:ビジネスの”現場”を動かすデータドリブン組織
 の作り方【NTTドコモ × ヤマハ発動機 × JR東日本 × 三
 菱UFJ信託銀行 × QUICK】#データ実学 第1弾
DTSTART;TZID=Asia/Tokyo:20241206T170000
DTEND;TZID=Asia/Tokyo:20241206T210000
DTSTAMP:20260421T113035Z
CREATED:20241016T063906Z
DESCRIPTION:イベント詳細はこちら\nhttps://techplay.jp/event/96124
 9?utm_medium=referral&utm_source=ics&utm_campaign=ics\n\nイベント概
 要\nデータ実学 第1弾ビジネスの”現場”を動かすデー
 タドリブン組織の作り方\nデータビズラボの『データ
 実学』では、データ領域の現場で培われた実践的な取
 り組みから得られる知見、成功・失敗を通じて得た気
 づきを紹介・発信しています。またそこで得た知見を
 元に、組織におけるデータ活用のあり方やアプローチ
 方法、業務に活かせる実務的なアイデアを共に探求し
 ます。\n第1弾となる今回は、オンライン＆オフラインW
 開催のイベントを実施。「ビジネスの”現場”を動か
 すデータドリブン組織の作り方」をテーマに、ヤマハ
 発動機 × JR東日本 × NTTドコモ × 三菱UFJ信託銀行 × QUIC
 K の5社の取り組みをご紹介いただきます。\nデータ関
 連部署だけではなく、ビジネスの”現場”を巻き込ん
 でデータを活用していきたい方、データドリブンな組
 織を創っていきたい方は、ぜひご参加ください。\nタ
 イムスケジュール\n\n\n\n時間\n内　　　容\n\n\n\n\n17:00〜
 17:05\nオープニング\n\n\n17:05〜17:25\nヤマハ発動機のデジ
 タル戦略とデータ分析民主化の実践ヤマハ発動機株式
 会社　新庄 正己---ヤマハ発動機株式会社は、事業部門
 とDX推進部門が連携し、ビジネスドリブンでDXを進めて
 います。その中で「社員誰もが当たり前にデータを使
 いこなせる会社」を目指し、試行錯誤を経て、現場の
 力を活かしたデータ分析の民主化を推進しています。
 講演では、その背景にある事業内容や企業文化、DX戦
 略について紹介するとともに、データ分析の民主化の
 進め方や苦労、工夫、普及方法を実例を交えて解説し
 ます。\n\n\n17:20〜17:45\nJR東日本が挑むデータマーケテ
 ィング改革～ジョブ型人材のスキル・キャリアパスを
 探る〜東日本旅客鉄道株式会社　渋谷 直正---JR東日本
 では、2024年度より、データマーケティングを専門的に
 推進するジョブ型社員の募集を開始しました。事業会
 社でデータマーケティングを推進する社員に必要なス
 キルは何か、そういう社員が働きやすい環境（社風）
 をどう作るべきか、彼らが望む将来のキャリアパスは
 何か、みなさんに問いを投げつつ、一緒に考えたいと
 思います。\n\n\n17:45〜18:05\n軽やかなデータドリブン経
 営をめざして～リアル体験からひも解く持続可能な文
 化醸成のコツ～株式会社 NTTドコモ　木村 雄基---NTTド
 コモが過去5年間で進めてきた「データドリブン文化の
 醸成」について、具体的な取り組みをご紹介します。
 人材育成プログラム、社内コミュニティ作り、データ
 整備、ナレッジ共有など、多岐にわたる戦略を通じて
 得られた”気づき”に焦点を当て、CoE組織と地域現場
 の両方で体験したリアルな視点から、実践に役立つポ
 イントをお伝えします。\n\n\n18:05〜18:25\nビジネスドリ
 ブンでデータ利活用を促進するための取組三菱UFJ信託
 銀行株式会社　 西潟裕介---三菱UFJ信託銀行では、デー
 タ利活用の推進において、デジタル部門がCoE組織とし
 てビジネス部門を積極的に支援しています。予測・生
 成AI、BIツール、データ基盤などのソリューションを用
 いて、ビジネス部門を巻き込んだデータ利活用や分析
 案件を推進しております。データドリブンな組織を目
 指す上で、まずはビジネス部門のユーザーがデータの
 力を実感できることが重要です。講演では、実際の案
 件例やデータ利活用上のビジネス部門との協働例につ
 いてご紹介します。\n\n\n18:25〜18:45\n金融情報ベンダー
 からみたデータ民主化とビジネス推進株式会社QUICK　
 山内康弘---1971年の創業以来データドリブンのビジネス
 を推進してきたQUICK。「データで社会を見える化する
 」を標ぼうしている我が社が金融情報ベンダーの経験
 からDX推進における「データ収集」「データ蓄積」「
 データ利活用」の観点で、課題、取り組み、解決策な
 どをお伝えします。\n\n\n18:45〜19:00\n休憩\n\n\n19:00〜19:45
 \n第二部：パネルトーク\n\n\n19:45〜21:00\n第三部：立食
 パーティー（@六本木ヒルズクラブ　the horizon room　オ
 フライン開催のみ）\n\n\n\n\n\n登壇者\nヤマハ発動機株
 式会社IT本部デジタル戦略部 部長新庄 正己1995年にヤ
 マハ発動機に入社し、大型モーターサイクルの設計や
 商品企画に従事。その後、調達部門でのコストダウン
 やインド工場立ち上げ業務、開発部門でのインフォテ
 イメントシステム搭載モデルの開発責任者、事業部門
 での技術戦略やEV戦略などを経て現在はデジタル戦略
 部の部長として全社のDXを推進。\n東日本旅客鉄道株式
 会社　マーケティング本部　戦略・プラットフォーム
 部門データマーケティングユニット　担当部長渋谷 直
 正2002年に日本航空に入社、JALオウンドサイトのレコメ
 ンド施策の立案・企画・実施を担当。2014年、日経情報
 ストラテジー誌による「データサイエンティスト・オ
 ブ・ザ・イヤー」受賞。2019年にデジタルガレージ転職
 、同社グループでのデータ活用を統括・推進する執行
 役員CDO に就任。2021年より現職、JREポイントやSuicaデー
 タを活用したマーケティングを統括。統計解析や実務
 に役立つ分析手法に詳しく、データを使ったマーケテ
 ィングを得意とする。講演・記事掲載など多数。\n株
 式会社 NTTドコモコンシューマサービスカンパニーデー
 タプラットフォーム部　データ人材活性化　担当部長
 木村 雄基2019年よりドコモグループにおけるデータ活
 用人材育成の企画運営業務を担当。育成プログラム提
 供、コミュニティ形成に加え、人事制度と連動した仕
 組み化によるデータドリブン文化の組織定着を推進。
 ライフワークは地元青森のねぶた囃子。笛奏者として
 地域を熱く盛り上げ伝統文化を後世へつなぐ。\n三菱UF
 J信託銀行株式会社　調査役　ジュニアフェロー西潟裕
 介2014年に金融系SI企業でキャリアを開始し、大手金融
 機関向けのシステム開発に従事。2019年に三菱UFJ信託銀
 行に入社し、オープンAPI案件を通じて金融サービスの
 デジタル化に貢献。その後、AI・データサイエンスの
 企画・推進や分析基盤の整備を担当し、全社的なデー
 タ利活用をリード。現在は生成AIの活用プロジェクト
 や全社データ基盤の整備、データドリブンな意思決定
 の文化醸成に注力しています。\n株式会社QUICKデータソ
 リューション事業本部 本部長山内康弘2017年からQUICKの
 データビジネスの企画、開発、事業推進を担当。デー
 タ開発、オルタナティブデータ市場醸成のコミュニテ
 ィ形成、データ基盤構築、データ分析、データ可視化
 など、「データで社会を見える化する会社」として金
 融、事業会社、官公庁、自治体様のデータ利活用支援
 を推進。\n\nファシリテーター\nデータビズラボ株式会
 社代表取締役 永田ゆかりデータ分析・可視化、クラウ
 ドデータ分析基盤、データマネジメントのコンサルテ
 ィングにおいて多数の実績・経験を持つ。『データ視
 覚化のデザイン』(SBクリエイティブ)、『データ分析の
 リアル まるごとQ&A』(日経BP 日本経済新聞出版)の著者
 。データ活用の「自走型組織」を創り上げることを支
 援。スクラムでのデータエンジニアリング、コンサル
 ティングが得意領域。\n参加対象\n\nデータドリブン組
 織を創り出したい、創り出すべく奮闘している人\nデ
 ータ領域に関わるすべての人\n\n参加費用\n\nオンライ
 ン：無料\nオフライン：15\,000円（立食パーティーのご
 飲食代込み）\n\nオフライン・リアル会場\n六本木ヒル
 ズクラブ　the horizon room\n住所：〒106-6151東京都港区六
 本木6-10-1 六本木ヒルズ森タワー51階アクセスマップ：h
 ttps://www.roppongihillsclub.com/visitor/dfw/rhc/jp/access/\n※ドレス
 コードがございます。スマートカジュアルな服装での
 ご参加をお願いいたします。・男性の方につきまして
 は、襟のついたシャツまたはジャケットの着用をお願
 いいたします。・女性の方につきましては、キャミソ
 ール等をお召しの場合は上着の着用をお願いいたしま
 す。・NGの服装：丈の短いズボン、浴衣、穴の開いた
 ジーンズ、ビーチサンダル、下駄、雪駄、運動
LOCATION:
URL:https://techplay.jp/event/961249?utm_medium=referral&utm_source=ics&utm
 _campaign=ics
END:VEVENT
END:VCALENDAR
