BEGIN:VCALENDAR
VERSION:2.0
PRODID:-//https://techplay.jp//JP
CALSCALE:GREGORIAN
METHOD:PUBLISH
X-WR-CALDESC:学生向けFixstars 高速化コンテスト 2024 参加者
 募集
X-WR-CALNAME:学生向けFixstars 高速化コンテスト 2024 参加者
 募集
X-WR-TIMEZONE:Asia/Tokyo
BEGIN:VTIMEZONE
TZID:Asia/Tokyo
BEGIN:STANDARD
DTSTART:19700101T000000
TZOFFSETFROM:+0900
TZOFFSETTO:+0900
TZNAME:JST
END:STANDARD
END:VTIMEZONE
BEGIN:VEVENT
UID:961460@techplay.jp
SUMMARY:学生向けFixstars 高速化コンテスト 2024 参加者募集
DTSTART;TZID=Asia/Tokyo:20241018T120000
DTEND;TZID=Asia/Tokyo:20241125T120000
DTSTAMP:20260422T234114Z
CREATED:20241018T004326Z
DESCRIPTION:イベント詳細はこちら\nhttps://techplay.jp/event/96146
 0?utm_medium=referral&utm_source=ics&utm_campaign=ics\n\n株式会社フ
 ィックスターズは、プログラミングコンテスト『学生
 向け Fixstars 高速化コンテスト 2024』を下記の通り開催
 します。\n当社は、マルチコアによる並列処理技術の
 黎明期より、ソフトウェアの高速化技術のエキスパー
 トとして、最先端の高速コンピューティング技術を探
 求しつづけ、お客様のビジネスをサポートしてまいり
 ました。\n今回は「未来のエンジニアたちの挑戦」と
 題して、学生の皆様にソフトウェアの高速化の課題に
 取り組んでいただきます。コンテストサイトにて展開
 される所定の方法でプログラムを提出することで、コ
 ンテストにご参加いただけます。賞金もご用意してい
 ますので、ぜひ周りの学生の皆さんにもお声がけいた
 だき、積極的なご参加をお待ちしています。\n開催・
 提出期間\n2024年10月28(月)12:00 JST ～ 2024年11月25日(月)12:0
 0 JST\nビルド対象および計測用プロセッサ\nCPU (Intel:regis
 tered: Core:trade_mark: i7-11700)\n使用言語\nC++ (GCC 14.1.0)\n賞金
 \n優勝100万円、準優勝10万円、参加賞（コンテストペー
 ジの最終ランキングで、正の合計スコアを記録した参
 加者全員）\n参加条件\n参加登録時点で学生であること
 （ただし、開催期間中に フィックスターズ グループ
 に、インターン生またはアルバイト生として在籍する
 場合を除く）\n参加方法\nコンテストサイトの「参加方
 法」をご参照ください\nコンテストサイト\nhttps://fixstar
 s-contest.com\nお問い合わせ\nご不明な点などコンテスト
 に関するお問い合わせは、下記の専用メールアドレス
 宛にご連絡ください。\nメール: contact.fixcon@fixstars.com\n
 皆さんの挑戦をお待ちしています！
LOCATION:
URL:https://techplay.jp/event/961460?utm_medium=referral&utm_source=ics&utm
 _campaign=ics
END:VEVENT
END:VCALENDAR
