BEGIN:VCALENDAR
VERSION:2.0
PRODID:-//https://techplay.jp//JP
CALSCALE:GREGORIAN
METHOD:PUBLISH
X-WR-CALDESC:「時短SNS」×「Googleマップ×クチコミ」を使っ
 た最新の集客術
X-WR-CALNAME:「時短SNS」×「Googleマップ×クチコミ」を使っ
 た最新の集客術
X-WR-TIMEZONE:Asia/Tokyo
BEGIN:VTIMEZONE
TZID:Asia/Tokyo
BEGIN:STANDARD
DTSTART:19700101T000000
TZOFFSETFROM:+0900
TZOFFSETTO:+0900
TZNAME:JST
END:STANDARD
END:VTIMEZONE
BEGIN:VEVENT
UID:961764@techplay.jp
SUMMARY:「時短SNS」×「Googleマップ×クチコミ」を使った最
 新の集客術
DTSTART;TZID=Asia/Tokyo:20241105T140000
DTEND;TZID=Asia/Tokyo:20241105T150000
DTSTAMP:20260420T062404Z
CREATED:20241021T061929Z
DESCRIPTION:イベント詳細はこちら\nhttps://techplay.jp/event/96176
 4?utm_medium=referral&utm_source=ics&utm_campaign=ics\n\n概要\n第一
 部：株式会社BESW\nSNSで集客が変わる！AIで超簡単にで
 きる動画＆画像活用術 ～Instagram、LINE公式、TikTok～！\n
 「もっとお客様を増やしたいけれど、集客がうまくい
 かない」と感じていませんか？住宅業界、学習塾、飲
 食店の経営者にとって、SNSは今や最も効果的な集客ツ
 ールの一つです。特に、動画や画像を活用することで
 、店舗の魅力やサービスを視覚的に伝えやすくなり、
 見込み客の信頼を獲得しやすくなります。しかし、SNS
 の運用に時間や労力をかけすぎて、本業に支障が出て
 しまうことも多いのではないでしょうか。このセミナ
 ーでは、AIを使って動画や画像を簡単に作成し、短時
 間で効果的な集客ができる方法を具体的にお伝えしま
 す。限られたリソースで、最大限の集客効果を実現し
 ましょう。\n– 学べること –\n\n住宅業界、学習塾、
 飲食店に合ったSNS（Instagram、LINE、TikTok）の事例\n動画
 と画像を使うメリット（店舗の魅力を視覚的に伝え、
 信頼感をアップ）\n初心者でも簡単にAIを活用してショ
 ート動画・投稿画像を作成する方法\n\n– こんな方に
 オススメ –\n\n低コストで集客したい方\n売上の伸びる
 SNS集客をしたい方\n時短でSNSを活用したい方\n\n\n田中 
 千晶（Tanaka Chiaki）\n株式会社BESW　代表取締役2009年、
 大学在学中に会社を設立し、1年半で大手企業、中小企
 業50社と取引をする。 Webプロモーション支援を得意と
 し、特にSNS活用支援で多くの実績をもつ。2012年から全
 国各地でセミナーを精力的に実施。シリコンバレーのF
 acebook本社やX本社へ毎年出向いて直接SNSの最先端情報
 を仕入れてきている。角川出版社、マイナビ社、技術
 評論社、翔泳社、インプレス社でマーケティング支援
 の書籍を7冊出版。連載も8社で行う。自身のラジオ番
 組、パーソナリティとしても活動し、SNSの最新情報を
 届けている。\n\n第二部：株式会社ロカオプ\nMEOとクチ
 コミの威力を最大限に ：露出アップから実来店獲得ま
 での全過程\n例えば、あなたが店舗を探す時どの様に
 さがしますか？「スマホ」で「Google」を使い「地域×
 業種」と検索をすると思います。 すると検索結果画面
 には地図と共に関連スポットが3店舗表示され、そこに
 は「店名、店舗の特徴やクチコミなど」が掲載されて
 います。 この時、実際に店舗に来てもらうには、3位
 以内にランクイン表示させること以上に大事なことが4
 つあります。本セミナーでは「店舗集客成功の4つの法
 則」をお伝えします。【主な内容】①お店を探す時の
 行動が変わった②Googleマップ対策、成功の4つの法則③
 Googleマップ対策で気をつけること④自社サービス ロカ
 オプの紹介\n– 学べること –\n\n店舗集客ですべきマ
 ーケティング施策\n競合店舗に先んじて選ばれる方法\n
 クチコミ、評価点数の対策方法\n実来店を増やすため
 の導線と対策\n\n– こんな方にオススメ –\n\nGoogleクチ
 コミを増やしたい方\n店舗集客を増やしたい方\n広告用
 のページ（lp）を作りたい方\n\n\n島津　誠　(Shimazu Makot
 o)\n株式会社ロカオプ　戦略マーケティング部部長ITベ
 ンチャーを経て東証一部上場デジタルマーケティング
 企業へ入社しリスティング・ネイティブ・アフィリエ
 イト・Youtube等のWeb広告をタッチ。アカウントディレク
 ター職からデジタルマーケティングを学ぶ。以降、ソ
 フトバンクグループHR領域において副本部長職に従事
 し大手・中小企業様の中途採用媒体提案／人材紹介／
 求人コンサルを手がけ課題創出に務めた後、ロカオプ
 にジョイン。 現在、中小企業様をメインとしたWebコン
 サルティングに従事中。\n\n＜ 実施概要 ＞\n【日程】 
 11月5日(火)　14:00 ～ 15:00【開催形式】 オンライン（※W
 EBツール：Zoom）\n
LOCATION:
URL:https://techplay.jp/event/961764?utm_medium=referral&utm_source=ics&utm
 _campaign=ics
END:VEVENT
END:VCALENDAR
