BEGIN:VCALENDAR
VERSION:2.0
PRODID:-//https://techplay.jp//JP
CALSCALE:GREGORIAN
METHOD:PUBLISH
X-WR-CALDESC:Excel業務をRPAで劇的に効率化！入力・突合・集
 計など自動化TOP5の実演セミナー
X-WR-CALNAME:Excel業務をRPAで劇的に効率化！入力・突合・集
 計など自動化TOP5の実演セミナー
X-WR-TIMEZONE:Asia/Tokyo
BEGIN:VTIMEZONE
TZID:Asia/Tokyo
BEGIN:STANDARD
DTSTART:19700101T000000
TZOFFSETFROM:+0900
TZOFFSETTO:+0900
TZNAME:JST
END:STANDARD
END:VTIMEZONE
BEGIN:VEVENT
UID:961840@techplay.jp
SUMMARY:Excel業務をRPAで劇的に効率化！入力・突合・集計
 など自動化TOP5の実演セミナー
DTSTART;TZID=Asia/Tokyo:20241203T140000
DTEND;TZID=Asia/Tokyo:20241203T143000
DTSTAMP:20260425T121929Z
CREATED:20241022T014300Z
DESCRIPTION:イベント詳細はこちら\nhttps://techplay.jp/event/96184
 0?utm_medium=referral&utm_source=ics&utm_campaign=ics\n\nこんな方に
 オススメ\n\nExcelを使った業務に時間がかかっている方\
 nRPAを使って、手動で行っているExcel作業を効率化した
 い方\nRPA導入を検討しており、実際の活用事例を知り
 たい方\nExcel操作において、転記・突合・集計などの業
 務を簡単に自動化したい方\n関数やショートカットキ
 ーを活用し、Excel業務をもっと効率化したい方\n\nこの
 セミナーでわかること\n\nRPAを使って、Excel業務をどの
 ように自動化できるか\nExcel自動化のベスト5の実例と
 デモ\n実際にRPAをどのように構築するか、ステップバ
 イステップの実演\n関数やショートカットキーをRPAに
 組み込むことで、さらなる業務効率化の方法\n\nセミナ
 ー概要\n「RPA×Excelで業務自動化をもっと簡単に！」RPA
 を活用することで、日常的なExcel業務を自動化し、業
 務効率を大幅に改善できます。\n本セミナーでは、RPA
 ツール「RoboTANGO」を使用し、100社以上の導入支援実績
 を持つ担当者が、Excel業務の自動化トップ5をランキン
 グ形式でご紹介します。\n「Excelのデータを他のシステ
 ムに転記」「複数ファイルの突合」「データの集計」
 など、よくあるExcel業務を自動化する方法をデモを通
 じて実演し、誰でも簡単にRPAを導入・活用できる具体
 的な方法をお伝えします。\nまた、RPAを効率よく活用
 するためには、Excelの関数やショートカットキーの活
 用が重要です。関数やショートカットキーを組み込む
 ことで、複雑な操作もより簡単に自動化でき、業務効
 率をさらに向上させることが可能です。デモ実演では
 、よく使われるショートカットキーや関数をRPAに組み
 込む方法をお見せし、その便利さを体感いただきます
 。\nさらに、セミナー参加者には、RPAを活用した「転
 記サンプルロボット」と、「Excelの関数・ショートカ
 ットキー集」をプレゼント！RPAの操作方法だけでなく
 、Excel業務の効率化にも役立つ知識をお持ち帰りいた
 だけます。\n講師紹介\nスターティアレイズ株式会社業
 務自動化ソリューション部マネージャー　玉木 望美\n
 ■経歴2015年に放送業界の企業に入社後、セキュリティ
 対策ソフトの検証などテクニカルサポートとして従事
 。2020年にスターティアレイズに営業として入社後、さ
 まざまな業界へRPA活用のソリューション提案を行う。
 その後RoboTANGOのテクニカルサポートチームとして従事
 し、顧客への操作レクチャーをはじめ、アプリケーシ
 ョンツールとの連動検証や活用方法の提案など営業支
 援を実施。今まで100社以上のRPA導入を支援。現在はテ
 クニカルサポートチームで培ったノウハウをもとに、
 コンサルティンググループにて顧客のバックオフィス
 業務全般のDX推進を支援している。\nセミナー詳細\n\n\n
 \n\n\n\n\n\n\nタイトル\nExcel業務をRPAで劇的に効率化！入
 力・突合・集計など自動化TOP5の実演セミナー\n\n\n日時
 \n2024年12月3日(火)14:00~14:30\n\n\n受講料\n無料\n\n\n主催\n
 スターティアレイズ株式会社\n\n\n\n・お申込みいただ
 いた際に、Zoom登録用URLをご登録いただいたメールアド
 レスに送付致します。・セミナー当日のご参加も可能
 です。・プログラムは、都合により予告無く変更する
 場合がございます。・ユーザー企業様向けのセミナー
 の為、同業者様のご参加はお断りさせていただく場合
 がございます。\nセミナープログラム\n\nRPAの概要\nPRA×
 Excelでよく使われる活用方法5選\nJENKAの操作方法・デモ
 実演\nセミナーのまとめ\n
LOCATION:
URL:https://techplay.jp/event/961840?utm_medium=referral&utm_source=ics&utm
 _campaign=ics
END:VEVENT
END:VCALENDAR
