BEGIN:VCALENDAR
VERSION:2.0
PRODID:-//https://techplay.jp//JP
CALSCALE:GREGORIAN
METHOD:PUBLISH
X-WR-CALDESC:【オンライン・視聴無料】AIで実現する、もの
 づくり現場の新しいナレッジマネジメント
X-WR-CALNAME:【オンライン・視聴無料】AIで実現する、もの
 づくり現場の新しいナレッジマネジメント
X-WR-TIMEZONE:Asia/Tokyo
BEGIN:VTIMEZONE
TZID:Asia/Tokyo
BEGIN:STANDARD
DTSTART:19700101T000000
TZOFFSETFROM:+0900
TZOFFSETTO:+0900
TZNAME:JST
END:STANDARD
END:VTIMEZONE
BEGIN:VEVENT
UID:961848@techplay.jp
SUMMARY:【オンライン・視聴無料】AIで実現する、ものづ
 くり現場の新しいナレッジマネジメント
DTSTART;TZID=Asia/Tokyo:20241107T160000
DTEND;TZID=Asia/Tokyo:20241107T164500
DTSTAMP:20260424T002747Z
CREATED:20241022T031011Z
DESCRIPTION:イベント詳細はこちら\nhttps://techplay.jp/event/96184
 8?utm_medium=referral&utm_source=ics&utm_campaign=ics\n\nAIで実現す
 る、ものづくり現場の新しいナレッジマネジメント\n
 概要\n製造業における研究開発や設計開発の現場では
 、日々膨大な情報にアクセスし、それを効率的に活用
 することが求められています。しかし、論文や特許、
 技術ニュース、社内の過去のプロジェクト資料など、
 日々増え続ける多様な情報が散在しているため、本来
 やるべき仕事の前に、情報の検索や読み込みをするだ
 けで貴重な時間を費やしてしまうことも少なくありま
 せん。\nそうした課題に対応すべく、何度も情報共有
 、ナレッジマネジメントに挑戦するも「使いこなせな
 い」「メンテナンスに手間がかかる」と頓挫していま
 せんか？\n本セミナーでは、ナレッジマネジメントが
 合理的に上手くいかない理由と、なぜAIを使うとナレ
 ッジマネジメントは上手くいくのか、をわかりやすく
 解説し、膨大な社内情報をAnewsと連携させることで、
 誰でも適切に社内外の情報にアクセスし、本来やるべ
 き仕事に集中できる活用方法をお話いたします。\n参
 加対象\n\n研究開発部門や設計開発部門で、情報の属人
 化や散在に課題を感じている方\n膨大な社内情報から
 、必要な情報を効率的に見つけたい方\nAIを活用して業
 務効率を向上させ、イノベーションを促進したいと考
 えている方\nナレッジマネジメントの導入や改善を検
 討している企業のリーダーや管理職の方\n\n開催概要\n
 日　　　時：2024年11月7日(木) 16:00-16:45場　　　所：オ
 ンライン（Zoom）参　加　費：無料\n登壇者\n\n田中 和
 生\nストックマーク株式会社　CMO\n信州大学経営大学院
 に在籍しながら起業し、宇宙開発の裾野を広げる事業
 を推進。卒業後、株式会社日本能率協会コンサルティ
 ングにて、国内企業の新規事業創造及びビジネスモデ
 ル設計に従事。医薬品、化学品、自動車部品分野を中
 心に、事業モデルの策定やR&D戦略立案に参画。その後
 、VALUENEX株式会社に入社し、事業開発責任者として他
 社とのコラボレーションによる同社の新規事業開拓を
 担うとともに、事業戦略コンサルタントとして様々な
 事業分野の新規事業立案や開発テーマ策定に携わる。
 日経BP等への記事提供や各種講演によるマーケティン
 グ活動を行う。2020年、ストックマークの自然言語処理
 技術の高さに魅了され、Astrategyのセールス担当として
 入社し、現在に至る。\nお申し込みに際して\n\n競合企
 業などのご参加をお断りする場合がございます。予め
 ご了承くださいませ。\n
LOCATION:
URL:https://techplay.jp/event/961848?utm_medium=referral&utm_source=ics&utm
 _campaign=ics
END:VEVENT
END:VCALENDAR
