BEGIN:VCALENDAR
VERSION:2.0
PRODID:-//https://techplay.jp//JP
CALSCALE:GREGORIAN
METHOD:PUBLISH
X-WR-CALDESC:生成AIはこんなに便利なのになぜ使われない？
  生成AI導入を阻む５つのハードルと対策とは ～メンバ
 ーズのDX現場支援の事例に学ぶ～
X-WR-CALNAME:生成AIはこんなに便利なのになぜ使われない？
  生成AI導入を阻む５つのハードルと対策とは ～メンバ
 ーズのDX現場支援の事例に学ぶ～
X-WR-TIMEZONE:Asia/Tokyo
BEGIN:VTIMEZONE
TZID:Asia/Tokyo
BEGIN:STANDARD
DTSTART:19700101T000000
TZOFFSETFROM:+0900
TZOFFSETTO:+0900
TZNAME:JST
END:STANDARD
END:VTIMEZONE
BEGIN:VEVENT
UID:961956@techplay.jp
SUMMARY:生成AIはこんなに便利なのになぜ使われない？ 生
 成AI導入を阻む５つのハードルと対策とは ～メンバー
 ズのDX現場支援の事例に学ぶ～
DTSTART;TZID=Asia/Tokyo:20241112T160000
DTEND;TZID=Asia/Tokyo:20241112T170000
DTSTAMP:20260420T214311Z
CREATED:20241023T023426Z
DESCRIPTION:イベント詳細はこちら\nhttps://techplay.jp/event/96195
 6?utm_medium=referral&utm_source=ics&utm_campaign=ics\n\n生成AI導入
 を掲げる企業は増えているものの、実際の業務への適
 用が進まないというお困りごとをよく耳にします。ま
 た、データセキュリティや倫理的な課題も浮上してお
 り、企業はこれらに対応するための戦略を構築し、運
 用する必要があります。\nそこで、本セミナーでは大
 手企業のDX推進を内製で支援する株式会社メンバーズ
 が、その最前線で得た導入を阻む5つのハードルと対策
 、その成功事例についてご紹介します。\n「セキュア
 な利用環境が整備されていない・・」、「プロンプト
 設計力が不足している・・」など、どの企業でも1つや
 2つは抱えているであろう生成AI導入を阻むハードルに
 ついてと、その対策、複数の成功事例が聞けるセミナ
 ーとなっておりますのでぜひご参加ください。\n※こ
 ちらのセミナーはアーカイブ配信となります。\n■こ
 んな方におすすめ！\n\n仕事がAIに置き換わっていく中
 で組織のあり方に迷われている方\n企業の方針としてAI
 の導入が求められているものの、何から始めればいい
 のかわからない方\n生成AI活用を行いたい各部門のリー
 ダー層/マネージャ層\n生成AIを活用し業務を効率化す
 ることで外注費やコストを削減したい方\n\n\n■登壇者
 紹介\n白井 恵里株式会社メンバーズ株式会社メンバー
 ズ執行役員 兼メンバーズデータアドベンチャーカンパ
 ニー社長 兼一般社団法人Generative AI JAPAN理事\n東京大学
 を卒業後、株式会社メンバーズへ入社。大手企業のオ
 ウンドメディア運用、UXデザイン手法での制作や、デ
 ジタル広告の企画運用に従事したのち、2018年11月に社
 内公募にてメンバーズの子会社（現、社内カンパニー
 ）社長として株式会社メンバーズデータアドベンチャ
 ーを立ち上げ。データアナリスト、データサイエンテ
 ィスト、データエンジニアなどデータ領域のプロフェ
 ッショナルの常駐により企業のデータ活用を支援し、
 顧客ビジネス成果に貢献するサービスを提供。2020年10
 月から株式会社メンバーズ執行役員兼務。現在カンパ
 ニーに所属するデータ分析のプロフェッショナルは約1
 70名。\n■アジェンダ\ncoming soon...\n■日時：2024年11月12
 日（火）16:00～17:00\n※15:50頃からアクセス可能です\n■
 費用：無料（事前登録制）■主催：株式会社メンバー
 ズ\n■参加の流れ\nZOOMウェビナーによる配信を予定し
 ております。（ご視聴時、他の参加者に顔・音声は共
 有されません。）セミナー前営業日の正午に締め切っ
 たのち、アンケートにご入力いただいたメールアドレ
 スへ参加方法をご案内します。\n・PCやタブレットなど
 の端末と、インターネット環境が必要です。・下記に
 接続し、事前に視聴環境の確認をオススメしておりま
 す。　　テスト接続はコチラ （外部サイトにリンクし
 ます）・株式会社メンバーズのWebサイトでもお申し込
 みを受け付けております。 応募締め切り後のお申し込
 みはこちらをご利用ください（セミナー直前まで申し
 込み可能）https://knowledge.members.co.jp/seminar/20241112_mkt_ai_re
 vival\n●注意事項\n※回答結果は登壇者に共有します。
 ※ご登録いただいた情報は各社が取得、管理し、今後
 有益と思われるサービスやイベント・セミナーをご案
 内する目的等で利用いたします。※ご登録情報から個
 別でコンタクトさせていただく可能性がございます。
 （情報提供やインタビューのご依頼など）※正確な情
 報をご入力いただけない場合、ご視聴をお断りする場
 合がございますのでご了承ください。\n株式会社メン
 バーズ\nセミナー運営事務局MAIL：sales_marketing@members.co.j
 p
LOCATION:
URL:https://techplay.jp/event/961956?utm_medium=referral&utm_source=ics&utm
 _campaign=ics
END:VEVENT
END:VCALENDAR
