BEGIN:VCALENDAR
VERSION:2.0
PRODID:-//https://techplay.jp//JP
CALSCALE:GREGORIAN
METHOD:PUBLISH
X-WR-CALDESC:【ユーザー登壇】医療バックオフィスDX「AgileW
 orks」が切り拓く 業務効率化と組織改革
X-WR-CALNAME:【ユーザー登壇】医療バックオフィスDX「AgileW
 orks」が切り拓く 業務効率化と組織改革
X-WR-TIMEZONE:Asia/Tokyo
BEGIN:VTIMEZONE
TZID:Asia/Tokyo
BEGIN:STANDARD
DTSTART:19700101T000000
TZOFFSETFROM:+0900
TZOFFSETTO:+0900
TZNAME:JST
END:STANDARD
END:VTIMEZONE
BEGIN:VEVENT
UID:961960@techplay.jp
SUMMARY:【ユーザー登壇】医療バックオフィスDX「AgileWorks
 」が切り拓く 業務効率化と組織改革
DTSTART;TZID=Asia/Tokyo:20241119T150000
DTEND;TZID=Asia/Tokyo:20241119T161000
DTSTAMP:20260425T155642Z
CREATED:20241023T043040Z
DESCRIPTION:イベント詳細はこちら\nhttps://techplay.jp/event/96196
 0?utm_medium=referral&utm_source=ics&utm_campaign=ics\n\n【ユーザー
 登壇】医療バックオフィスDX「AgileWorks」が切り拓く 業
 務効率化と組織改革\n2024年を迎え、「医師の働き方改
 革」への対応が迫られる中、人手不足などが原因でい
 まだに解決の糸口を見いだせずにいる医療機関は多い
 のではないでしょうか。\nそこで本セミナーでは、実
 際に医療の現場から業務改革をリードする刈谷豊田総
 合病院様にご登壇いただき、ワークフローシステム「A
 gileWorks」の活用による、バックオフィスの業務効率の
 改善と組織全体の意識の改革に成功した事例について
 ご紹介します。\n単なるデジタル化やペーパーレス化
 に留まらない、医療機関における最新のデジタルトラ
 ンスフォーメーション（DX）について一緒に学びまし
 ょう！\n【 このような方におすすめ】医療機関のバッ
 クオフィス担当者（管理部門/システム部門/人事総務
 部門）-働き方改革に対応したい-業務効率化したい-医
 療DXに興味がある-ペーパーレス化を推進したい\nプロ
 グラム\n15:00～15:10│オープニングミニセミナー「バッ
 クオフィス改革により医療現場はどのように変わるの
 か」\n15:10～16:00│パネルディスカッション＜登壇者＞
 医療法人刈谷豊田総合病院　事務部長 　山田 達也 氏
 　事務部総務室　山口 正 氏　事務部設備管理Gリーダ
 ー　濱島 充幸 氏\n株式会社エイトレッド　マーケティ
 ング部マーケティングアライアンスG　グループ長　黒
 田 純平\n16:00～16:05│Q＆A\n16:05～16:10│クロージング\n
 形式\n【会場】オンラインLIVE配信\n【参加費】無料※
 フリーメールアドレスでの参加申込は受付けておりま
 せんので予めご了承ください。\n主催：株式会社エイ
 トレッド
LOCATION:
URL:https://techplay.jp/event/961960?utm_medium=referral&utm_source=ics&utm
 _campaign=ics
END:VEVENT
END:VCALENDAR
