BEGIN:VCALENDAR
VERSION:2.0
PRODID:-//https://techplay.jp//JP
CALSCALE:GREGORIAN
METHOD:PUBLISH
X-WR-CALDESC:生成 AI 忘年会
X-WR-CALNAME:生成 AI 忘年会
X-WR-TIMEZONE:Asia/Tokyo
BEGIN:VTIMEZONE
TZID:Asia/Tokyo
BEGIN:STANDARD
DTSTART:19700101T000000
TZOFFSETFROM:+0900
TZOFFSETTO:+0900
TZNAME:JST
END:STANDARD
END:VTIMEZONE
BEGIN:VEVENT
UID:962444@techplay.jp
SUMMARY:生成 AI 忘年会
DTSTART;TZID=Asia/Tokyo:20241214T150000
DTEND;TZID=Asia/Tokyo:20241214T203000
DTSTAMP:20260422T220001Z
CREATED:20241028T071406Z
DESCRIPTION:イベント詳細はこちら\nhttps://techplay.jp/event/96244
 4?utm_medium=referral&utm_source=ics&utm_campaign=ics\n\n生成 AI 忘年
 会\n概要\n生成AI を使った創作活動をしている人限定の
 忘年会です。\n生成AI を使って創作をしているクリエ
 イター、創作を支援するツールを作っているエンジニ
 ア等が、AIを使ったものづくりを語り合う等して交流
 する会です。\n希望者は自分の作品やツールを発表す
 ることもできます。創作活動の規模やレベルは問いま
 せん。初めて間もない方でも参加可能です。\n本会は
 、第一部と第二部で構成されています。\n\n第一部「生
 成AIアートバトル・リベンジマッチ!!」\n第二部「懇親
 会」\n\n共催　AICU Japan株式会社　https://x.com/AICUai/status/1
 858572162644537502\nこんな人におすすめ\n\n生成AIを活用し
 ているクリエイター\n生成AIを創作に活かしているエン
 ジニア\n創作を支援するツールを作っている人\n\n第一
 部「生成AIアートバトル・リベンジマッチ!!」\n生成AI
 で「つくる人をつくる」AICU Japan株式会社がお送りする
 特別企画！\n11月に幕張メッセで開催された「コンテン
 ツ東京」で開催された大人気企画「AIBATO」のファイナ
 リストが、生成AI忘年会に集います。　参考：第1回生
 成AIアートバトル「AIBATO」で優勝いたしました(実況編)
 　https://note.com/o_ob/n/nf7a760746933幕張メッセでの熱い戦い
 の感想戦、リベンジマッチ、あなたの生成AIテクニッ
 クを一歩上に引き上げるネタ満載のワークショップを
 企画しています。★本枠の集合は15時～となります。
 詳細は X@AICUai にて告知されます（参加者の方には個別
 にtechplayからメールでの通知も行います）。\n第二部「
 懇親会」\n集まった参加者で、食事をしながら懇親会
 を行います。途中入退室は自由です。\n※第二部の参
 加者には、飲食代として 2\,000円（学生500円） を頂い
 ております。参加枠には「500円」「無料」と表示され
 ていますが、これはUI上変更ができない為そうなって
 いるだけで、実際には2\,000円（学生500円）を頂きます
 。当初はお菓子とドリンクのみの軽食を想定だったの
 で安い金額としていたのですが、「食事の時間帯なの
 で軽食では物足りない」という要望を多く頂いたので
 、参加費を増額して対応させていただきました。2\,000
 円（学生500円）は、現金でご用意をお願いします。途
 中参加でも全額お支払いいただきますので、なるべく
 早めにお越し下さい。\nタイムテーブル\n14:45〜15:00 第
 一部受付15:00〜18:00 第一部「生成AIアートバトル・リベ
 ンジマッチ!!」18:00〜18:15 第二部受付18:15〜20:30 第二部
 「懇親会」\n途中退室・途中入室ともに自由です。建
 物からの一時退場も可能です（1F受付の方に再入場す
 ると声をかけてください）最初からいる必要はありま
 せんし、最後までいる必要もありません。いつでも出
 入りできますので、好きな時間に来て、好きな時間に
 お帰りください。\n飲食物の持ち込みに関して\n第一部
 においては、飲料のみ持ち込み可能です。食物の持ち
 込みはご遠慮ください。\n第二部においては、飲料、
 食物共に持ち込み自由です。ただし、匂いが強いもの
 や、こぼれやすいもの、そのほか他人や施設管理者に
 迷惑となるものの持ち込みはお控えください。なお、
 第二部では食事と飲料は用意いたします（2\,000円（学
 生500円）の費用をいただいております）。\n入館に関
 して\n当イベントは施設管理者からのセキュリティ上
 の要求により、参加者の氏名および所属の情報を事前
 にいただく必要があります。現地1Fの受付で事前に申
 告した氏名および所属を伝えて頂いたうえでの入館と
 なります。いただいた情報は運営および施設管理者が
 適切に管理し、法令に基づく場合を除いて第三者に提
 供することはありません。\n退館する際は、必ず入館
 証を受付に返却してください（無返却は施設の利用規
 約違反となります）。\n禁止行為\n\n投資、ネットワー
 クビジネス等への勧誘\n過度なリクルーティング行為\n
 その他、会の平穏を妨げる行為\n\nお問い合わせ\n\nメ
 ールでのお問い合わせは、info@blendai.jp までご連絡くだ
 さい。\n\nX(Twitter) のDMでも問い合わせ可能です。「生
 成AI 忘年会の件」とメッセージの最初に書いてくださ
 い。\n
LOCATION:東京科学⼤学キャンパス・イノベーションセンタ
 ーINDEST 港区芝浦三丁⽬3番6号
URL:https://techplay.jp/event/962444?utm_medium=referral&utm_source=ics&utm
 _campaign=ics
END:VEVENT
END:VCALENDAR
