BEGIN:VCALENDAR
VERSION:2.0
PRODID:-//https://techplay.jp//JP
CALSCALE:GREGORIAN
METHOD:PUBLISH
X-WR-CALDESC:インテージテクノスフィア×アゼスト　～JTUG
 スポンサー２社合同SP～【Tableauラジオ #84】
X-WR-CALNAME:インテージテクノスフィア×アゼスト　～JTUG
 スポンサー２社合同SP～【Tableauラジオ #84】
X-WR-TIMEZONE:Asia/Tokyo
BEGIN:VTIMEZONE
TZID:Asia/Tokyo
BEGIN:STANDARD
DTSTART:19700101T000000
TZOFFSETFROM:+0900
TZOFFSETTO:+0900
TZNAME:JST
END:STANDARD
END:VTIMEZONE
BEGIN:VEVENT
UID:962544@techplay.jp
SUMMARY:インテージテクノスフィア×アゼスト　～JTUGスポ
 ンサー２社合同SP～【Tableauラジオ #84】
DTSTART;TZID=Asia/Tokyo:20241115T200000
DTEND;TZID=Asia/Tokyo:20241115T210000
DTSTAMP:20260425T132642Z
CREATED:20241029T012117Z
DESCRIPTION:イベント詳細はこちら\nhttps://techplay.jp/event/96254
 4?utm_medium=referral&utm_source=ics&utm_campaign=ics\n\n概要\n11月は
 JTUG スポンサーのインテージテクノスフィア様、アゼ
 スト様をゲストにお迎えしてお届けしていきます。JTUG
 スポンサーになられた経緯や、各社が行っている取組
 ・業務内容についてお話ししていただきます！\n・株
 式会社アゼスト　https://www.azest.co.jp/\n・株式会社イン
 テージテクノスフィア　https://www.intage-technosphere.co.jp/\n
 パーソナリティ：JTUG　のりピー、松永\nゲスト：（順
 不同、敬称略）\n【株式会社アゼスト】\n\n佐々木 厚滋
 （ささき こうじ）\n学生時代は医用工学を学ぶ。教員
 としてキャリアをスタート。その後IT業界へ転身し、
 マレーシア、シンガポールに駐在勤務を経てアゼスト
 へジョイン。現在はバックグラウンドである医用工学
 をもとに医療コンサルティングや医療関係のデータ分
 析等を担当している。\n\n松永 華奈（まつなが かな）\
 n広告代理店からキャリアをスタート。数字の見せ方に
 興味を持ち、アゼストへ入社。現在はTableauのダッシュ
 ボードからGCPやサーバー等のバックエンドも対応して
 いる。多趣味でアクティブな引きこもりというのがモ
 ットー。\n【株式会社インテージテクノスフィア】\n\n
 久保田 郁亮（くぼた ふみあき）株式会社インテージ
 テクノスフィア 事業シナジーセンター データアーキ
 テクトグループ グループリーダー\n2011年入社。アンケ
 ート集計システム開発、データ統合基盤開発およびそ
 の活用啓蒙を経て、 現在は事業シナジーセンターでBI
 ツールからデータ基盤までデータ活用の企画・開発を
 支援。最近はファスティングに取り組めていないのが
 悩み。\n\n矢澤 伸也（やざわ しんや）株式会社インテ
 ージテクノスフィア 事業シナジーセンター データア
 ーキテクトグループ マネージャー\n2003年中途入社。リ
 サーチ＆システムをコンセプトに新規サービス開発に
 従事。当社のビジョン「データに魂を吹き込み、世の
 中を感動させる」の実現に向けて、 データドリブン経
 営を支援するためのデータ活用とそのための仕組のソ
 リューション開発を行っている。趣味は登山とランニ
 ングと読書（幕末の読み物）。\n-----------------------------
 -----------------------------------------------------------------\n※過
 去のアーカイブはたぶラジアーカイブリストをチェッ
 ク※このラジオの紹介についてはこちら！\n主催\nJapan 
 Tableau User Group (JTUG)\n協力\n株式会社セールスフォース
 ・ジャパン\nスポンサー\n\n\n\n　プラチナ\nゴールド\n
 シルバー\n\n\n\n\nちゅらデータ株式会社CData Software Japan 
 合同会社株式会社truestar\n株式会社インテージテクノス
 フィア株式会社アゼスト株式会社マネジウェル\n株式
 会社プリンシプル株式会社NTTデータ株式会社セラクCCC
 株式会社アイティソリューション\n\n\n\nハッシュタグ\n
 #TUG #JTUG #たぶラジ #TableauRadio #JTUGRadioNight\n注意事項\n\n
 リクルーティング、勧誘など、採用目的でのイベント
 参加はお断りしております。\n欠席される場合は、お
 手数ですが速やかにキャンセル処理をお願い致します
 。\n
LOCATION:
URL:https://techplay.jp/event/962544?utm_medium=referral&utm_source=ics&utm
 _campaign=ics
END:VEVENT
END:VCALENDAR
