BEGIN:VCALENDAR
VERSION:2.0
PRODID:-//https://techplay.jp//JP
CALSCALE:GREGORIAN
METHOD:PUBLISH
X-WR-CALDESC:11/13(水)開催【GA4セミナー】コンバージョン数
 を最大化するためのGA4サイト分析の仕方［無料オンラ
 インウェビナー］
X-WR-CALNAME:11/13(水)開催【GA4セミナー】コンバージョン数
 を最大化するためのGA4サイト分析の仕方［無料オンラ
 インウェビナー］
X-WR-TIMEZONE:Asia/Tokyo
BEGIN:VTIMEZONE
TZID:Asia/Tokyo
BEGIN:STANDARD
DTSTART:19700101T000000
TZOFFSETFROM:+0900
TZOFFSETTO:+0900
TZNAME:JST
END:STANDARD
END:VTIMEZONE
BEGIN:VEVENT
UID:962769@techplay.jp
SUMMARY:11/13(水)開催【GA4セミナー】コンバージョン数を最
 大化するためのGA4サイト分析の仕方［無料オンライン
 ウェビナー］
DTSTART;TZID=Asia/Tokyo:20241113T140000
DTEND;TZID=Asia/Tokyo:20241113T150000
DTSTAMP:20260425T132732Z
CREATED:20241030T082424Z
DESCRIPTION:イベント詳細はこちら\nhttps://techplay.jp/event/96276
 9?utm_medium=referral&utm_source=ics&utm_campaign=ics\n\n【GA4セミナ
 ー】コンバージョン数を最大化するためのGA4サイト分
 析の仕方［無料オンラインウェビナー］\nWebマーケテ
 ィングのバリューエージェントでは、GA4を使ったサイ
 ト改善のための利用方法セミナーを開催することにな
 りました。\n今回の「コンバージョン数を最大化する
 ためのGA4サイト分析の仕方」の対象者はこんな方です
 。\n✔︎ GA4のレポートはいつも見てる✔︎ データ探索
 も使ったことがある✔︎サイト改善のためにGA4をどう
 使えばいいか分からない✔︎サイト分析に役立てる探
 索をどう作ればいいかわからない\n中小企業のウェブ
 担当者、広告代理店やホームページ制作会社に勤務し
 ている方、中小企業の社長、士業やフリーランスの方
 でGA4をサイト改善につなげる方法がイマイチわからな
 い方なら、どんな方でも来ていただいて結構です。\n
 セミナーの内容\n\nサイト分析の必要性\nGA4で分かるこ
 と、分からないこと\nサイト分析の前に必要な作業\n分
 析のポイント\n具体的なレポートや探索の見方\n\nセミ
 ナーに来るとこんなことが手にはいります\n\nサイト分
 析とは何か？がわかります\nサイト改善の方向性がわ
 かります\nGA4でできる範囲がわかります\n分析に必要な
 レポートと見方がわかります\nサイト全体の改善に必
 要な探索の具体例がわかります\n\nこのセミナーを通じ
 て、GA4の活用方法を身に付け、ウェブサイトの改善に
 役立てていただければ幸いです。ぜひ、この機会を逃
 さずご参加ください。皆様とお会いできるのを楽しみ
 にしております。ご質問やご不明点がございましたら
 、お気軽にお問い合わせください。\nGA4オンラインセ
 ミナーに参加した人の声\n個人事業主　H.K.様ついつい
 アクセスを稼ぐことばかり考えていましたが、その前
 のマインドセットも重要だということが分かりました
 。話も分かりやすく、聞きやすかったです。\nメディ
 ア制作会社　S.M.様全くGooleアナリティクスのことを知
 らずに来たのですが、とても分かりやすくて、周りの
 方と一緒に学べた感じがして楽しく受講できました。
 ありがとうございました。\n人材業界　M様分析の着眼
 点やGoogleアナリティクスで調査できる概要を理解でき
 ました。 ありがとうございました。\n登壇者\n松村 成
 裕 (株式会社バリューエージェント)\n\n株式会社バリュ
 ーエージェント\nウェブコンサルタント/マーケティン
 グエンジニア\n松村 成裕\n\n2002年からECサイト運営会社
 でウェブ担当者としてキャリアをスタートし多数のEC
 サイトの売上アップを実現、以来数百サイトの運営に
 関わってきました。\n\nウェブサイト設計・企画から、
 SEO対策・コンバージョン改善、運営管理、システム開
 発・WordPressのカスタマイズなど、ウェブサイト運営全
 般をサポートするコンサルタント・エンジニアです。\
 n\nセミナー概要・お申込み\nセミナー名【GA4セミナー
 】コンバージョン数を最大化するためのGA4サイト分析
 の仕方［無料オンラインウェビナー］\n対象\n\nGAで数
 値を追っているけれど、活用法が分からない\nサイト
 改善にGA4をどう使えばいいか分からない\nサイト分析
 に役立てる探索をどう作ればいいかわからない\n\n日時
 2024年11月13日(水)　14:00～15:00（13:50受付開始）\n場所オ
 ンライン開催\n※メールにて参加用のZOOMのURLをお送り
 します。※出席の確認もございますので、10分前には
 ご入室頂きますようお願いいたします。\n参加料無料\n
 定員30名
LOCATION:
URL:https://techplay.jp/event/962769?utm_medium=referral&utm_source=ics&utm
 _campaign=ics
END:VEVENT
END:VCALENDAR
