BEGIN:VCALENDAR
VERSION:2.0
PRODID:-//https://techplay.jp//JP
CALSCALE:GREGORIAN
METHOD:PUBLISH
X-WR-CALDESC:Java超初級C
X-WR-CALNAME:Java超初級C
X-WR-TIMEZONE:Asia/Tokyo
BEGIN:VTIMEZONE
TZID:Asia/Tokyo
BEGIN:STANDARD
DTSTART:19700101T000000
TZOFFSETFROM:+0900
TZOFFSETTO:+0900
TZNAME:JST
END:STANDARD
END:VTIMEZONE
BEGIN:VEVENT
UID:963072@techplay.jp
SUMMARY:Java超初級C
DTSTART;TZID=Asia/Tokyo:20241109T160000
DTEND;TZID=Asia/Tokyo:20241109T170000
DTSTAMP:20260426T041127Z
CREATED:20241102T060456Z
DESCRIPTION:イベント詳細はこちら\nhttps://techplay.jp/event/96307
 2?utm_medium=referral&utm_source=ics&utm_campaign=ics\n\nJava勉強会を
 開催します。教科書は以下のものを使用します。    \n
 「スッキリわかるJava入門 第4版 スッキリわかるシリー
 ズ 」\nhttps://amzn.asia/d/7e3tBhv\n参加されたい方は、connpass
 に参加登録の上、Discordサーバにご入室ください。\n始
 めからやっていきます。
LOCATION:Skype理工学勉強会 オンライン
URL:https://techplay.jp/event/963072?utm_medium=referral&utm_source=ics&utm
 _campaign=ics
END:VEVENT
END:VCALENDAR
