BEGIN:VCALENDAR
VERSION:2.0
PRODID:-//https://techplay.jp//JP
CALSCALE:GREGORIAN
METHOD:PUBLISH
X-WR-CALDESC:統制と自由を両立する、セキュアなGoogle Cloud
 基盤のつくりかた
X-WR-CALNAME:統制と自由を両立する、セキュアなGoogle Cloud
 基盤のつくりかた
X-WR-TIMEZONE:Asia/Tokyo
BEGIN:VTIMEZONE
TZID:Asia/Tokyo
BEGIN:STANDARD
DTSTART:19700101T000000
TZOFFSETFROM:+0900
TZOFFSETTO:+0900
TZNAME:JST
END:STANDARD
END:VTIMEZONE
BEGIN:VEVENT
UID:963429@techplay.jp
SUMMARY:統制と自由を両立する、セキュアなGoogle Cloud基盤
 のつくりかた
DTSTART;TZID=Asia/Tokyo:20241219T160000
DTEND;TZID=Asia/Tokyo:20241219T170000
DTSTAMP:20260423T013725Z
CREATED:20241106T103142Z
DESCRIPTION:イベント詳細はこちら\nhttps://techplay.jp/event/96342
 9?utm_medium=referral&utm_source=ics&utm_campaign=ics\n\n統制と自由
 を両立する、セキュアなGoogle Cloud基盤のつくりかた\n
 概要\nGoogle Cloud は、使い勝手の良いパブリッククラウ
 ドサービスであり、開発者はスピード感をもってアプ
 リケーションを開発することができます。しかしなが
 ら、企業にとって重要な課題である統制やセキュリテ
 ィは、スピード感とトレードオフの関係にあります。
 今回のウェビナーでは、「統制やセキュリティ」と「
 開発のスピード感や開発者の自由」とを両立させるた
 めの、Google Cloud の管理手法をお伝えします。\nタイム
 スケジュール\n\n\n\n時間\n内容\n\n\n\n\n15:50 -\n受付開始\n
 \n\n16:00 - 16:50\n◆講師株式会社G-gen執行役員CTO杉村 勇馬
 \n\n\n16:50-17:00\n質問コーナー、アンケートのご案内\n\n\n
 \n※ 当日予告なく時間配分・内容が変更になる可能性
 がございます。\n参加対象\n\nIT インフラやクラウドを
 管理する立場の方\n情報セキュリティを管理する立場
 の方\n社内でセキュアに Google Cloud を使いたい（使わせ
 たい）方\nGoogle Cloud を使う部署が複数あって、統制を
 取りたい方\n\n参加費\n無料\n注意事項\n\nリクルーティ
 ング、勧誘など、採用目的でのイベント参加はお断り
 しております。\nキャンセル待ち・補欠・落選の方は
 ご参加いただくことが出来ませんのでご了承ください
 。\n欠席される場合は、お手数ですが速やかにキャン
 セル処理をお願い致します。\n無断キャンセルや欠席
 が続く場合、次回以降の参加をお断りさせていただく
 場合がございます。\n大変恐縮ではございますが、同
 業・競合他社の皆様につきましては、セミナーへの参
 加をご遠慮いただいております。\n
LOCATION:
URL:https://techplay.jp/event/963429?utm_medium=referral&utm_source=ics&utm
 _campaign=ics
END:VEVENT
END:VCALENDAR
