BEGIN:VCALENDAR
VERSION:2.0
PRODID:-//https://techplay.jp//JP
CALSCALE:GREGORIAN
METHOD:PUBLISH
X-WR-CALDESC:Python Boot Camp in 鹿児島 3rd 懇親会
X-WR-CALNAME:Python Boot Camp in 鹿児島 3rd 懇親会
X-WR-TIMEZONE:Asia/Tokyo
BEGIN:VTIMEZONE
TZID:Asia/Tokyo
BEGIN:STANDARD
DTSTART:19700101T000000
TZOFFSETFROM:+0900
TZOFFSETTO:+0900
TZNAME:JST
END:STANDARD
END:VTIMEZONE
BEGIN:VEVENT
UID:963978@techplay.jp
SUMMARY:Python Boot Camp in 鹿児島 3rd 懇親会
DTSTART;TZID=Asia/Tokyo:20250111T173000
DTEND;TZID=Asia/Tokyo:20250111T193000
DTSTAMP:20260422T220211Z
CREATED:20241111T210706Z
DESCRIPTION:イベント詳細はこちら\nhttps://techplay.jp/event/96397
 8?utm_medium=referral&utm_source=ics&utm_campaign=ics\n\nPython Boot Camp
  in 鹿児島 3rd イベント終了後の懇親会です\nPython Boot Ca
 mp の後、参加しての感想や、Pythonの勉強方法など、色
 々感じたことを語り合いましょう。 \nチュートリアル
 イベント参加者の方は「本イベント参加者枠」から申
 し込みをお願いします。\nチュートリアルに参加され
 ない方で懇親会のみ参加を希望する方は、下記「懇親
 会だけの参加について」を確認した上で「懇親会のみ
 参加枠」から申し込みください。\nPython Boot Campとは\nPy
 Con JPではこれまでも年に１回東京で開催されるPyCon JP
 イベントでPythonを学べるチュートリアル講座を開催し
 てきました。 今回は、以下のような人たちにPythonを知
 ってもらえる機会を提供できたらという思いで、Python 
 Boot Camp（略してPyCamp）を企画しました。\n\n遠方に住ん
 でいるためPyCon JPのチュートリアルに参加できずにい
 た方\nPythonを使っている人が周りにいなくてなかなか
 始められなかった方\n\nPyCon JPサイトに掲載の企画詳細\
 nPython Boot Camp in 鹿児島3rd\nPython Boot Campチュートリアル
 には本イベントのconnpassページから参加登録いただけ
 ます。\n日時・場所\n日時：\n\n2025年01月11日(土) 17:30 - 1
 9:30\n\n会場：\n\nえご家\n鹿児島県鹿児島市中央町21-8\n\n
 費用\n\n会場での清算（後払い）で4\,500円(税込)の飲み
 放題付きのコース料理とする予定です。\n\n懇親会だけ
 の参加について\nPython Boot Campチュートリアルイベント
 には参加できない方でも懇親会だけ参加できます。 当
 日は、直接懇親会会場にお越しください。 また、万が
 一懇親会場所の都合などでチュートリアル参加者人数
 以上収容できない場合などは、connpassページを通して
 お断りすることがあるかもしれませんのでご了承くだ
 さい。\n運営\nPython Boot Campイベントは一般社団法人PyCon
  JP Associationが運営しています。\nご意見・お問い合わ
 せはpycamp@pycon.jpまでお願いします。
LOCATION:えご家 鹿児島県鹿児島市中央町21-8
URL:https://techplay.jp/event/963978?utm_medium=referral&utm_source=ics&utm
 _campaign=ics
END:VEVENT
END:VCALENDAR
