BEGIN:VCALENDAR
VERSION:2.0
PRODID:-//https://techplay.jp//JP
CALSCALE:GREGORIAN
METHOD:PUBLISH
X-WR-CALDESC:サイト立ち上げから1年以内で受注　お問合せ
 数を5倍、10倍にするために必要な活動とは？
X-WR-CALNAME:サイト立ち上げから1年以内で受注　お問合せ
 数を5倍、10倍にするために必要な活動とは？
X-WR-TIMEZONE:Asia/Tokyo
BEGIN:VTIMEZONE
TZID:Asia/Tokyo
BEGIN:STANDARD
DTSTART:19700101T000000
TZOFFSETFROM:+0900
TZOFFSETTO:+0900
TZNAME:JST
END:STANDARD
END:VTIMEZONE
BEGIN:VEVENT
UID:964058@techplay.jp
SUMMARY:サイト立ち上げから1年以内で受注　お問合せ数を
 5倍、10倍にするために必要な活動とは？
DTSTART;TZID=Asia/Tokyo:20241212T170000
DTEND;TZID=Asia/Tokyo:20241212T174500
DTSTAMP:20260420T060604Z
CREATED:20241112T093247Z
DESCRIPTION:イベント詳細はこちら\nhttps://techplay.jp/event/96405
 8?utm_medium=referral&utm_source=ics&utm_campaign=ics\n\n≪講演概要
 ≫・マーケティング強者でなければコンテンツマーケ
 ティングはうまくいかないのか？・ビッグワードでの
 検索順位1位が本当に必要ですか？・自社に合ったコン
 テンツマーケティングの戦略を組むべし・大手企業や
 有名ベンチャーでなくともコンテンツマーケティング
 で受注を生んだ成功事例を紹介・具体的に行うべき活
 動とは？ ≪ウェビナーでわかること≫・出遅れた企
 業でもコンテンツマーケティングで成功するための戦
 略・受注につながるWebサイトを作るために必要なサイ
 ト設計の考え方・スモールワードで堅実にOrganic流入を
 取る方法\n≪下記に該当する方の参加をオススメしま
 す≫BtoBサイトの設計や制作の方針に悩んでいるBtoBサ
 イトをもっと活用したいBtoBビジネスでさらに成果を伸
 ばしたいWebサイトの成果を出したいと考えている\n【
 テーマ】＼サイト立ち上げから1年以内で受注／お問合
 せ数を5倍、10倍にするために必要な活動とは？\n【日
 時】2024-12-12 17:00-17:45\n【場所】オンライン開催（Zoom）
 \n【費用】参加無料※法人向けのセミナーです。同業
 他社様のご参加はご遠慮いただいております。　\n注
 意事項\n\nリクルーティング、勧誘など、採用目的での
 イベント参加はお断りしております。\nキャンセル待
 ち・補欠・落選の方はご参加いただくことが出来ませ
 んのでご了承ください。\n欠席される場合は、お手数
 ですが速やかにキャンセル処理をお願い致します。\n
 無断キャンセルや欠席が続く場合、次回以降の参加を
 お断りさせていただく場合がございます。\n
LOCATION:
URL:https://techplay.jp/event/964058?utm_medium=referral&utm_source=ics&utm
 _campaign=ics
END:VEVENT
END:VCALENDAR
