BEGIN:VCALENDAR
VERSION:2.0
PRODID:-//https://techplay.jp//JP
CALSCALE:GREGORIAN
METHOD:PUBLISH
X-WR-CALDESC:【増枠】プロダクとーく #1
X-WR-CALNAME:【増枠】プロダクとーく #1
X-WR-TIMEZONE:Asia/Tokyo
BEGIN:VTIMEZONE
TZID:Asia/Tokyo
BEGIN:STANDARD
DTSTART:19700101T000000
TZOFFSETFROM:+0900
TZOFFSETTO:+0900
TZNAME:JST
END:STANDARD
END:VTIMEZONE
BEGIN:VEVENT
UID:964214@techplay.jp
SUMMARY:【増枠】プロダクとーく #1
DTSTART;TZID=Asia/Tokyo:20241203T191500
DTEND;TZID=Asia/Tokyo:20241203T210000
DTSTAMP:20260420T071004Z
CREATED:20241113T140603Z
DESCRIPTION:イベント詳細はこちら\nhttps://techplay.jp/event/96421
 4?utm_medium=referral&utm_source=ics&utm_campaign=ics\n\n概要\n昨今
 の技術革新のスピードや生成AIの出現により、エンジ
 ニアやデータサイエンティストなどの技術者に対して
 より一層「ビジネス理解」が求められるようになって
 きています。\n一方で、「ビジネス理解」とは何を意
 味しているのか、何をすれば「ビジネス理解」を得ら
 れるのか、が厳密に言語化されているケースは少ない
 のではないでしょうか。\nそこで今回はこうした課題
 背景を踏まえて、ビジネス/技術それぞれの領域で活躍
 されている方をお招きし、より良いモノづくりのため
 に実際の現場で技術者に求められる「ビジネス理解」
 とは何か、をビジネス/技術それぞれの視点からお話い
 ただきます。\nこんな方におすすめ\n\nサービス設計に
 携わるプロダクトマネージャーの方や、データサイエ
 ンティストと関わるビジネス職の方\nエンジニア・デ
 ータサイエンティストなどの技術職をこれから希望す
 る方やキャリアを歩み始めたばかりの方で、一定の経
 験を積んだ後の技術職以外のキャリアパスを知りたい
 方\nエンジニアとして一定の経験を積み、プロダクト
 設計全般や企画の仕事に向き合うようになりつつある
 方\n\nタイムスケジュール\n\n\n\n時間\nコンテンツ\n\n\n\n
 \n18:45\n受付開始\n\n\n19:15 - 19:25\nオープニングトーク\n\n
 \n19:25 - 20:15\n第一部：パネルディスカッション\n\n\n20:15
  - 20:25\n第二部：Q&A\n\n\n20:25 - 20:30\nクロージング\n\n\n20:
 30 - 21:00\n交流会\n\n\n\nイベント詳細\n日時/場所につい
 て（オフラインにて開催いたします）\n▼開催日\n2024
 年12月3日（火）19:15-21:00\n※懇親会のみの参加はできま
 せん。\n▼会場\n〒150-0002 東京都渋谷区渋谷2丁目24-12 
 渋谷スクランブルスクエア 21階\n※アクセス\n※オフラ
 インのみの開催です。\n▼参加費\n無料\n※交通費等は
 自己負担となります。\n参加の申し込みについて\n\n申
 し込み時にオフライン参加に必要なアンケートはすべ
 ての項目をご回答ください。\n該当のご回答が無い場
 合はオフライン参加をお断りさせていただきます。ご
 了承ください。\n\n当日の進行について\n\n入館方法を
 いただいたメールアドレスにお送りいたしますので手
 順に沿ってご来社ください。\n※当日お申込された方
 は、申込時のアンケートにご回答いただいていること
 を確認後、ビル17階にて入館証をお渡しいたします。\n
 ※当日、会場にてお名刺または学生証の提示をいただ
 きます。\n\n登壇者\nスピーカー\n髙橋 健太郎\n\n\n\n\n\n
 所属：株式会社LayerX\n職種：Fintech事業部 VPoE\n\nLayerX Fin
 tech事業部にてエンジニアリング組織のマネジメント全
 般を担当。ALTERNA(個人向け投資サービス)の開発も並行
 して実施。以前はPairs(エウレカ) で開発責任者・バッ
 クエンドチームのEMやDeNAでソーシャルゲーム開発など
 にも従事。\n平山 智香子\n\n\n\n\n\n所属：株式会社メル
 カリ\n職種：Business Intelligence (データアナリスト)\n\n2018
 年東京大学経済学研究科マネジメント専攻を修了後、
 株式会社コロプラに入社し、新規事業開発としてバー
 チャルYouTuber事業に従事後、データアナリストに転身
 。株式会社ミラティブを経て、2023年より現職。メルカ
 リShops・ロジスティックスにて、施策効果の試算・検
 証やデータ分析基盤整備など意思決定支援を担当。\n
 松井 諒生\n\n\n\n\n\n所属：株式会社リクルート\n職種：
 データサイエンティスト\n\n2022年4月東京工業大学経営
 工学系の修士号を取得後、株式会社リクルートに新卒
 入社。現在は戦略立案、マーケティング、UI/UX改善を
 推進するデータサイエンティストとして、機械学習プ
 ロダクトの開発やデータ分析・KPIマネジメント等の業
 務に従事している。\nX：@hand10ryo\n早川 裕太\n\n\n\n\n\n所
 属：株式会社サイバーエージェント\n職種：データサ
 イエンティスト/プロダクトマネージャー\n\n2019年東京
 工業大学情報理工学院修士課程修了後，サイバーエー
 ジェント入社。アドテク領域にて分析及び研究開発に
 従事。2020年より小売との協業事業において，広告配信
 プロダクトの立ち上げやグロースに参画。現在は、生
 成AIを活用した POSデータ分析ツール「AI POS（エーアイ
 ポス）」のプロダクト責任者を務める。\nX：@qiringji\n
 モデレーター\n杉山 侑吏\n\n\n\n\n\n所属：株式会社サイ
 バーエージェント\n職種：事業開発/データサイエンテ
 ィスト\n\n株式会社サイバーエージェントにて、事業会
 社との協業による新規事業の立ち上げに参画。事業会
 社の有するデータからビジネス価値を生み出すことを
 軸に、データ分析に留まらず、事業開発領域の業務を
 担当している。以前は半熟仮想株式会社で商品企画や
 施策検証分析などにも従事。\nCode of Conduct\n本イベント
 では、以下のCode of Conductを適用しております。皆様が
 歓迎され、安心・安全なイベントとして楽しい時間を
 過ごせるよう、Code of Conductをぜひご一読ください。\nCA
  Tech Events - Code of Conduct \n注意事項（必ずご確認くださ
 い）\n\n\nconnpassの受付票に記載のご本人のみが参加で
 きます。受付票をお持ちでない方は入場できません。
 受付票はスマートフォンでの提示で入場できます。\n\n
 \n会場内では、運営が写真や動画を撮影する場合がご
 ざいます。撮影した画像や映像は、できる限りお顔等
 が映らない形で技術ブログやSNS等の社外発信で利用さ
 せていただく場合がございますので、あらかじめご了
 承ください。\n\n\nイベントスタッフは、このイベント
 に関わる全員が気持ちよく過ごせるように考えていま
 す。参加者の皆さまも、ほかの方を不快にさせるよう
 な発言・行動は謹んでいただくようご了承のほどお願
 いいたします。またそのような行動を目にした方は、
 お近くの社員に声をかけていただくか、connpassの「イ
 ベントへのお問い合わせ」フォームからお知らせくだ
 さい。\n\n\n講演の録画および録音は禁止しております
 。録画した動画、音声などを無断で公開した場合、著
 作権の侵害となる恐れがあります。\n\n\nブログやSNS等
 で当イベントに関する発信を行う際は、公序良俗に反
 する内容のないよう、ご協力をお願いします。\n\n\n当
 勉強会はセッション内容に興味のある方の参加をお願
 いしております。飲食のみ、勧誘、営業などを目的と
 した参加はご遠慮ください。なお、運営者が該当する
 と判断した方が見受けられた場合は、お帰りいただく
 場合がございますのでご了承ください。\n\n\n参加目的
 が不適切だと判断される場合には、運営側で参加をキ
 ャンセルさせていただく場合がございます。\n\n\n会場
 内は禁煙です。\n\n\n悪天候等により、運営事務局の判
 断にてイベントを中止する場合があります。\n\n\n運営
 の状況によりスケジュール、内容は変更となる場合が
 あります。\n\n\n免責事項\n\n\n本カンファレンス内にお
 いて発生した一切の事故や怪我・病気などの責任を負
 いかねますことをあらかじめご了承ください。\n\n\n貴
 重品の管理は各自でお願いいたします。万一盗難・紛
 失等の事故が発生しても、主催者は一切責任を負えま
 せん。\n\n\n本カンファレンスから得られた情報により
 、何らかの損害を負った場合であっても、発表者並び
 に主催者は一切の責任を負いません。予めご了承くだ
 さい。\n\n\n個人情報のお取り扱いについて\n主催：株
 式会社サイバーエージェント\n事前・事後アンケート
 、その他、当イベントを通じて取得した個人情報等の
 取扱いはプライバシーポリシーに従って取り扱います
 。\nまたイベント受付管理や各種ご案内（サービス・
 イベント・採用等）に利用させていただく場合があり
 ます。\nご同意の上、ご参加ください。\n株式会社サイ
 バーエージェント プライバシーポリシー：https://www.cyb
 eragent.co.jp/privacy/
LOCATION:渋谷スクランブルスクエア 21階 東京都渋谷区渋
 谷2丁目24-12 渋谷スクランブルスクエア
URL:https://techplay.jp/event/964214?utm_medium=referral&utm_source=ics&utm
 _campaign=ics
END:VEVENT
END:VCALENDAR
