BEGIN:VCALENDAR
VERSION:2.0
PRODID:-//https://techplay.jp//JP
CALSCALE:GREGORIAN
METHOD:PUBLISH
X-WR-CALDESC:【FITA】第４回ITスキルWG：デジタルを活用した
 社内コミュニケーション
X-WR-CALNAME:【FITA】第４回ITスキルWG：デジタルを活用した
 社内コミュニケーション
X-WR-TIMEZONE:Asia/Tokyo
BEGIN:VTIMEZONE
TZID:Asia/Tokyo
BEGIN:STANDARD
DTSTART:19700101T000000
TZOFFSETFROM:+0900
TZOFFSETTO:+0900
TZNAME:JST
END:STANDARD
END:VTIMEZONE
BEGIN:VEVENT
UID:964229@techplay.jp
SUMMARY:【FITA】第４回ITスキルWG：デジタルを活用した社
 内コミュニケーション
DTSTART;TZID=Asia/Tokyo:20250123T180000
DTEND;TZID=Asia/Tokyo:20250123T203000
DTSTAMP:20260419T165957Z
CREATED:20241113T153018Z
DESCRIPTION:イベント詳細はこちら\nhttps://techplay.jp/event/96422
 9?utm_medium=referral&utm_source=ics&utm_campaign=ics\n\n第４回ITス
 キルWG：デジタルを活用した社内コミュニケーション\n
 概要\n2024年1月23日(木)、「第４回ITスキルWG：デジタル
 を活用した社内コミュニケーション」をオンオフハイ
 ブリッドにて開催いたします。当日は、金融機関にお
 けるデジタルを活用した社内コミュニケーションの取
 組みの発表を中心として、事例を学ぶことのできる勉
 強会を実施いたします。最後にはオフライン限定での
 懇親会を開催する予定です。\n金融ＩＴ協会（FITA）のI
 TスキルWGでは、本イベントの開催に先立ち「社内コミ
 ュニケーションツールに関するアンケート」へのご回
 答をお願いしております。回答結果については、サマ
 リーを本イベント内にて還元予定ですので、金融機関
 の皆さまは是非、ご回答いただきますようお願いいた
 します。\n【社内コミュニケーションツールに関する
 アンケート】（回答期限：1月16日(木)）https://docs.google.
 com/forms/d/1SaY1ODZw4V-Y8SyKrCvdIyrxAI62xipEmbqwxzsf2mA/\nタイムス
 ケジュール\n司会：牛膓 浩隆　氏（日本電気 アカウン
 トマネージャー、金融ＩＴ協会（FITA） ITスキルWG長代
 行）\n\n\n\n時間\n内容\n\n\n\n\n18:00〜18:05\n開会挨拶（5分
 ）深澤 孝治　氏（セブン銀行 常務執行役員、金融Ｉ
 Ｔ協会（FITA） 理事 ITスキルWG長）\n\n\n18:05〜18:15\nオー
 プニングセッション（10分）会員へのアンケート結果
 発表太田 真志　氏（日本電気、金融ＩＴ協会（FITA） I
 TスキルWG）\n\n\n18:15〜18:30\n金融機関特別講演Ⅰ（15分
 ）社内SNSでの寄ってたかってのコミュニケーション仲
 谷 俊之　氏（京都信用金庫 総合企画部 代理）\n\n\n18:3
 0〜18:45\n金融機関特別講演Ⅱ（15分）内製DX組織のコミ
 ュニケーションにおけるSlackの活用例唐沢 勇輔　氏（J
 apan Digital Design Technology and Development DivisionHead od TDD）岡
 田 彰介　氏（Japan Digital Design株式会社 COO 兼 Head of CC Of
 fice）\n\n\n18:45〜19:00\n金融機関特別講演Ⅲ（15分）関根 
 毅　氏（みずほリサーチ＆テクノロジーズ株式会社 技
 術開発本部 技術開発推進部）\n\n\n19:00〜19:15\n金融機関
 特別講演Ⅳ（15分）デジタルツールで実現する多様な
 コミュニケーションと金融ガバナンス田中 まり　氏（
 株式会社大和総研 システムマネジメント本部 DX推進部
  副部長）\n\n\n19:15〜19:25\nインタラクティブQ＆A（10分
 ）\n\n\n19:25〜19:30\nクロージング＋次回告知（5分）増子
  洋　氏（イグニション・ポイント ディレクター、金
 融ＩＴ協会（FITA） ITスキルWG）\n\n\n19:30〜20:30\n懇親会\
 n\n\n\n※ 当日予告なく時間配分・内容が変更になる可
 能性がございます。\n参加対象\n\n金融ＩＴ協会（FITA）
 会員\n\n参加費\n\n無料\n\n参加特典\n\n金融ＩＴ協会（FIT
 A）特製ステッカー\n\n注意事項\n\n当イベントは原則会
 員限定となります。会員外で参加を希望される場合は
 事務局（staff@fita.or.jp）までお問い合わせください。\n
 このイベントで撮影された動画や写真はオンラインプ
 ラットフォームやSNSにアップされ、参加者が映り込む
 可能性があります。ご了承ください。\n
LOCATION:FinGATE KAYABA 1F イベントスペース 〒103-0025 東京都
 中央区日本橋茅場町1-8-1 茅場町一丁目平和ビル１階
URL:https://techplay.jp/event/964229?utm_medium=referral&utm_source=ics&utm
 _campaign=ics
END:VEVENT
END:VCALENDAR
