BEGIN:VCALENDAR
VERSION:2.0
PRODID:-//https://techplay.jp//JP
CALSCALE:GREGORIAN
METHOD:PUBLISH
X-WR-CALDESC:【12/6開催！成功事例から学ぶ、自社に合ったS
 ASEの選び方ー【事例セミナー】 SCSK SASE Solution Summit (S4)
 事例編ー
X-WR-CALNAME:【12/6開催！成功事例から学ぶ、自社に合ったS
 ASEの選び方ー【事例セミナー】 SCSK SASE Solution Summit (S4)
 事例編ー
X-WR-TIMEZONE:Asia/Tokyo
BEGIN:VTIMEZONE
TZID:Asia/Tokyo
BEGIN:STANDARD
DTSTART:19700101T000000
TZOFFSETFROM:+0900
TZOFFSETTO:+0900
TZNAME:JST
END:STANDARD
END:VTIMEZONE
BEGIN:VEVENT
UID:964620@techplay.jp
SUMMARY:【12/6開催！成功事例から学ぶ、自社に合ったSASE
 の選び方ー【事例セミナー】 SCSK SASE Solution Summit (S4)事
 例編ー
DTSTART;TZID=Asia/Tokyo:20241206T150000
DTEND;TZID=Asia/Tokyo:20241206T170000
DTSTAMP:20260420T062538Z
CREATED:20241118T003030Z
DESCRIPTION:イベント詳細はこちら\nhttps://techplay.jp/event/96462
 0?utm_medium=referral&utm_source=ics&utm_campaign=ics\n\n【12/6開催！
 成功事例から学ぶ、自社に合ったSASEの選び方ー【事例
 セミナー】 SCSK SASE Solution Summit (S4)事例編ー\nこちらの
 サイトからもお申込みいただけます。\n概要\n「SASE」
 導入事例セミナー開催決定！SASE導入で実現した、劇的
 な変化とは？成功事例から学ぶ、自社に最適なSASEの選
 び方SASE導入を検討しているが、何から始めればいいか
 分からない。自社に最適なSASE製品はどれか。そんな悩
 みをお持ちではありませんか？本セミナーでは、様々
 な業界の企業がどのようにSASEを導入し、成功している
 のか、その事例をご紹介します。セキュリティ強化、
 コスト削減、業務効率化など、貴社の課題解決につな
 がるヒントがきっと見つかります。SASE導入を検討され
 ている方はもちろん、導入済みでさらなる効果を上げ
 たいとお考えの方も、ぜひご参加ください。当日は、S
 ASEに関するよくある質問もご紹介いたします。 \nタイ
 ムスケジュール\n\n\n\n時間\n内容\n\n\n\n\n15:00〜15:10\n製
 品概要\n\n\n15:10〜15:25\n【導入事例1】Catoクラウド\n\n\n15
 :25〜15:40\n【導入事例2】Smart One Access Powered by Prisma Access
 \n\n\n15:40〜15:55\n【導入事例3Netskope\n\n\n15:55〜16:10\n【導
 入事例4】Cisco Secure Connect\n\n\n16:10〜16:25\n【FAQセッショ
 ン】SASE導入時のよくあるご質問を各サービスの担当者
 がまとめて解決！\n\n\n16:25〜16:30\nQ&A\n\n\n\n※ 当日予告
 なく時間配分・内容が変更になる可能性がございます
 。こちらのサイトからもお申込みいただけます。\n参
 加対象\n\nSASEとは何かご興味のある方\nSASE関連製品の
 導入をご検討中でPoC利用にご関心のある方、\nゼロト
 ラスト環境の構築にご興味のある方\n\n参加費\n無料\n
 注意事項\n\nリクルーティング、勧誘など、採用目的で
 のイベント参加はお断りしております。\n欠席される
 場合は、お手数ですが速やかにキャンセル処理をお願
 い致します。\n無断キャンセルや欠席が続く場合、次
 回以降の参加をお断りさせていただく場合がございま
 す。\n予告なくセミナータイトル、プログラム内容が
 変更される場合がございます。あらかじめご了承くだ
 さい。\n記載されている製品/サービス名称、社名、ロ
 ゴマークなどは該当する各社の商標または登録商標で
 す。\n同業他社様からのお申込みはお断りさせていた
 だく場合がございます。あらかじめご了承ください。\
 n
LOCATION:
URL:https://techplay.jp/event/964620?utm_medium=referral&utm_source=ics&utm
 _campaign=ics
END:VEVENT
END:VCALENDAR
