BEGIN:VCALENDAR
VERSION:2.0
PRODID:-//https://techplay.jp//JP
CALSCALE:GREGORIAN
METHOD:PUBLISH
X-WR-CALDESC:業務に活用できる!生成AI“実践”セミナー@zoom
X-WR-CALNAME:業務に活用できる!生成AI“実践”セミナー@zoom
X-WR-TIMEZONE:Asia/Tokyo
BEGIN:VTIMEZONE
TZID:Asia/Tokyo
BEGIN:STANDARD
DTSTART:19700101T000000
TZOFFSETFROM:+0900
TZOFFSETTO:+0900
TZNAME:JST
END:STANDARD
END:VTIMEZONE
BEGIN:VEVENT
UID:964783@techplay.jp
SUMMARY:業務に活用できる!生成AI“実践”セミナー@zoom
DTSTART;TZID=Asia/Tokyo:20241218T103000
DTEND;TZID=Asia/Tokyo:20241218T120000
DTSTAMP:20260422T043020Z
CREATED:20241119T045515Z
DESCRIPTION:イベント詳細はこちら\nhttps://techplay.jp/event/96478
 3?utm_medium=referral&utm_source=ics&utm_campaign=ics\n\n業務に活用
 できる!生成AI“実践”セミナー@zoom\n概要\n業務に活用
 できる！生成AI“実践”セミナーを開催します業務に
 役立つ生成AIの活用方法と、ミニワークショップ形式
 で、みなさんにも実際に操作していただけるセミナー
 となります。ぜひご興味ある方はお気軽にご参加いた
 だけたらと思います。\n■セミナー内容１．業務に生
 かせる生成AI・マイGPTについて（活用方法・ミニワー
 クショップ）２．社内ナレッジ連動AIチャットボット
 のご紹介３．生成AI導入支援サービス「AIビジネスブー
 スター」のご紹介４．質疑応答■日時・12/18（水）10:30
 ～12:00　オンライン開催\n■場所・オンライン開催：TEC
 K PLAY のイベントを視聴するよりZoomへご参加ください
 。■用意するもの　①ご自身のパソコン　②ChatGPTのア
 カウント■参加費　無料\n参加費\n無料\n■これまでの
 セミナー参加者のご感想\n＜セミナーを受けて、どん
 なことに活用できそうと感じましたか？＞・会社案内
 の資料作成・就業規則や新入社員向け資料等・会議の
 議事録の作成・LINEでの顧客対応・チラシ作成など・ク
 リエイティブの作成とリサーチ業務・文書作成や引き
 継ぎ書など（作成に時間かかるものが時短できそうで
 とてもいいと思った）・画像からの文字おこし ＜総
 合的なご感想＞・分かりやすく、自社の業務に置き換
 えて想像もしやすかった。・AI自体よくわかっていな
 かったので、最初から説明いただき大変ありがたかっ
 た。・具体的な利用方法まで知れて勉強になった。・
 生成AIの基本的な知識が身につけられて満足した。・RA
 Gが実際に動いているところが見れてよかった（レスポ
 ンス速度等）。・素のChatGPTで適当に質問して、誤りが
 多く興味を失っていたが、精度を上げる方法やカスタ
 ムGPTが多数登録されていることがわかり、試したとこ
 ろ非常に良い結果を得られることがわかり、とても参
 考になった。
LOCATION:
URL:https://techplay.jp/event/964783?utm_medium=referral&utm_source=ics&utm
 _campaign=ics
END:VEVENT
END:VCALENDAR
