BEGIN:VCALENDAR
VERSION:2.0
PRODID:-//https://techplay.jp//JP
CALSCALE:GREGORIAN
METHOD:PUBLISH
X-WR-CALDESC:データ分析内製化に向けた人材育成サービス
 『SQL Everyone』のご紹介【SQL勉強会 #6】
X-WR-CALNAME:データ分析内製化に向けた人材育成サービス
 『SQL Everyone』のご紹介【SQL勉強会 #6】
X-WR-TIMEZONE:Asia/Tokyo
BEGIN:VTIMEZONE
TZID:Asia/Tokyo
BEGIN:STANDARD
DTSTART:19700101T000000
TZOFFSETFROM:+0900
TZOFFSETTO:+0900
TZNAME:JST
END:STANDARD
END:VTIMEZONE
BEGIN:VEVENT
UID:965101@techplay.jp
SUMMARY:データ分析内製化に向けた人材育成サービス『SQL 
 Everyone』のご紹介【SQL勉強会 #6】
DTSTART;TZID=Asia/Tokyo:20241218T190000
DTEND;TZID=Asia/Tokyo:20241218T200000
DTSTAMP:20260420T110717Z
CREATED:20241122T000721Z
DESCRIPTION:イベント詳細はこちら\nhttps://techplay.jp/event/96510
 1?utm_medium=referral&utm_source=ics&utm_campaign=ics\n\n概要\n【デ
 ータ分析内製化に向けた人材育成サービス『SQL Everyone
 』のご紹介】以前から始めていたSQL研修サービスの『S
 QL Everyone』をデータ分析内製化に向けた人材育成サー
 ビスとしてアップデートしました！https://sql-everyone.com/
 \n本セミナーでは、SQLを使ったデータ分析のデモも交
 えながらSQLがどんなものなのか基本的な内容から解説
 していきます。SQLを全く知らない方でも参加できる内
 容となっています。SQLの基礎から実例まで『データ分
 析力を高める ビジネスパーソンのためのSQL入門』の著
 書である高橋が詳しく説明します。\n質疑応答の時間
 もあるため、ぜひビジネスパーソンの皆様の抱える課
 題や疑問についても、ご質問いただけますと幸いです
 。\n【SQL Everyoneについて】企業のデータ活用が重要に
 なっている中で、データ分析の内製化を進めるための
 第一歩として『SQL』を学ぶことが最も効率が良いと考
 えています。\nそのために目的・レベルに合わせたSQL
 分析人材を育成することでデータ分析内製化を支援で
 きればと思っています。具体的には以下2つのサービス
 を提要しています。\n①最短2時間でSQLの基礎をハンズ
 オンで学ぶ『集合研修プラン』②3ヶ月でゼロから実務
 のデータ分析でSQLを使えるようにする『マンツーマン
 トレーニングプラン』\n特におすすめは『マンツーマ
 ントレーニングプラン』で、約3ヶ月間かけて毎週1on1
 を実施することで全くのゼロ知識の人でもSQLを使って
 社内のデータ分析ができるように伴走していきます。S
 QLの基礎的知識を教えるだけでなく、ハンズオンで実
 践を意識したトレーニングをするのと、ChatGPTなどをう
 まく活用して自走して学習・分析ができるようにサポ
 ートしていきます。\n本セミナーで話すこと\n\nビジネ
 スパーソンがSQLを学ぶべき理由\nデータ分析内製化に
 向けた人材育成サービス『SQL Everyone』の説明\nSQLを使
 ったデータ分析のデモ\n\nこんな方におすすめ\n\nビジ
 ネスパーソンの中でも現状データ分析に関わりがある
 方々\nビジネスパーソンとしてデータ分析に必要なSQL
 の知識を身につけたい方\nカンや経験だけではない根
 拠にもとづいた意思決定をしていきたい方\nSQLって聞
 いたことあるけどよくわからない方 / これからSQLを学
 びたい方\nデータ分析の内製化を目指す企業\nデータ分
 析人材を育成したい企業\nDXを推進する企業\n\n登壇者\n
 高橋 光著書：データ分析力を高める ビジネスパーソ
 ンのためのSQL入門\n\n2011年に新卒でヤフー株式会社に
 入社し、Webエンジニアとしてサービスの開発、運用、
 企画、提案、など幅広くサービスに貢献。またHadoopやT
 eradataを利用したデータ分析や Tableauを使った可視化な
 ど、データを活用してサービスを成長させる仕組みを
 導入するなどデータ分析に関わる業務も担当。\n2016年
 からは株式会社イーブックイニシアティブジャパンに
 出向し、社内でデータサイエンスグループを立ち上げ
 グループマネジャー(部長)として社内のデータ活用を
 促進。マーケティング施策の効果検証、事業分析、プ
 ロダクトのABテストなどデータを活用した意思決定に
 貢献。チームメンバーのSQLスキルアップや社内全体で
 のSQL勉強会などのデータ活用スキルアップ活動なども
 行い、組織全体をデータドリブンにする活動を実施。\
 n2021年から外資系コンサルティング企業に入社し、SQL
 を使ったデータ分析などデータを活用したマーケティ
 ング支援を実施。また複業としてプロバスケットボー
 ルリーグ(Bリーグ)のクラブチームで、マーケティング
 ストラテジストとしてデータ分析のサポートを行った
 り、その他複数社でSQLを活用したデータ分析のサポー
 ト経験あり。\nタイムスケジュール\n\n\n\n時間\n内容\n\n
 \n\n\n19:00 〜 19:05\n開始の挨拶\n\n\n19:05 〜 19:45\nビジネス
 パーソンがSQLを学ぶべき3つの理由とおすすめのSQL学習
 方法\n\n\n19:45 〜 19:55\n質疑応答\n\n\n19:55 〜 20:00\n締めの
 挨拶\n\n\n\n参加方法\n\n本セミナーはオンラインセミナ
 ーのため、Zoom（ https://zoom.us/jp-jp/meetings.html ）を利用
 します。\n開催前に申込者宛に視聴URLをお送りします
 ので、Zoomの事前インストールをお願いいたします。\n
 ビデオは映して頂いてもOKですし、映さなくてもOKです
 。\n参加時は「ミュート」にして頂くようお願いいた
 します。\n
LOCATION:
URL:https://techplay.jp/event/965101?utm_medium=referral&utm_source=ics&utm
 _campaign=ics
END:VEVENT
END:VCALENDAR
