BEGIN:VCALENDAR
VERSION:2.0
PRODID:-//https://techplay.jp//JP
CALSCALE:GREGORIAN
METHOD:PUBLISH
X-WR-CALDESC:【無料】生成AIは誰でも楽に使いこなせる！仕
 事活用講座　 ～ChatGPT・Gemini・Copilotで楽して教務効率
 化～
X-WR-CALNAME:【無料】生成AIは誰でも楽に使いこなせる！仕
 事活用講座　 ～ChatGPT・Gemini・Copilotで楽して教務効率
 化～
X-WR-TIMEZONE:Asia/Tokyo
BEGIN:VTIMEZONE
TZID:Asia/Tokyo
BEGIN:STANDARD
DTSTART:19700101T000000
TZOFFSETFROM:+0900
TZOFFSETTO:+0900
TZNAME:JST
END:STANDARD
END:VTIMEZONE
BEGIN:VEVENT
UID:965336@techplay.jp
SUMMARY:【無料】生成AIは誰でも楽に使いこなせる！仕事
 活用講座　 ～ChatGPT・Gemini・Copilotで楽して教務効率化
 ～
DTSTART;TZID=Asia/Tokyo:20241217T140000
DTEND;TZID=Asia/Tokyo:20241217T160000
DTSTAMP:20260425T105445Z
CREATED:20241125T022322Z
DESCRIPTION:イベント詳細はこちら\nhttps://techplay.jp/event/96533
 6?utm_medium=referral&utm_source=ics&utm_campaign=ics\n\n【初心者歓
 迎】生成AIビジネス活用講座\nビジネスに生成AIを活用
 し、驚くほどの効率化を実現\nChatGPTをはじめとする生
 成AIツールが話題になっていますが、「使ってみたが
 実際の業務には活かせていない」と感じている方も多
 いようです。こちらの講座では、ChatGPT、Google Gemini、Mi
 crosoft Copilotなど主要な生成AIツールの特徴と、実務に
 応じた最適な活用方法を、経験豊富な講師が受講の皆
 様へ伝授する全5回のオンライン講座です。今回第一回
 目は、ChatGPT、Google Gemini、Microsoft Copilotなどの主要な生
 成AIツールの特徴を比較し、実務での適切な活用方法
 を学びます。各ツールの強みや弱みを理解し、最適な
 ツール選択ができるようになります。\n【カリキュラ
 ム詳細】\n１．生成AIとは何か？\n生成AIは、人間が入
 力した情報や質問に対して、自然な言葉で答えたり、
 文章や画像などを生成する技術です。生成AIの基本概
 念をわかりやすく解説し、AIがどのように膨大なデー
 タを学習して生成物を作り出しているのか、その仕組
 みについても触れます。AIの基礎をしっかり学びまし
 ょう。\n２．主要な生成AIツールの特徴を比較\n現在の
 主要な生成AIツールであるChatGPT、Gemini、Copilotなどはそ
 れぞれ独自の強みや特徴を持っています。各ツールの
 特徴を具体的に比較し、それぞれの用途や適している
 場面についても詳しく説明します。どのツールがどの
 ような業務に適しているか理解できるよう、実例を交
 えて説明します。\n３．実務に応じたツールの使い分
 け\nビジネスの場面では、状況や目的に応じて適切な
 ツールを選び使い分けることが重要です。報告書作成
 やアイデア出しなど、具体的なシーンを取り上げそれ
 ぞれのシーンに最適なツールの活用法を解説します。
 自分の業務に合ったツール選びができるようになるこ
 とを目指します。\n４．ツール利用の注意点\n生成AIを
 使用する際には、倫理的な問題や著作権の遵守、また
 情報漏洩のリスクについても考慮が必要です。生成AI
 を安心・安全に利用するためのポイントを具体的に学
 びます。特にビジネス利用で重要な注意点を理解し、
 リスクを最小限に抑えながらAIを活用する方法を身に
 付けましょう。\n※日程が合わない方のためにオンデ
 マンド配信もございます。配信期間：2024/12/25（水）～
  2025/1/24（金）\nタイムスケジュール\nリアルタイム受
 講：2024/12/17（火）　14:00~16:00\n申込締切：2024/12/15（日
 ）23:59まで\n登壇者\n\n田村 憲孝​ 先生\n一般社団法人
 ウェブ解析士協会　SNSマネージャー養成講座創設者株
 式会社ウェブタイガー　代表取締役\n登壇者略歴\n2010
 年より企業や地方自治体のSNS運用サポート。全国各地
 でSNSの有効活用について講演・研修活動も行っている
 。\n2014年よりLinkedInラーニングでSNS・生成AI担当のトレ
 ーナーとして出演。各種生成AIを活用したSNS運用サポ
 ートを展開中。\n主な著書に『SNSの上手な運用ルール
 とクレーム対応』（同文舘出版）、『世界一わかりや
 すいChatGPTマスター養成講座』（つた書房）、\n『Faceboo
 k & Instagram & Twitter広告　成功のための実践テク』\n\n参
 加対象\n\nどなたでもご参加可能です\n\n参加費\n無料\n
 注意事項\n※プログラムは一部変更となる場合がござ
 います※リアルタイム受講はZoomを利用いたします
LOCATION:
URL:https://techplay.jp/event/965336?utm_medium=referral&utm_source=ics&utm
 _campaign=ics
END:VEVENT
END:VCALENDAR
