BEGIN:VCALENDAR
VERSION:2.0
PRODID:-//https://techplay.jp//JP
CALSCALE:GREGORIAN
METHOD:PUBLISH
X-WR-CALDESC:増加するサイバー攻撃からのWebアプリケーシ
 ョンを保護するための最適解！～AWS WAFの運用工数を削
 減しセキュリティ強化する方法～
X-WR-CALNAME:増加するサイバー攻撃からのWebアプリケーシ
 ョンを保護するための最適解！～AWS WAFの運用工数を削
 減しセキュリティ強化する方法～
X-WR-TIMEZONE:Asia/Tokyo
BEGIN:VTIMEZONE
TZID:Asia/Tokyo
BEGIN:STANDARD
DTSTART:19700101T000000
TZOFFSETFROM:+0900
TZOFFSETTO:+0900
TZNAME:JST
END:STANDARD
END:VTIMEZONE
BEGIN:VEVENT
UID:965540@techplay.jp
SUMMARY:増加するサイバー攻撃からのWebアプリケーション
 を保護するための最適解！～AWS WAFの運用工数を削減し
 セキュリティ強化する方法～
DTSTART;TZID=Asia/Tokyo:20241217T130000
DTEND;TZID=Asia/Tokyo:20241217T141500
DTSTAMP:20260423T194733Z
CREATED:20241126T064352Z
DESCRIPTION:イベント詳細はこちら\nhttps://techplay.jp/event/96554
 0?utm_medium=referral&utm_source=ics&utm_campaign=ics\n\n増加するサ
 イバー攻撃からのWebアプリケーションを保護するため
 の最適解！～AWS WAFの運用工数を削減しセキュリティ強
 化する方法～\n概要\n近年、AWSをはじめとするパブリッ
 ククラウドを利用する企業が増加しています。パブリ
 ッククラウドは従来のシステム環境と比べて、導入が
 容易でコストを抑えた運用が可能です。\nしかし、パ
 ブリッククラウドの利用にあたり、セキュリティ対策
 が課題となる企業も多いのではないでしょうか。\n特
 に、近年のサイバー攻撃の増加と巧妙化に伴い、Webア
 プリケーションのセキュリティ対策に課題を感じる声
 が多く聞かれます。\nそこで今回は、AWSのエッジサー
 ビスを活用したWebアプリケーションの保護を強化する
 方法をご紹介します。また、AWS WAFの自動運用サービス
 「WafCharm」を活用し、AWS WAFの運用工数を削減しながら
 セキュリティを強化する方法についても解説いたしま
 す。AWSをご利用中の方や、これからAWSへの移行を検討
 している方におすすめの無料セミナーですので、ぜひ
 ご参加ください！\n※本セミナーの定員は100名です。10
 0名を超えた場合は、申込を締め切りますので、予めご
 了承ください。\n---------------------------------------------主
 催：株式会社サイバーセキュリティクラウド日時：2024
 年12月17日（火）13:00～14:15場所：オンライン費用：無
 料セミナーへの申込、詳細：https://go.wafcharm.com/20241217/t
 echplay-------------------------------------------\nこんな方におす
 すめです！\n\nAWSのセキュリティサービスに関して知見
 を深めたい\nAWSのセキュリティを強化したい\nAWS WAFを
 利用しているが、十分に運用が出来ているか不安\nAWS W
 AF運用に工数がかかっている\n\n注意事項\n\nリクルーテ
 ィング、勧誘など、採用目的でのイベント参加はお断
 りしております。\nキャンセル待ち・補欠・落選の方
 はご参加いただくことが出来ませんのでご了承くださ
 い。\n欠席される場合は、お手数ですが速やかにキャ
 ンセル処理をお願い致します。\n無断キャンセルや欠
 席が続く場合、次回以降の参加をお断りさせていただ
 く場合がございます。\n
LOCATION:
URL:https://techplay.jp/event/965540?utm_medium=referral&utm_source=ics&utm
 _campaign=ics
END:VEVENT
END:VCALENDAR
