BEGIN:VCALENDAR
VERSION:2.0
PRODID:-//https://techplay.jp//JP
CALSCALE:GREGORIAN
METHOD:PUBLISH
X-WR-CALDESC:【産総研×大林組】『建築・住宅業界における
 デジタルツイン活用事例〜大阪万博の事例ほか〜』web
 セミナー
X-WR-CALNAME:【産総研×大林組】『建築・住宅業界における
 デジタルツイン活用事例〜大阪万博の事例ほか〜』web
 セミナー
X-WR-TIMEZONE:Asia/Tokyo
BEGIN:VTIMEZONE
TZID:Asia/Tokyo
BEGIN:STANDARD
DTSTART:19700101T000000
TZOFFSETFROM:+0900
TZOFFSETTO:+0900
TZNAME:JST
END:STANDARD
END:VTIMEZONE
BEGIN:VEVENT
UID:965547@techplay.jp
SUMMARY:【産総研×大林組】『建築・住宅業界におけるデ
 ジタルツイン活用事例〜大阪万博の事例ほか〜』webセ
 ミナー
DTSTART;TZID=Asia/Tokyo:20241223T183000
DTEND;TZID=Asia/Tokyo:20241223T200000
DTSTAMP:20260423T194520Z
CREATED:20241126T111618Z
DESCRIPTION:イベント詳細はこちら\nhttps://techplay.jp/event/96554
 7?utm_medium=referral&utm_source=ics&utm_campaign=ics\n\n本セミナー
 では、 近年注目されているデジタルツインについて、
 国立研究開発法人 産業技術総合研究所 ゼロエミッシ
 ョン国際共同研究センター 本田智則様、株式会社大林
 組 DX本部本部長室 堀内英行様をお呼びし、建築・住宅
 分野での先進的な活用事例からその本質や留意点を整
 理します。本田様からは、カーボンニュートラル社会
 の実現に向けた家庭部門でのエネルギー消費削減を目
 指した研究において、ディープデータとビッグデータ
 をつなぐデジタルツインの活用についてお話しいただ
 きます。堀内様からは、BIMをベースとしたデジタルツ
 インによる施工管理のユースケースやロボティクス分
 野への適用事例、大阪万博におけるデジタルツインの
 活用事例などをご紹介いただきます。最後に質疑応答
 のお時間も設けておりますので、ぜひご参加ください
 。※本セミナーはzoomウェビナーでの開催となります。
 \n概要\n講演１：「ディープデータとビッグデータを繋
 ぐデジタルツイン〜住宅のデジタルツイン化事例〜」
 講演者：国立研究開発法人 産業技術総合研究所　本田
  智則氏デジタルツインの概念が提唱されたのは今から
 20年以上も前となっており、さらに概念提唱以前から
 気象モデルをはじめとした社会で活躍してきた「デジ
 タルツイン」は多く存在していました。近年改めてデ
 ジタルツインが注目されるようになったきっかけはIoT
 センシング技術の発展とAIへの応用展開にデジタルツ
 インが必須になる分野が存在することによっています
 。今回、住宅デジタルツインを例として、ディープデ
 ータ、ビッグデータを繋ぐためのデジタルツイン技術
 について紹介をさせていただきます。\n講演２：「デ
 ジタルツインの活用事例とその可能性」講演者：株式
 会社大林組　堀内 英行氏建設業界ではBIM（Building Inform
 ation Modeling）による建物の立体モデルを作成し、建設
 プロセスにおける情報基盤として活用が進んでいます
 。今回はBIMをベースとしたデジタルツインによる施工
 管理のユースケースやロボティクス分野への適用事例
 などをご紹介します。\nタイムスケジュール\n\n\n\n時間
 \n内容\n\n\n\n\n18:30〜18:35\nデータサイエンティスト協会 
 挨拶\n\n\n18:35〜19:10\n講演１：「ディープデータとビッ
 グデータを繋ぐデジタルツイン〜住宅のデジタルツイ
 ン化事例〜」講演者：国立研究開発法人 産業技術総合
 研究所　本田 智則氏\n\n\n19:10〜19:45\n講演２：「デジタ
 ルツインの活用事例とその可能性」講演者：株式会社
 大林組　堀内 英行氏\n\n\n19:45〜20:00\n質疑応答\n\n\n\n※ 
 当日予告なく時間配分・内容が変更になる可能性がご
 ざいます。\n登壇者\n\n本田 智則 氏\n国立研究開発法人
  産業技術総合研究所ゼロエミッション国際共同研究セ
 ンター　主任研究員\n2005年3月、東京大学工学系研究科
 博士課程修了、博士(工学)。2005年4月、独立行政法人産
 業技術総合研究所入所。2020年4月より現職。家庭部門
 のエネルギー消費削減に向けた電力ビッグデータ解析
 に従事。\n\n\n\n堀内 英行 氏\n株式会社大林組DX本部本
 部長室　室長\n1992年、大林組入社。大阪本店建築現場
 を経て情報部門に配属。主に現場のICTを担当し、2012年
 に業界に先駆けてiPadを全社導入、検査システムGLYPHSHOT
 シリーズの開発やiOSアプリeYACHOをベンダーと共同開発
 。近年は建築現場におけるドローンの利活用を研究。2
 018年よりグローバルICT推進室部長、ＤＸ本部生産デジ
 タル部長を経て2024年4月よりＤＸ本部本部長室長（現
 職）。\n\n参加対象\n本セミナーに興味がある方どなた
 でもご参加いただけます\n参加費\n無料※ データサイ
 エンティスト協会の一般（個人）会員ではない方は、
 参加時に会員登録（無料）をお願いしております。\n
 注意事項\n\nキャンセル待ちの方はご参加いただくこと
 が出来ませんのでご了承ください。\n欠席される場合
 は、お手数ですが速やかにキャンセル処理をお願い致
 します。\n無断キャンセルや欠席が続く場合、次回以
 降の参加をお断りさせていただく場合がございます。\
 n通信等の不具合により、やむを得ず配信方法の変更や
 配信を中止する場合があります。\n配信途中で接続が
 切れた際は、techplayよりメールにてお知らせいたしま
 すのでご確認ください。\nアーカイブ・講演資料の公
 開予定はありません。\n
LOCATION:
URL:https://techplay.jp/event/965547?utm_medium=referral&utm_source=ics&utm
 _campaign=ics
END:VEVENT
END:VCALENDAR
