BEGIN:VCALENDAR
VERSION:2.0
PRODID:-//https://techplay.jp//JP
CALSCALE:GREGORIAN
METHOD:PUBLISH
X-WR-CALDESC:Microsoft 365セキュリティ入門・Defenderで実現す
 るゼロトラスト
X-WR-CALNAME:Microsoft 365セキュリティ入門・Defenderで実現す
 るゼロトラスト
X-WR-TIMEZONE:Asia/Tokyo
BEGIN:VTIMEZONE
TZID:Asia/Tokyo
BEGIN:STANDARD
DTSTART:19700101T000000
TZOFFSETFROM:+0900
TZOFFSETTO:+0900
TZNAME:JST
END:STANDARD
END:VTIMEZONE
BEGIN:VEVENT
UID:965662@techplay.jp
SUMMARY:Microsoft 365セキュリティ入門・Defenderで実現するゼ
 ロトラスト
DTSTART;TZID=Asia/Tokyo:20250221T150000
DTEND;TZID=Asia/Tokyo:20250221T154500
DTSTAMP:20260420T063136Z
CREATED:20241127T065531Z
DESCRIPTION:イベント詳細はこちら\nhttps://techplay.jp/event/96566
 2?utm_medium=referral&utm_source=ics&utm_campaign=ics\n\nMicrosoft 365セ
 キュリティ入門・Defenderで実現するゼロトラスト\n✅イ
 ベント概要\nサイバー攻撃の現状や、なぜ今ゼロトラ
 ストセキュリティが必要なのか？について分かりやす
 く解説します。また、Microsoft 365のセキュリティ機能で
 ある、Microsoft Defenderを中心に、ライセンス（E3/E5/Busines
 sなど）毎のセキュリティ対策をゼロトラストの観点か
 らご紹介します。\n✅おすすめポイント\n・Microsoft 365
 のライセンス（E3/E5/Businessなど）毎のセキュリティ機
 能を解説。・Microsoft Defenderシリーズの各機能について
 、分かりやすく解説。・ゼロトラストセキュリティに
 ついて分かりやすく解説。・Microsoft Defenderでどのよう
 なゼロトラストセキュリティ対策が実現できるのかを
 解説。\n✅こんな人におすすめ\n・Microsoft 365のセキュ
 リティ対策でお悩みの方。・Microsoft 365や、Microsoft Defen
 derシリーズを導入している（または導入を検討してい
 る）情報システム部門の方。・Microsoft 365や、Microsoft De
 fenderシリーズのアラートをどう処理すればよいかお悩
 みの方。\n✅タイムスケジュール\n\n\n\n時間\n内容\n\n\n\
 n\n14:50〜15:05\n受付\n\n\n15:05〜15:10\n主催者と登壇者のご
 紹介\n\n\n15:10〜15:35\nセッション\n\n\n15:35〜15:40\n質疑応
 答\n\n\n15:40〜15:45\nアンケート\n\n\n\n※ 当日予告なく時
 間配分・内容が変更になる可能性がございます。\n✅
 主催者（共同開催）\n株式会社ウィットワン\n私たちウ
 ィットワンは、ゲーム開発・運営に関わる様々な業務
 を展開しており、オンラインゲームの黎明期よりパブ
 リッシャーやデベロッパーなど、クライアント様の縁
 の下の力持ちとして業界とともに成長してまいりまし
 た。長年の経験を活かしながらも、トレンドの変化に
 対応し高品質・高スピードで様々なサービスを提供い
 たします。\n株式会社セキュアエモーション\n私たちセ
 キュアエモーションは、サービスの基本は、安心・安
 全と考えています。安心してサービスを利用できるか
 らこそ、利用者はそのサービスから感動を得ることが
 できます。「安全は感動を支える。」それがセキュア
 エモーションの企業理念です。\nこの度、株式会社ウ
 ィットワンと株式会社セキュアエモーションの２社で
 セキュリティソリューションを提供することとなり、
 イベントを企画させていただきました。\n🌐ホームペ
 ージ\n\n株式会社ウィットワン：https://wit-one.co.jp/\n株式
 会社セキュアエモーション：https://www.secureemotion.com/\n\n
 ✅登壇者\n岩切 秀樹\n株式会社セキュアエモーション 
 代表取締役\n【登壇者略歴】\n・セキュリティ対策支援
 実績50社以上。\n・セミナー登壇の経験多数（日本マイ
 クロソフト、F5 ネットワークス、トレンドマイクロな
 ど）。\n・前職でSOC事業を立ち上げ、1年半で黒字化。3
 年で主力事業にまで成長。\n・2022年2月に株式会社セキ
 ュアエモーション設立。同年3月より活動開始。\n\n\n✅
 参加費\n無料（事前申込制）\n✅ウェビナーツール\nMicr
 osoft Teams\n✅注意事項\n\n同業他社の方、個人の方のご
 参加はご遠慮いただいております。\nリクルーティン
 グ、勧誘など、採用目的でのイベント参加はお断りし
 ております。\nキャンセル待ち・補欠・落選の方はご
 参加いただくことが出来ませんのでご了承ください。\
 n欠席される場合は、お手数ですが速やかにキャンセル
 処理をお願い致します。\n無断キャンセルや欠席が続
 く場合、次回以降の参加をお断りさせていただく場合
 がございます。\n
LOCATION:
URL:https://techplay.jp/event/965662?utm_medium=referral&utm_source=ics&utm
 _campaign=ics
END:VEVENT
END:VCALENDAR
