BEGIN:VCALENDAR
VERSION:2.0
PRODID:-//https://techplay.jp//JP
CALSCALE:GREGORIAN
METHOD:PUBLISH
X-WR-CALDESC:生成AI駆動開発で高速なリリースサイクルを実
 現
X-WR-CALNAME:生成AI駆動開発で高速なリリースサイクルを実
 現
X-WR-TIMEZONE:Asia/Tokyo
BEGIN:VTIMEZONE
TZID:Asia/Tokyo
BEGIN:STANDARD
DTSTART:19700101T000000
TZOFFSETFROM:+0900
TZOFFSETTO:+0900
TZNAME:JST
END:STANDARD
END:VTIMEZONE
BEGIN:VEVENT
UID:965664@techplay.jp
SUMMARY:生成AI駆動開発で高速なリリースサイクルを実現
DTSTART;TZID=Asia/Tokyo:20250220T150000
DTEND;TZID=Asia/Tokyo:20250220T160000
DTSTAMP:20260422T152420Z
CREATED:20241127T075427Z
DESCRIPTION:イベント詳細はこちら\nhttps://techplay.jp/event/96566
 4?utm_medium=referral&utm_source=ics&utm_campaign=ics\n\n生成AI駆動
 開発で高速なリリースサイクルを実現\n概要\nこのウェ
 ビナーでは、生成AIをプロセスの中心においたプロダ
 クト開発について解説いたします。\n対象者\nデータ・
 AIに関するプロダクト開発を考えられている経営者・
 技術責任者・プロダクトマネージャー/事業開発担当者
 など\nこんな方におすすめ\n\n生成AIを活用したプロダ
 クト開発手法に興味がある方\n生成AIを部分的には開発
 で利用しているが、より発展的に利用したい方\nCTO/プ
 ロダクトマネージャー/プロジェクトマネージャー/開
 発マネージャーの方\n\nウェビナー内容\n\nプロダクト
 開発手法のこれまでとこれから\n生成AI時代だから実現
 できるプロダクト開発手法\n\n要件定義、設計、実装/
 検証/評価、リリースの生産性を100倍に\n\n\n生成AI駆動
 開発で高速なリリースサイクルを実現した事例\n\n登壇
 者\n\n齋藤 和正\n株式会社山田 代表取締役\n登壇者略歴
 \n大阪大学基礎工学部・同大学院情報科学研究科卒業
 。\n株式会社ABEJAにて小売業界向け分析SaaSのプロダク
 トオーナーを務め、データサイエンティストとして様
 々なお客様のデータ分析やモデル開発に従事。\n2021年
 、「データでプロダクトを価値あるものに」をミッシ
 ョンに掲げ、株式会社Hakkyを設立。\n機械学習プロダク
 トの開発支援やデータ分析基盤の構築支援を行う。\n\n
 参加費\n無料\n注意事項\n参加資格について\n本ウェビ
 ナーは、特定の業界や分野に従事している企業関係者
 を対象としております。個人の方や同業他社様からの
 参加申し込みは原則お断りをしております。申し込み
 があった場合でも、視聴用のリンクは送付をしており
 ませんのでご理解のほど宜しくお願いいたします。\n
 事前登録に関して\nウェビナーへの参加を希望される
 方は、必ず事前にオンラインで登録を完了してくださ
 い。登録なしでの参加は受け付けておりませんので、
 ご注意ください。\nプログラム内容について\n予告なく
 セッション内容やスピーカーが変更される可能性があ
 ります。最新の情報は公式ウェブサイトで随時更新さ
 れますので、ご確認をお願いいたします。\n録画・録
 音について\nウェビナーの内容の録画、録音、または
 その他の形式での記録は固く禁じられています。知的
 財産権の保護と、講師および参加者のプライバシーを
 尊重するため、ご協力をお願いいたします。※これは
 アーカイブ配信が事前に告知されている場合にも適用
 されます\n質問とフィードバック\nセッション中の質問
 は歓迎いたしますが、予め事前に質問フォームを通じ
 て提出していただくことを推奨します。また、ウェビ
 ナー終了後にフィードバックをお寄せいただけると幸
 いです。\n\n\n\n\n個人情報の取り扱いについて\n\n\n\n\n
 申し込み時にご提供いただいた情報は、イベント受付
 管理や各種ご案内（サービス・イベント等）に利用さ
 せていただきます。\n\n\n
LOCATION:
URL:https://techplay.jp/event/965664?utm_medium=referral&utm_source=ics&utm
 _campaign=ics
END:VEVENT
END:VCALENDAR
