BEGIN:VCALENDAR
VERSION:2.0
PRODID:-//https://techplay.jp//JP
CALSCALE:GREGORIAN
METHOD:PUBLISH
X-WR-CALDESC:〜生成AI時代を生き抜くキャリア戦略と成功ス
 テップ解説セミナー -2025年会社に依存しない働き方を
 実現するには？
X-WR-CALNAME:〜生成AI時代を生き抜くキャリア戦略と成功ス
 テップ解説セミナー -2025年会社に依存しない働き方を
 実現するには？
X-WR-TIMEZONE:Asia/Tokyo
BEGIN:VTIMEZONE
TZID:Asia/Tokyo
BEGIN:STANDARD
DTSTART:19700101T000000
TZOFFSETFROM:+0900
TZOFFSETTO:+0900
TZNAME:JST
END:STANDARD
END:VTIMEZONE
BEGIN:VEVENT
UID:965827@techplay.jp
SUMMARY:〜生成AI時代を生き抜くキャリア戦略と成功ステ
 ップ解説セミナー -2025年会社に依存しない働き方を実
 現するには？
DTSTART;TZID=Asia/Tokyo:20241221T130000
DTEND;TZID=Asia/Tokyo:20241221T150000
DTSTAMP:20260423T233451Z
CREATED:20241129T035113Z
DESCRIPTION:イベント詳細はこちら\nhttps://techplay.jp/event/96582
 7?utm_medium=referral&utm_source=ics&utm_campaign=ics\n\n概要\n「2025
 年、会社に依存しない働き方を実現するには？」\n皆
 さんは現在のキャリアに満足していますか？\n「今の
 仕事に将来性を感じない…」「このままで本当にいい
 のだろうか…」「エンジニアにキャリアチェンジして
 みたいけど、何から始めればいいのか分からない」\n
 もし、これらのどれか1つでも当てはまったとしたら、
 この勉強会・セミナーは、あなたにとっての大きなチ
 ャンスです！\nIT業界は今、急速な変化の時代に突入し
 ています。日本政府のデータによれば、現在約17万人
 のIT人材が不足しており、2030年にはその数が79万人に
 まで拡大すると予測されています。\nさらに、『ChatGPT
 』をはじめとするLLM（大規模言語モデル）が登場し、
 第4次生成AI時代が到来しようとしている今、会社に依
 存しない働き方を実現するためには、生成AIを活用し
 たスキルが必須となっています。\n今回の勉強会・セ
 ミナーでは、生成AIを活用して開発を効率化できるWeb
 エンジニアを目指すためのキャリア戦略や、これから
 の生成AI時代の成功ステップについて詳しくお話しし
 ます。\nこのイベントでは、\n\n\n2025年 生成AI時代のキ
 ャリア戦略\n\n\nキャリアチェンジに向けて最初に何を
 学ぶべきか、明確な方向性\n\n\nWebエンジニアとしての
 具体的な役割や仕事内容の理解\n\n\nについて理解を深
 めることができます。\nまた、最後に私たちが運営す
 る「生成AIに精通したWebエンジニア育成プログラム」
 についてもご紹介します。\nこの勉強会を通じて、生
 成AIを使いこなすエンジニアとして、自立したキャリ
 アを築くための新たな一歩を一緒に踏み出しましょう
 。\n\nタイムスケジュール\n\n\n\n時間\n内容\n\n\n\n\n13:00~\
 n受付開始\n\n\n13:10~13:20\n会社新設における代表挨拶Value
 UP株式会社代表より、新設会社の目的やビジョン、今
 後の方向性をご説明します。\n\n\n13:20~13:40\nAIプロダク
 トバンク お披露目プレゼンテーション 自社サービス**
 「AIプロダクトバンク」**の詳細を発表いたします。 - 
 サービス概要 - 提供するAIプロダクトの事例 - どのよ
 うな企業が利用できるのか - 利用のメリットや実際の
 導入例を紹介\n\n\n13:40~13:50\n休憩\n\n\n13:50~14:20\n「AI開発
 エンジニアを目指すためには？」AI開発エンジニアと
 して成功するためのスキルセットや実践的な学習方法
 を解説します。\n\n\n14:20~14:50\nパネルディスカッション
  テーマ：AIプロダクト開発を通じた未来の協業の可能
 性【登壇者】・プロンプトアーティスト　林 駿甫（X
 フォロワー3.4万人https://x.com/AI_Shunsuke__）・ValueUP株式会
 社　代表取締役 金田 隼人・ValueUP株式会社　取締役　
 平本 健祐\n\n\n14:50~14:55\n締めのご挨拶・ご案内\n\n\n14:55
 ~15:00\nアンケート回答\n\n\n~15:00\n終了\n\n\n\n※ 当日予告
 なく時間配分・内容が変更になる可能性がございます
 。\n登壇者\n\n金田　隼人\nValueUp株式会社 代表取締役株
 式会社ネームレス 代表取締役\n【略歴】1990年埼玉県深
 谷市生まれ。大学在学中に新卒採用コンサルティング
 やイベント企画運営を経験し、世界一周大学巡りプロ
 ジェクトを通じて23カ国50大学を訪問。2013年、株式会
 社営業課取締役副社長に就任し、「営業学」をテーマ
 とした教育プログラムを展開。2016年に株式会社ネーム
 レスを創業し、新規事業や大手企業への参画を推進。
 同郷の渋沢栄一氏の思想に影響を受け、事業構想や投
 資、経営支援を本格化。2023年には深谷市渋沢栄一政策
 アドバイザーに就任し、50社の設立に関与するなど、
 幅広い事業活動を展開している。\n\n\n平本 健祐\n株式
 会社コルモアナ 代表取締役 CEOValueUp株式会社 取締役\n
 【略歴】早稲田大学卒業。 大手金融機関へ総合職入社
 。中堅・中小企業様への法人営業に従事。その後、大
 手メガベンチャーへ未経験からエンジニアとして転職
 。金融機関向け通帳・家計簿アプリ開発に携わる。そ
 の後人材系ベンチャー企業を経て、株式会社コルモア
 ナを創業。現在は企業研修、システム開発事業など様
 々な事業を展開している。\n\n\n林 駿甫\nプロンプトア
 ーティスト\n【略歴】AIと共生する未来を目指すプロン
 プトアーティスト。共著『基礎から学ぶノーコード開
 発』(C&R研究所)。noteやTwitterなどで、人間らしさを最大
 限に引き出すChatGPTの使い方を発信している。\n参加対
 象\n\nIT業界未経験でキャリアチェンジを考えている方\
 n新しいキャリアを築きたい第二新卒の方\n生成AIに興
 味がある学生や社会人\n\n参加費\n無料\n参加特典\n\nエ
 ンジニア未経験から転職を成功させるまでの完全解説
 ロードマップ（アンケート回答者全員対象）\n林さん
 への直接質問権利\n無料キャリア相談参加権利（希望
 者のみ）\n\n注意事項\n\nリクルーティング、勧誘など
 、採用目的でのイベント参加はお断りしております。\
 n欠席される場合は、お手数ですが速やかにキャンセル
 処理をお願い致します。\n無断キャンセルや欠席が続
 く場合、次回以降の参加をお断りさせていただく場合
 がございます。\n
LOCATION:京橋エドグラン 〒104-0031 東京都中央区京橋2-2-1 
 京橋エドグラン29F 会議室 (artience株式会社 インキュベ
 ーションセンター)
URL:https://techplay.jp/event/965827?utm_medium=referral&utm_source=ics&utm
 _campaign=ics
END:VEVENT
END:VCALENDAR
